Workbook

Sheet SOC Format
A20: Equipment | B20: Booking | C20: Actloc | D20: Gate in Date (YYMMDD) | E20: Gate in Time (HHMM) | F20: Carrier | G20: VGM (Weight in KGs) | H20: Cargo Weight LBs | I20: Weight Type | J20: EqpSize (20/40/45) | K20: EqpType | L20: EqpHeight (86/96) | M20: Tare Weight | N20: CSC | O20: InDate (YYMMDD) | P20: NextDate (YYMMDD) | Q20: IMO1 | R20: UNNO1 | S20: IMO2 | T20: UNNO2 | U20: IMO3 | V20: UNNO3 | W20: IMO4 | X20: UNNO4 | Y20: Manuf | Z20: Model | AA20: Volt | AB20: RedelLoc | AC20: Temp | AD20: Temp Unit (C/F) | AE20: MLSeal | AF20: SHSeal | AG20: CUSeal | AH20: LOCAL 1 | AI20: LOCAL 2
A21: MSKU1234567 | B21: MCB123456 | C21: PHMNLTM | D21: =TEXT(TODAY(),"YYMMDD") -> 231129 | E21: =TEXT(NOW(),"HHMM") -> 0954 | F21: 688888 | G21: 12000 | I21: E | J21: 20 | K21: DRY | L21: 86 | M21: 2900 | N21: ACEP | O21: =D21 -> 231129 | P21: =TEXT(DATE(CONCATENATE(20,LEFT(O21,2)),MID(O21,3,2),RIGHT(O21,2))+60,"YYMMDD") -> 240128 | AI21: CMA
D22: =TEXT(TODAY(),"YYMMDD") -> 231129 | E22: =TEXT(NOW(),"HHMM") -> 0954 | F22: =VLOOKUP('SOC Format'!C22,'Carrier Code'!A:B,2,FALSE) -> #N/A | O22: =D22 -> 231129 | P22: =TEXT(DATE(CONCATENATE(20,LEFT(O22,2)),MID(O22,3,2),RIGHT(O22,2))+60,"YYMMDD") -> 240128
D23: =TEXT(TODAY(),"YYMMDD") -> 231129 | E23: =TEXT(NOW(),"HHMM") -> 0954 | F23: =VLOOKUP('SOC Format'!C23,'Carrier Code'!A:B,2,FALSE) -> #N/A | O23: =D23 -> 231129 | P23: =TEXT(DATE(CONCATENATE(20,LEFT(O23,2)),MID(O23,3,2),RIGHT(O23,2))+60,"YYMMDD") -> 240128
D24: =TEXT(TODAY(),"YYMMDD") -> 231129 | E24: =TEXT(NOW(),"HHMM") -> 0954 | F24: =VLOOKUP('SOC Format'!C24,'Carrier Code'!A:B,2,FALSE) -> #N/A | O24: =D24 -> 231129 | P24: =TEXT(DATE(CONCATENATE(20,LEFT(O24,2)),MID(O24,3,2),RIGHT(O24,2))+60,"YYMMDD") -> 240128
D25: =TEXT(TODAY(),"YYMMDD") -> 231129 | E25: =TEXT(NOW(),"HHMM") -> 0954 | F25: =VLOOKUP('SOC Format'!C25,'Carrier Code'!A:B,2,FALSE) -> #N/A | O25: =D25 -> 231129 | P25: =TEXT(DATE(CONCATENATE(20,LEFT(O25,2)),MID(O25,3,2),RIGHT(O25,2))+60,"YYMMDD") -> 240128
D26: =TEXT(TODAY(),"YYMMDD") -> 231129 | E26: =TEXT(NOW(),"HHMM") -> 0954 | F26: =VLOOKUP('SOC Format'!C26,'Carrier Code'!A:B,2,FALSE) -> #N/A | O26: =D26 -> 231129 | P26: =TEXT(DATE(CONCATENATE(20,LEFT(O26,2)),MID(O26,3,2),RIGHT(O26,2))+60,"YYMMDD") -> 240128
D27: =TEXT(TODAY(),"YYMMDD") -> 231129 | E27: =TEXT(NOW(),"HHMM") -> 0954 | F27: =VLOOKUP('SOC Format'!C27,'Carrier Code'!A:B,2,FALSE) -> #N/A | O27: =D27 -> 231129 | P27: =TEXT(DATE(CONCATENATE(20,LEFT(O27,2)),MID(O27,3,2),RIGHT(O27,2))+60,"YYMMDD") -> 240128
D28: =TEXT(TODAY(),"YYMMDD") -> 231129 | E28: =TEXT(NOW(),"HHMM") -> 0954 | F28: =VLOOKUP('SOC Format'!C28,'Carrier Code'!A:B,2,FALSE) -> #N/A | O28: =D28 -> 231129 | P28: =TEXT(DATE(CONCATENATE(20,LEFT(O28,2)),MID(O28,3,2),RIGHT(O28,2))+60,"YYMMDD") -> 240128
D29: =TEXT(TODAY(),"YYMMDD") -> 231129 | E29: =TEXT(NOW(),"HHMM") -> 0954 | F29: =VLOOKUP('SOC Format'!C29,'Carrier Code'!A:B,2,FALSE) -> #N/A | O29: =D29 -> 231129 | P29: =TEXT(DATE(CONCATENATE(20,LEFT(O29,2)),MID(O29,3,2),RIGHT(O29,2))+60,"YYMMDD") -> 240128
D30: =TEXT(TODAY(),"YYMMDD") -> 231129 | E30: =TEXT(NOW(),"HHMM") -> 0954 | F30: =VLOOKUP('SOC Format'!C30,'Carrier Code'!A:B,2,FALSE) -> #N/A | O30: =D30 -> 231129 | P30: =TEXT(DATE(CONCATENATE(20,LEFT(O30,2)),MID(O30,3,2),RIGHT(O30,2))+60,"YYMMDD") -> 240128
D31: =TEXT(TODAY(),"YYMMDD") -> 231129 | E31: =TEXT(NOW(),"HHMM") -> 0954 | F31: =VLOOKUP('SOC Format'!C31,'Carrier Code'!A:B,2,FALSE) -> #N/A | O31: =D31 -> 231129 | P31: =TEXT(DATE(CONCATENATE(20,LEFT(O31,2)),MID(O31,3,2),RIGHT(O31,2))+60,"YYMMDD") -> 240128
D32: =TEXT(TODAY(),"YYMMDD") -> 231129 | E32: =TEXT(NOW(),"HHMM") -> 0954 | F32: =VLOOKUP('SOC Format'!C32,'Carrier Code'!A:B,2,FALSE) -> #N/A | O32: =D32 -> 231129 | P32: =TEXT(DATE(CONCATENATE(20,LEFT(O32,2)),MID(O32,3,2),RIGHT(O32,2))+60,"YYMMDD") -> 240128
D33: =TEXT(TODAY(),"YYMMDD") -> 231129 | E33: =TEXT(NOW(),"HHMM") -> 0954 | F33: =VLOOKUP('SOC Format'!C33,'Carrier Code'!A:B,2,FALSE) -> #N/A | O33: =D33 -> 231129 | P33: =TEXT(DATE(CONCATENATE(20,LEFT(O33,2)),MID(O33,3,2),RIGHT(O33,2))+60,"YYMMDD") -> 240128
... D112: =TEXT(TODAY(),"YYMMDD") -> 231129 | E112: =TEXT(NOW(),"HHMM") -> 0954 | F112: =VLOOKUP('SOC Format'!C112,'Carrier Code'!A:B,2,FALSE) -> #N/A | O112: =D112 -> 231129 | P112: =TEXT(DATE(CONCATENATE(20,LEFT(O112,2)),MID(O112,3,2),RIGHT(O112,2))+60,"YYMMDD") -> 240128

Sheet Carrier Code
A1: RKEM Location Name | B1: Carrier Code
A2: CNXIMSY | B2: CNXIM
A3: CNXIMHX | B3: CNXIM
A4: CNXIM05 | B4: CNXIM
A5: CNXIMTM | B5: CNXIM
A6: CNXIMHR | B6: CNXIM
A7: CNXIMPG | B7: CNXIM
A8: CNXIMFF | B8: CNXIM
A9: CNXIMBL | B9: CNXIM
A10: CNXIMSG | B10: CNXIM
A11: CNXIMYH | B11: CNXIM
A12: CNXIMHT | B12: CNXIM
... A85: CNCGZTM | B85: CNNNT
A86: THLZPTR | B86: 700001
A87: THLZPKSS | B87: 700001
A88: THLZPSC | B88: 700001
A89: THLZPB1 | B89: 700001
A90: THLZPKR | B90: 700016
A91: THLZPKR2 | B91: 700016
A92: THLZPWI | B92: 700012
A93: THBKKWI | B93: 700001
A94: THBKKLK | B94: 700001
A95: THSONTM | B95: 700001
A96: THGA6SC | B96: 700001
A97: THLZPWND | B97: 700001
... A151: MYKCHCC | B151: 700000
A152: VNDANTM | B152: DANTRK
A153: VNHPHVI | B153: HPHTRK
A154: VNDANVC | B154: DANTRK
A155: VNHPHHE | B155: HPHTRK
A156: VNHANGL | B156: HPHTRK
A157: VNHPHTC | B157: HPHTRK
A158: VNHPHTM | B158: HPHTRK
A159: VNHPHTS | B159: HPHTRK
A160: VNHPHVC | B160: HPHTRK
A161: VNNHATM | B161: HPHTRK
A162: VNQNNTM | B162: QNNTRK
A163: VNSGNPH | B163: SGNTRK
... A275: PFPPTTM | B275: NZ1000
A276: FJMQ201 | B276: 500000
...

Sheet MLO LOC2 RKEM
A1: BOOKING PROCESS
A2: MLO SOC
A3: MCC TRANSPORT SINGAPORE
A5: GENERAL INFO : | B5: Our current MLO SOC customers are
A7: HANJINSHIPPING | B7: TSLINES
A8: UASC | B8: ZIMLINES
A9: CMA-CGM | B9: HEUNGA
A10: MISC | B10: WANHAILINES
A11: OOCL | B11: SINOKOR
A12: HAPAGLLOYD | B12: KLINE
A13: NYKLINES | B13: PIL
A14: MOLSINGAPORE | B14: HMM
A15: EMC | B15: EMIRATES
A18: The following step should be followed by Customer Service, as follow :
A20: 1. Sales Channel :
B21: ALL MLO SOC customers place bookings via sales channels: Telephone
B22: This steps is required due to MLO do not need booking confirmation.
A24: 2. Customer Commodity :
B25: Dry Laden = Updated as “ General Cargo “
B26: Reefer | C26: = Updated as “ Actual Commodity “
B27: DG Cargo = Updated as “ Actual Commodity “
A29: 3. Service Mode : Updated as “ CY – CY “
A31: 4. HS Code :
B32: 001801 - SOC LADEN LOCAL
B33: 002306 - SOC EMPTY LOCAL / TRANSSHIPMENT
B34: 002503 - SOC LADEN / TRANSSHIPMENT
B35: (Above HS codes applicable for DRY, OOG & Dangerous cargo. Reefer SOC cargo use actual commodity reefer cargo means above HS code will not applicable )
A37: 5. Shippers Own : Updated as “ Y “
B38: Y = for SOC
B39: N = for COC
A41: 6. All rates are filed in MARS under SOC customers negotiated rates.
A43: 7. Parties :
B44: Booked by Party, Shipper, Invoice Party, Tp Doc Receiver, Consignee and Notify Party should be updated during the booking stage.
A46: 8. Price Shipment :
B47: Collect / Prepaid should be updated during the booking stage
A49: 9. Booking Confirmation sent to phone to close tasks, however sometimes if the customer request for booking confirmation then we could send it to their mail.
A53: List of MLOs (Loading with MCC Transport)
A55: NO | B55: ACCOUNT NAME | C55: MARS Contract No. | D55: SCV CODE | E55: LOCAL2 CODE | F55: IAS Regional Office
A56: 01 | B56: APL CO PTE LTD | C56: 309554 | D56: 43209836SIN | E56: APL | F56: Singapore
A57: 02 | B57: ASIAN EXPRESS LINE | C57: 629175 | D57: 40900328066 | E57: AEL | F57: Hongkong
...
