Workbook

Sheet SOC Format
A20: Equipment | B20: Booking | C20: Actloc | D20: Gate in Date (YYMMDD) | E20: Gate in Time (HHMM) | F20: Carrier | G20: VGM (Weight in KGs) | H20: Cargo Weight LBs | I20: Weight Type | J20: EqpSize (20/40/45) | K20: EqpType | L20: EqpHeight (86/96) | M20: Tare Weight | N20: CSC | O20: InDate (YYMMDD) | P20: NextDate (YYMMDD) | Q20: IMO1 | R20: UNNO1 | S20: IMO2 | T20: UNNO2 | U20: IMO3 | V20: UNNO3 | W20: IMO4 | X20: UNNO4 | Y20: Manuf | Z20: Model | AA20: Volt | AB20: RedelLoc | AC20: Temp | AD20: Temp Unit (C/F) | AE20: MLSeal | AF20: SHSeal | AG20: CUSeal | AH20: LOCAL 1 | AI20: LOCAL 2
A21: MSKU1234567 | B21: MCB123456 | C21: PHMNLTM | D21: =TEXT(TODAY(),"YYMMDD") -> 231129 | E21: =TEXT(NOW(),"HHMM") -> 0954 | F21: 688888 | G21: 12000 | I21: E | J21: 20 | K21: DRY | L21: 86 | M21: 2900 | N21: ACEP | O21: =D21 -> 231129 | P21: =TEXT(DATE(CONCATENATE(20,LEFT(O21,2)),MID(O21,3,2),RIGHT(O21,2))+60,"YYMMDD") -> 240128 | AI21: CMA
D22: =TEXT(TODAY(),"YYMMDD") -> 231129 | E22: =TEXT(NOW(),"HHMM") -> 0954 | F22: =VLOOKUP('SOC Format'!C22,'Carrier Code'!A:B,2,FALSE) -> #N/A | O22: =D22 -> 231129 | P22: =TEXT(DATE(CONCATENATE(20,LEFT(O22,2)),MID(O22,3,2),RIGHT(O22,2))+60,"YYMMDD") -> 240128
D23: =TEXT(TODAY(),"YYMMDD") -> 231129 | E23: =TEXT(NOW(),"HHMM") -> 0954 | F23: =VLOOKUP('SOC Format'!C23,'Carrier Code'!A:B,2,FALSE) -> #N/A | O23: =D23 -> 231129 | P23: =TEXT(DATE(CONCATENATE(20,LEFT(O23,2)),MID(O23,3,2),RIGHT(O23,2))+60,"YYMMDD") -> 240128
D24: =TEXT(TODAY(),"YYMMDD") -> 231129 | E24: =TEXT(NOW(),"HHMM") -> 0954 | F24: =VLOOKUP('SOC Format'!C24,'Carrier Code'!A:B,2,FALSE) -> #N/A | O24: =D24 -> 231129 | P24: =TEXT(DATE(CONCATENATE(20,LEFT(O24,2)),MID(O24,3,2),RIGHT(O24,2))+60,"YYMMDD") -> 240128
D25: =TEXT(TODAY(),"YYMMDD") -> 231129 | E25: =TEXT(NOW(),"HHMM") -> 0954 | F25: =VLOOKUP('SOC Format'!C25,'Carrier Code'!A:B,2,FALSE) -> #N/A | O25: =D25 -> 231129 | P25: =TEXT(DATE(CONCATENATE(20,LEFT(O25,2)),MID(O25,3,2),RIGHT(O25,2))+60,"YYMMDD") -> 240128
D26: =TEXT(TODAY(),"YYMMDD") -> 231129 | E26: =TEXT(NOW(),"HHMM") -> 0954 | F26: =VLOOKUP('SOC Format'!C26,'Carrier Code'!A:B,2,FALSE) -> #N/A | O26: =D26 -> 231129 | P26: =TEXT(DATE(CONCATENATE(20,LEFT(O26,2)),MID(O26,3,2),RIGHT(O26,2))+60,"YYMMDD") -> 240128
D27: =TEXT(TODAY(),"YYMMDD") -> 231129 | E27: =TEXT(NOW(),"HHMM") -> 0954 | F27: =VLOOKUP('SOC Format'!C27,'Carrier Code'!A:B,2,FALSE) -> #N/A | O27: =D27 -> 231129 | P27: =TEXT(DATE(CONCATENATE(20,LEFT(O27,2)),MID(O27,3,2),RIGHT(O27,2))+60,"YYMMDD") -> 240128
D28: =TEXT(TODAY(),"YYMMDD") -> 231129 | E28: =TEXT(NOW(),"HHMM") -> 0954 | F28: =VLOOKUP('SOC Format'!C28,'Carrier Code'!A:B,2,FALSE) -> #N/A | O28: =D28 -> 231129 | P28: =TEXT(DATE(CONCATENATE(20,LEFT(O28,2)),MID(O28,3,2),RIGHT(O28,2))+60,"YYMMDD") -> 240128
D29: =TEXT(TODAY(),"YYMMDD") -> 231129 | E29: =TEXT(NOW(),"HHMM") -> 0954 | F29: =VLOOKUP('SOC Format'!C29,'Carrier Code'!A:B,2,FALSE) -> #N/A | O29: =D29 -> 231129 | P29: =TEXT(DATE(CONCATENATE(20,LEFT(O29,2)),MID(O29,3,2),RIGHT(O29,2))+60,"YYMMDD") -> 240128
D30: =TEXT(TODAY(),"YYMMDD") -> 231129 | E30: =TEXT(NOW(),"HHMM") -> 0954 | F30: =VLOOKUP('SOC Format'!C30,'Carrier Code'!A:B,2,FALSE) -> #N/A | O30: =D30 -> 231129 | P30: =TEXT(DATE(CONCATENATE(20,LEFT(O30,2)),MID(O30,3,2),RIGHT(O30,2))+60,"YYMMDD") -> 240128
D31: =TEXT(TODAY(),"YYMMDD") -> 231129 | E31: =TEXT(NOW(),"HHMM") -> 0954 | F31: =VLOOKUP('SOC Format'!C31,'Carrier Code'!A:B,2,FALSE) -> #N/A | O31: =D31 -> 231129 | P31: =TEXT(DATE(CONCATENATE(20,LEFT(O31,2)),MID(O31,3,2),RIGHT(O31,2))+60,"YYMMDD") -> 240128
D32: =TEXT(TODAY(),"YYMMDD") -> 231129 | E32: =TEXT(NOW(),"HHMM") -> 0954 | F32: =VLOOKUP('SOC Format'!C32,'Carrier Code'!A:B,2,FALSE) -> #N/A | O32: =D32 -> 231129 | P32: =TEXT(DATE(CONCATENATE(20,LEFT(O32,2)),MID(O32,3,2),RIGHT(O32,2))+60,"YYMMDD") -> 240128
D33: =TEXT(TODAY(),"YYMMDD") -> 231129 | E33: =TEXT(NOW(),"HHMM") -> 0954 | F33: =VLOOKUP('SOC Format'!C33,'Carrier Code'!A:B,2,FALSE) -> #N/A | O33: =D33 -> 231129 | P33: =TEXT(DATE(CONCATENATE(20,LEFT(O33,2)),MID(O33,3,2),RIGHT(O33,2))+60,"YYMMDD") -> 240128
... D112: =TEXT(TODAY(),"YYMMDD") -> 231129 | E112: =TEXT(NOW(),"HHMM") -> 0954 | F112: =VLOOKUP('SOC Format'!C112,'Carrier Code'!A:B,2,FALSE) -> #N/A | O112: =D112 -> 231129 | P112: =TEXT(DATE(CONCATENATE(20,LEFT(O112,2)),MID(O112,3,2),RIGHT(O112,2))+60,"YYMMDD") -> 240128

Sheet Carrier Code
A1: RKEM Location Name | B1: Carrier Code
A2: CNXIMSY | B2: CNXIM
A3: CNXIMHX | B3: CNXIM
A4: CNXIM05 | B4: CNXIM
A5: CNXIMTM | B5: CNXIM
A6: CNXIMHR | B6: CNXIM
A7: CNXIMPG | B7: CNXIM
A8: CNXIMFF | B8: CNXIM
A9: CNXIMBL | B9: CNXIM
A10: CNXIMSG | B10: CNXIM
A11: CNXIMYH | B11: CNXIM
A12: CNXIMHT | B12: CNXIM
... A85: CNCGZTM | B85: CNNNT
A86: THLZPTR | B86: 700001
A87: THLZPKSS | B87: 700001
A88: THLZPSC | B88: 700001
A89: THLZPB1 | B89: 700001
A90: THLZPKR | B90: 700016
A91: THLZPKR2 | B91: 700016
A92: THLZPWI | B92: 700012
A93: THBKKWI | B93: 700001
A94: THBKKLK | B94: 700001
A95: THSONTM | B95: 700001
A96: THGA6SC | B96: 700001
A97: THLZPWND | B97: 700001
... A151: MYKCHCC | B151: 700000
A152: VNDANTM | B152: DANTRK
A153: VNHPHVI | B153: HPHTRK
A154: VNDANVC | B154: DANTRK
A155: VNHPHHE | B155: HPHTRK
A156: VNHANGL | B156: HPHTRK
A157: VNHPHTC | B157: HPHTRK
A158: VNHPHTM | B158: HPHTRK
A159: VNHPHTS | B159: HPHTRK
A160: VNHPHVC | B160: HPHTRK
A161: VNNHATM | B161: HPHTRK
A162: VNQNNTM | B162: QNNTRK
A163: VNSGNPH | B163: SGNTRK
... A275: PFPPTTM | B275: NZ1000
A276: FJMQ201 | B276: 500000
A277: FJSUV01 | B277: 500000
A278: PFPPT01 | B278: 500000
A279: NZTIURR | B279: NZ1000
A280: NZTIURR | B280: NZRAIL
A281: NZTIU04 | B281: NZ1000
A282: NZINVRR | B282: NZ1000
A283: NZINVRR | B283: NZRAIL
A284: NZPORTM | B284: NZ1000
A285: NZAKLTM | B285: NZ1000
A286: NZUFXCT | B286: NZ1000
A287: NZUFXCT | B287: NZRAIL
A288: NZAKLRR | B288: NZRAIL
A289: NZAKLRR | B289: NZ1000
A290: NZWELCT | B290: NZ1000
... A298: NZNWLRR | B298: NZ1000
A299: AUADLTM | B299: 500000
A300: AUBNETM | B300: 500000
A301: AUFRETM | B301: 500000
A302: AUMEL15 | B302: 500000
A303: AUBNEDP | B303: 500000
A304: AUMELTM | B304: 500000
A305: AUSYD11 | B305: 500000
A306: AUSYDTM | B306: 500000
A307: AUBNE09 | B307: 500000
A308: AUFRE15 | B308: 500000
A309: AUADL35P | B309: 500000
A310: AUADL01 | B310: 500000
... A389: PKMUTIF | B389: 945555
A390: AFJLBTR | B390: E2ESCM
A391: AFGRGTR | B391: AGILIT
A392: AFTORBD | B392: RAAZIQ
A393: AFKHOTR | B393: FSPL
A394: AF8LKTM | B394: FSPL
A395: AFHGE01 | B395: FSPL
A396: SADAM05 | B396: SAMERC
A397: SADAM03 | B397: SACTC
A398: SAJEDPS | B398: SACTC
A399: SAJEDAET | B399: SAMTE
A400: SAJUBKTS | B400: SAMTE
A401: BDCGPES | B401: 759999
A402: BDCGPGCL | B402: 759999
A403: BDCGPKDS | B403: 759999
A404: BDCGPKT | B404: 759999
A405: BDCGPSP | B405: 759999
A406: BDCGPTM | B406: 759999
A407: BDCGPCL | B407: 759999
A408: BDCGPBM | B408: 759999
A409: BDCGPEL | B409: 759999
A410: BDCGPPL | B410: 759999
A411: BDCGPSH | B411: 759999
A412: COBAQTM | B412: 393009
... A457: ECQUI01 | B457: 341664
A458: UYMVDPS | B458: 397004
A459: UYMVDRR | B459: 397004
A460: UYMVDTC | B460: 397004
A461: UYMVDTC | B461: 393009
A462: CUSAN20P | B462: 393009
A463: CUHAV30P | B463: 393009
A464: HTPAPTM | B464: 394999
A465: JMKIMPT | B465: 396060
...

Sheet MLO LOC2 RKEM
A1: BOOKING PROCESS
A2: MLO SOC
A3: MCC TRANSPORT SINGAPORE
A5: GENERAL INFO : | B5: Our current MLO SOC customers are
A7: HANJINSHIPPING | B7: TSLINES
A8: UASC | B8: ZIMLINES
A9: CMA-CGM | B9: HEUNGA
A10: MISC | B10: WANHAILINES
A11: OOCL | B11: SINOKOR
A12: HAPAGLLOYD | B12: KLINE
A13: NYKLINES | B13: PIL
A14: MOLSINGAPORE | B14: HMM
A15: EMC | B15: EMIRATES
A18: The following step should be followed by Customer Service, as follow :
A20: 1. Sales Channel :
B21: ALL MLO SOC customers place bookings via sales channels: Telephone
B22: This steps is required due to MLO do not need booking confirmation.
A24: 2. Customer Commodity :
B25: Dry Laden = Updated as “ General Cargo “
B26: Reefer | C26: = Updated as “ Actual Commodity “
B27: DG Cargo = Updated as “ Actual Commodity “
A29: 3. Service Mode : Updated as “ CY – CY “
A31: 4. HS Code :
B32: 001801 - SOC LADEN LOCAL
B33: 002306 - SOC EMPTY LOCAL / TRANSSHIPMENT
B34: 002503 - SOC LADEN / TRANSSHIPMENT
B35: (Above HS codes applicable for DRY, OOG & Dangerous cargo. Reefer SOC cargo use actual commodity reefer cargo means above HS code will not applicable )
A37: 5. Shippers Own : Updated as “ Y “
B38: Y = for SOC
B39: N = for COC
A41: 6. All rates are filed in MARS under SOC customers negotiated rates.
A43: 7. Parties :
B44: Booked by Party, Shipper, Invoice Party, Tp Doc Receiver, Consignee and Notify Party should be updated during the booking stage.
A46: 8. Price Shipment :
B47: Collect / Prepaid should be updated during the booking stage
A49: 9. Booking Confirmation sent to phone to close tasks, however sometimes if the customer request for booking confirmation then we could send it to their mail.
A53: List of MLOs (Loading with MCC Transport)
A55: NO | B55: ACCOUNT NAME | C55: MARS Contract No. | D55: SCV CODE | E55: LOCAL2 CODE | F55: IAS Regional Office
A56: 01 | B56: APL CO PTE LTD | C56: 309554 | D56: 43209836SIN | E56: APL | F56: Singapore
A57: 02 | B57: ASIAN EXPRESS LINE | C57: 629175 | D57: 40900328066 | E57: AEL | F57: Hongkong
A58: 03 | B58: AUSTRALIA NAT. LINE (ANL) | C58: 1270 | D58: 43200047215 | E58: ANL | F58: Singapore
A59: 04 | B59: BENGAL TIGER LINE PTE LTD | C59: 365950 | D59: 43200075062 | E59: BTL | F59: Singapore
A60: 05 | B60: CCNI | C60: 583485 | D60: 40900205897 | E60: CCN | F60: Hong Kong
A61: 06 | B61: CHINA SHIPPING (S) PTE LTD | C61: 6465 | D61: 43200012945 | E61: CSC | F61: China
A62: 07 | B62: CHINA UNITED LINES LTD | C62: 566453 | D62: 40601218246 | E62: CUL | F62: China
A63: 08 | B63: CMA CGM ANL (S) PTE LTD | C63: 1270 | D63: 43219882SIN | E63: CMA | F63: France
A64: 09 | B64: COLLYER SHIPPING PTE LTD | C64: 6085 | D64: 43206777SIN | E64: CLR | F64: Singapore
A65: 10 | B65: COMPANIA SUD AMERICANA DE VAPORES (CSAV) | C65: 308470 | D65: 43200014092 | E65: CSA | F65: Hong Kong
A66: 11 | B66: COSCO CONTAINER LINES | C66: 650832 | D66: 43200116167 | E66: COS | F66: Singapore
A67: 12 | B67: CREDO SHIPPING | C67: 440726 | D67: 43200076458 | E67: CRE | F67: Singapore
A68: 13 | B68: EMIRATES SHIPPING LINE | C68: 138051 | D68: 40900117800 | E68: ESL | F68: Hongkong/Singapore
A69: 14 | B69: EVERGREEN SHIPPING AGENCY (S) P/L | C69: 315044 | D69: 43217901SIN | E69: EMC | F69: Taiwan
A70: 15 | B70: GOLD STAR LINES | C70: 15254 | D70: 40900245149 | E70: GSL | F70: Hongkong
A71: 16 | B71: GOLDEN SEA | C71: 6465 | D71: 43200113205 | E71: GSE | F71: Singapore
A72: 17 | B72: HAMBURG SUD HONG KONG LTD | C72: 14660 | D72: 40900058945 | E72: HSU | F72: Hongkong
A73: 18 | B73: HAMBURG SUD HONG KONG LTD ALLIANCA | C73: 14660 | D73: 43200087748 | E73: HSU | F73: Hongkong
A74: 19 | B74: HANJIN SHIPPING (S) PTE LTD | C74: 1900 | D74: 43214533SIN | E74: HAN | F74: Korea/Singapore
A75: 20 | B75: HANJIN SHIPPING CO LTD | C75: 1900 | D75: 43200063305 | E75: HAN | F75: Korea/Singapore
A76: 21 | B76: HAPAG-LLOYD (S) PTE LTD | C76: SC200416 | D76: 43211726SIN | E76: HLC | F76: Singapore
A77: 22 | B77: HARBOURLINK | C77: 407086 | D77: 40900252650 | E77: HLK | F77: Hongkong
A78: 23 | B78: HEUNG-A SHIPPING CO LTD | C78: 6311 | D78: 43216963SIN | E78: HEA | F78: Korea/Singapore
A79: 24 | B79: HUB LINE SINGAPORE | C79: 229732 | D79: 43248703211 | E79: HUB | F79: Singapore
A80: 25 | B80: HUB MARINE PTE LTD | C80: 6115 | D80: 43218294SIN | E80: HUB | F80: Singapore
A81: 26 | B81: HYUNDAI MERCHANT MARINE (S) PTE LTD (HMM) | C81: 6309 | D81: 43216832SIN | E81: HMM | F81: Korea/Singapore
A82: 27 | B82: INTERASIA LINES | C82: 399570 | D82: 43200032804 | E82: IAL | F82: Taiwan/Singapore
A83: 28 | B83: K LINE (SINGAPORE) PTE LTD | C83: 31639 | D83: 43213029SIN | E83: KLI | F83: Singapore
A84: 29 | B84: KMA SHIPPING | C84: 609612 | D84: 40300004280 | E84: KMA | F84: Singapore
A85: 30 | B85: KMTC (S) PTE LTD | C85: 433553 | D85: 43200072677 | E85: KMT | F85: Korea/Singapore
A86: 31 | B86: LILY MARINE SERVICES PTE LTD | C86: 308115 | D86: 43248703469 | E86: LIL | F86: Singapore
A87: 32 | B87: MARIANA SHIPPING PTE LTD / MARIANA EXPRESS LINES | C87: 580913 | D87: 43200011515 | E87: MEL | F87: Singapore
A88: 33 | B88: MATSON SHIPPING | C88: 545760 | D88: 40900300918 | E88: MAT | F88: Hongkong
A89: 34 | B89: MEDITERRANEAN SHIPPING CO SOUTH EAST (MSC) | C89: 6286 | D89: 43216869SIN | E89: MSC | F89: Singapore
A90: 35 | B90: MERCHANT SHIPPPING | C90: 792895 | D90: 43200141742 | E90: MER | F90: Singapore
A91: 36 | B91: MOL (SINGAPORE) PTE LTD | C91: 2720 | D91: 43200012899 | E91: MOL | F91: Hongkong
A92: 37 | B92: MTT SHIPPING SDN BHD | C92: 510902 | D92: 4200135535 | E92: MTT | F92: Malaysia
A93: 38 | B93: NAMSUNG SHIPPING | C93: 614422 | D93: 41885094924 | E93: NSL | F93: Korea
A94: 39 | B94: NILEDUTCH SINGAPORE PTE LTD | C94: 366619 | D94: 43200071245 | E94: NDL | F94: Singapore
A95: 40 | B95: NORASIA CONTAINER LINES LTD | C95: 308470 | D95: 43200007887 | E95: NOR | F95: Hongkong
A96: 41 | B96: NYK GROUP SOUTH ASIA PTE LTD | C96: 1271 | D96: 43205860SIN | E96: NYK | F96: Singapore
A97: 42 | B97: OOCL (SINGAPORE) PTE LTD | C97: 6268 | D97: 43214046SIN | E97: OOC | F97: Hongkong
A98: 43 | B98: PACC CONTAINER LINE PTE LTD | C98: 392476 | D98: 43200058802 | E98: PAC | F98: Singapore
A99: 44 | B99: PACIFIC INTERNATIONAL LINES PTE LTD | C99: 184802 | D99: 43212934SIN | E99: PIL | F99: Singapore
A100: 45 | B100: PELANGI SHIPPING PTE LTD | C100: M21740 | D100: 43200015524 | E100: PLG | F100: Singapore
A101: 46 | B101: REGIONAL CONTAINER LINE SHIPPING CO | C101: 654251 | D101: 43248703911 | E101: RCL | F101: Singapore
A102: 47 | B102: SAMUDERA SHIPPING LINES | C102: 659587 | D102: 411076598 | E102: SAO | F102: Singapore
A103: 48 | B103: SEA CONSORTIUM PTE LTD (XPRESS FEEDER) | C103: 305601 | D103: 43218325SIN | E103: XCL | F103: Singapore
A104: 49 | B104: SIMATECH SHIPPING PTE LTD | C104: TBA | D104: 43200045129 | E104: SIM | F104: Singapore
A105: 50 | B105: SINOKOR SINGAPORE PTE LTD | C105: 220067 | D105: 43200051809 | E105: SMM | F105: Korea
A106: 51 | B106: SWIRE SHIPPING AGENCIES PTE LTD | C106: 95579 | D106: 43200015656 | E106: SWR | F106: Singapore/Hongkong
A107: 52 | B107: T.S. LINE | C107: 15722 | D107: 407797524 | E107: TSI | F107: Taiwan
A108: 53 | B108: TASMAN ORIENT LINE LTD | C108: 313246 | D108: 43200065967 | E108: NZO | F108: Singapore
A109: 54 | B109: UNITED ARAB SHIPPING AGENCY CO (S) (UASC) | C109: 6241 | D109: 43218834SIN | E109: UAO | F109: Singapore
A110: 55 | B110: WAN HAI LINES LTD (WHL) | C110: SC200437 | D110: 43210101SIN | E110: WAN | F110: Taiwan/Singapore
A111: 56 | B111: YANGMING SHIPPING (SINGAPORE) PTE LTD (YML) | C111: SC200414 | D111: 43219027SIN | E111: YML | F111: Taiwan/Singapore
A112: 57 | B112: ZIM INTEGRATED SHIPPING SERVICES LTD | C112: 15254 | D112: 40900065028 | E112: ZIM | F112: Hongkong/Singapore
