Workbook

Sheet  Calculator
D2: Reefer Charges Calculator
B5: Container | D5: Plug In | F5: Plug Out | H5: Reefer charges (USD) | I5: Storage charges (USD)
A6: Shipment Number | B6: Number | C6: Size | D6: Date | E6: Time | F6: Date | G6: Time
A7: 123456789 | B7: abcd | C7: 40 | D7: 44305 | E7: 0.40347222 | F7: 44306 | G7: 0.47847222 | H7: ='EXPORT (2)'!M15 -> 146.8 | I7: ='EXPORT (2)'!N15 -> 47.74
A8: xxxxxxxxx | B8: abcd | C8: 20 | D8: 44081 | E8: 0.65555556 | F8: 44085 | G8: 0.45833333 | H8: ='EXPORT (2)'!M16 -> 220.2 | I8: ='EXPORT (2)'!N16 -> 59.4
C9: 40 | H9: ='EXPORT (2)'!M17 -> 36.7 | I9: ='EXPORT (2)'!N17 -> 23.87
H10: ='EXPORT (2)'!M18 -> 18.35 | I10: ='EXPORT (2)'!N18 -> 23.87
H11: ='EXPORT (2)'!M19 -> 18.35 | I11: ='EXPORT (2)'!N19 -> 23.87
H12: ='EXPORT (2)'!M20 -> 18.35 | I12: ='EXPORT (2)'!N20 -> 23.87
H13: ='EXPORT (2)'!M21 -> 18.35 | I13: ='EXPORT (2)'!N21 -> 23.87
H14: ='EXPORT (2)'!M22 -> 18.35 | I14: ='EXPORT (2)'!N22 -> 23.87
H15: ='EXPORT (2)'!M23 -> 18.35 | I15: ='EXPORT (2)'!N23 -> 23.87
H16: ='EXPORT (2)'!M24 -> 18.35 | I16: ='EXPORT (2)'!N24 -> 23.87
H17: ='EXPORT (2)'!M25 -> 18.35 | I17: ='EXPORT (2)'!N25 -> 23.87
H18: ='EXPORT (2)'!M26 -> 18.35 | I18: ='EXPORT (2)'!N26 -> 23.87
H19: ='EXPORT (2)'!M27 -> 18.35 | I19: ='EXPORT (2)'!N27 -> 23.87
H20: ='EXPORT (2)'!M28 -> 18.35 | I20: ='EXPORT (2)'!N28 -> 23.87
H21: ='EXPORT (2)'!M29 -> 18.35 | I21: ='EXPORT (2)'!N29 -> 23.87
A23: Important notes:
A25: As per CHCL tariff applicable on:
A26: Reefer power & monitoring per 8hr or part thereof (incl. thermal coupling/uncoupling & reading):
A27: Per 20 Ft.: USD 18.35
A28: Per 40 Ft.: USD 36.70
A30: Chargeable amount listed above are billed based on the no. of periods used:
A31: 1st period: 07:00 to 15:00
A32: 2nd period: 15:00 to 23:00
A33: 3rd period: 23:00 to 07:00
A35: Import applicability: From Discharge Full to Gate out terminal (Maersk does not bill storage on import, charge is billed directly to customer by CHC)
A36: Export applicability: From Gate-in Full to Load status

Sheet EXPORT (2)
GZ1: 20ft | HA1: 40ft
C2: SUMMARY EXPORT (MSK) | FE2: STORAGE rate (reefer) per 20ft | FF2: 11.88 | FG2: 15.77 | FH2: 23.87 | GF2: Dem/det rate (dry) per 20ft | GG2: 22 | GH2: 32 | GI2: 47 | GJ2: 55 | GY2: ELECTRICITY | GZ2: 18.35 | HA2: 36.7 | HM2: |* | HO2: * | HP2: * | HQ2: * | HR2: * | HS2: * | HT2: * | HU2: * | HV2: * | HW2: * | HX2: * | HY2: * | HZ2: * | IA2: * | IB2: * | IC2: * | ID2: * | IE2: * | IF2: * | IG2: *
M3: 7-15 | FF3: 23.87 | FG3: 31.75 | FH3: 47.52 | GF3: Dem/det rate (reef) per 20ft | GG3: 100 | GH3: 125 | GI3: 150 | HM3: |* | HO3: * | HR3: *FOR CALCULATION PURPOSES* | IG3: *
B4: SHIP NAME/VOYAGE NO | D4: : | M4: 15-23 | HM4: |* | HO4: * | HP4: - | HQ4: * | HR4: - | HS4: - | HT4: - | HU4: * | HV4: - | HW4: * | HX4: - | HY4: * | HZ4: - | IA4: * | IB4: - | IC4: * | ID4: - | IE4: * | IF4: - | IG4: *
B5: DATE | D5: : | M5: 23-7 | FE5: plug in date | FF5: freetime | FG5: freetime ends | FH5: detention from | FI5: plug out date | FJ5: Number of detention days | FK5: Equipment size | FL5: calculation formula | FO5: days breakdown | FR5: det tariff per teu | FU5: amt det accrued per scale tariff per teu | GF5: Gate out exp date | GG5: freetime | GH5: freetime ends | GI5: detention from | GJ5: gate in exp date | GK5: Number of detention days | GL5: Equipment size | GM5: calculation formula | GQ5: days breakdown | GU5: det tariff per teu | GY5: amt det accrued per scale tariff per teu | HM5: |* | HO5: | | HP5: Val | HQ5: | | HR5: D | HS5: e | HT5: l | HU5: | | HV5: Period 1 | HW5: | | HX5: Period 2 | HY5: | | HZ5: Period 3 | IA5: | | IC5: | | ID5: CL I/F | IE5: | | IF5: DATE CL | IG5: |
B6: COMMODITY | D6: : | FE6: =D12 -> 43248 | FF6: 0 | FG6: =FE6+FF6 -> 43248 | FH6: =FG6 -> 43248 | FI6: =F12 -> 43250 | FJ6: =FI6-FH6 -> 2 | FK6: =H12 -> 40 | FL6: =IF(FJ6<7,FJ6,10) -> 2 | FM6: =IF(FJ6>15,5,FJ6-10) -> -8 | FN6: =FJ6-15 -> -13 | FO6: =IF(FL6>0,FL6,0) -> 2 | FP6: =IF(FM6>0,FM6,0) -> 0 | FQ6: =IF(FN6>0,FN6,0) -> 0 | FR6: 11.25 | FS6: 15 | FT6: 22.5 | FU6: =IF(FK6=20,$FF$2*FO6,IF(FK6=40,$FF$3*FO6,"wrong size")) -> 47.74 | FV6: =IF(FK6=20,$FG$2*FP6,IF(FK6=40,$FG$3*FP6,"wrong size")) -> 0 | FW6: =IF(FK6=20,$FH$2*FQ6,IF(FK6=40,$FH$3*FQ6,"wrong size")) -> 0 | FX6: =SUM(FU6:FW6) -> 47.74 | FY6: =IF(FK6=40,FX6*2,IF(FK6=20,FX6)) -> 95.48 | GF6: =L12 -> 43243 | GG6: =S12 -> 0 | GH6: =GF6+GG6 -> 43243 | GI6: =GH6 -> 43243 | GJ6: =D12 -> 43248 | GK6: =GJ6-GI6+1 -> 6 | GL6: =H12 -> 40 | GM6: =IF(GK6<7,GK6,7) -> 6 | GN6: =IF(GK6>14,7,GK6-7) -> -1 | GO6: =IF(GK6>21,7,GK6-14) -> -8 | GP6: =GK6-21 -> -15 | GQ6: =IF(GM6>0,GM6,0) -> 6 | GR6: =IF(GN6>0,GN6,0) -> 0 | GS6: =IF(GO6>0,GO6,0) -> 0 | GT6: =IF(GP6>0,GP6,0) -> 0 | GU6: 75 | GV6: 106 | GW6: 144 | GX6: 144 | GY6: =GQ6*GU6 -> 450 | GZ6: =GR6*GV6 -> 0 | HA6: =GS6*GW6 -> 0 | HB6: =GT6*GX6 -> 0 | HC6: =SUM(GY6:HB6) -> 450 | HD6: =IF(GL6=40,HC6*2,IF(GL6=20,HC6)) -> 900 | HM6: |* | HO6: * | HP6: - | HQ6: * | HR6: - | HS6: - | HT6: - | HU6: * | HV6: - | HW6: * | HX6: - | HY6: * | HZ6: - | IA6: * | IB6: - | IC6: * | ID6: - | IE6: * | IF6: - | IG6: *
B7: QTY OF REEFERS SURVEYED | D7: : | FE7: =D13 -> 43733 | FF7: 0 | FG7: =FE7+FF7 -> 43733 | FH7: =FG7 -> 43733 | FI7: =F13 -> 43739 | FJ7: =FI7-FH7 -> 6 | FK7: =H13 -> 20 | FL7: =IF(FJ7<7,FJ7,10) -> 6 | FM7: =IF(FJ7>15,5,FJ7-10) -> -4 | FN7: =FJ7-15 -> -9 | FO7: =IF(FL7>0,FL7,0) -> 6 | FP7: =IF(FM7>0,FM7,0) -> 0 | FQ7: =IF(FN7>0,FN7,0) -> 0 | FR7: 11.25 | FS7: 15 | FT7: 22.5 | FU7: =IF(FK7=20,$FF$2*FO7,IF(FK7=40,$FF$3*FO7,"wrong size")) -> 71.28 | FV7: =IF(FK7=20,$FG$2*FP7,IF(FK7=40,$FG$3*FP7,"wrong size")) -> 0 | FW7: =IF(FK7=20,$FH$2*FQ7,IF(FK7=40,$FH$3*FQ7,"wrong size")) -> 0 | FX7: =SUM(FU7:FW7) -> 71.28 | FY7: =IF(FK7=40,FX7*2,IF(FK7=20,FX7)) -> 71.28 | GF7: =L13 -> 43733 | GG7: =S13 -> 0 | GH7: =GF7+GG7 -> 43733 | GI7: =GH7 -> 43733 | GJ7: =D13 -> 43733 | GK7: =GJ7-GI7+1 -> 1 | GL7: =H13 -> 20 | GM7: =IF(GK7<7,GK7,7) -> 1 | GN7: =IF(GK7>14,7,GK7-7) -> -6 | GO7: =IF(GK7>21,7,GK7-14) -> -13 | GP7: =GK7-21 -> -20 | GQ7: =IF(GM7>0,GM7,0) -> 1 | GR7: =IF(GN7>0,GN7,0) -> 0 | GS7: =IF(GO7>0,GO7,0) -> 0 | GT7: =IF(GP7>0,GP7,0) -> 0 | GU7: 75 | GV7: 106 | GW7: 144 | GX7: 144 | GY7: =GQ7*GU7 -> 75 | GZ7: =GR7*GV7 -> 0 | HA7: =GS7*GW7 -> 0 | HB7: =GT7*GX7 -> 0 | HC7: =SUM(GY7:HB7) -> 75 | HD7: =IF(GL7=40,HC7*2,IF(GL7=20,HC7)) -> 75 | HM7: |* | HO7: | | HP7: =IF(HS7="D",0,1) -> 1 | HQ7: | | HS7: =T(E7:E7) | HU7: | | HV7: =(+F12-D12-1)*3 -> 3 | HW7: | | HX7: =IF(E12<TIME(7,0,0),4,IF(AND(E12>=TIME(7,0,0),+E12<TIME(15,0,0)),3,IF(AND(E12>=TIME(15,0,0),+E12<TIME(23,0,0)),2,1))) -> 3 | HY7: | | HZ7: =IF(G12<=TIME(7,0,0),0,IF(AND(G12>TIME(7,0,0),+G12<=TIME(15,0,0)),1,IF(AND(G12>TIME(15,0,0),+G12<=TIME(23,0,0)),2,3))) -> 2 | IA7: | | IJ7: | | IK7: =DATE(97,2,28) -> 35489 | IL7: |
B8: ROE | D8: : | FE8: =D14 -> 43732 | FF8: 0 | FG8: =FE8+FF8 -> 43732 | FH8: =FG8 -> 43732 | FI8: =F14 -> 43739 | FJ8: =FI8-FH8 -> 7 | FK8: =H14 -> 40 | FL8: =IF(FJ8<7,FJ8,10) -> 10 | FM8: =IF(FJ8>15,5,FJ8-10) -> -3 | FN8: =FJ8-15 -> -8 | FO8: =IF(FL8>0,FL8,0) -> 10 | FP8: =IF(FM8>0,FM8,0) -> 0 | FQ8: =IF(FN8>0,FN8,0) -> 0 | FR8: 11.25 | FS8: 15 | FT8: 22.5 | FU8: =IF(FK8=20,$FF$2*FO8,IF(FK8=40,$FF$3*FO8,"wrong size")) -> 238.7 | FV8: =IF(FK8=20,$FG$2*FP8,IF(FK8=40,$FG$3*FP8,"wrong size")) -> 0 | FW8: =IF(FK8=20,$FH$2*FQ8,IF(FK8=40,$FH$3*FQ8,"wrong size")) -> 0 | FX8: =SUM(FU8:FW8) -> 238.7 | FY8: =IF(FK8=40,FX8*2,IF(FK8=20,FX8)) -> 477.4 | GF8: =L14 -> 43726 | GG8: =S14 -> 0 | GH8: =GF8+GG8 -> 43726 | GI8: =GH8 -> 43726 | GJ8: =D14 -> 43732 | GK8: =GJ8-GI8+1 -> 7 | GL8: =H14 -> 40 | GM8: =IF(GK8<7,GK8,7) -> 7 | GN8: =IF(GK8>14,7,GK8-7) -> 0 | GO8: =IF(GK8>21,7,GK8-14) -> -7 | GP8: =GK8-21 -> -14 | GQ8: =IF(GM8>0,GM8,0) -> 7 | GR8: =IF(GN8>0,GN8,0) -> 0 | GS8: =IF(GO8>0,GO8,0) -> 0 | GT8: =IF(GP8>0,GP8,0) -> 0 | GU8: 75 | GV8: 106 | GW8: 144 | GX8: 144 | GY8: =GQ8*GU8 -> 525 | GZ8: =GR8*GV8 -> 0 | HA8: =GS8*GW8 -> 0 | HB8: =GT8*GX8 -> 0 | HC8: =SUM(GY8:HB8) -> 525 | HD8: =IF(GL8=40,HC8*2,IF(GL8=20,HC8)) -> 1050 | HM8: |* | HO8: | | HP8: =IF(HS8="D",0,1) -> 1 | HQ8: | | HS8: =T(E8:E8) | HU8: | | HV8: =(+F13-D13-1)*3 -> 15 | HW8: | | HX8: =IF(E13<TIME(7,0,0),4,IF(AND(E13>=TIME(7,0,0),+E13<TIME(15,0,0)),3,IF(AND(E13>=TIME(15,0,0),+E13<TIME(23,0,0)),2,1))) -> 2 | HY8: | | HZ8: =IF(G13<=TIME(7,0,0),0,IF(AND(G13>TIME(7,0,0),+G13<=TIME(15,0,0)),1,IF(AND(G13>TIME(15,0,0),+G13<=TIME(23,0,0)),2,3))) -> 2 | IA8: | | IJ8: | | IK8: =DATE(97,2,28) -> 35489 | IL8: |
D9: GATE-IN EXP F (Shift +F4) | F9: LOAD (Shift +F4) | FE9: =D15 -> 44305 | FF9: 0 | FG9: =FE9+FF9 -> 44305 | FH9: =FG9 -> 44305 | FI9: =F15 -> 44306 | FJ9: =FI9-FH9 -> 1 | FK9: =H15 -> 40 | FL9: =IF(FJ9<7,FJ9,10) -> 1 | FM9: =IF(FJ9>15,5,FJ9-10) -> -9 | FN9: =FJ9-15 -> -14 | FO9: =IF(FL9>0,FL9,0) -> 1 | FP9: =IF(FM9>0,FM9,0) -> 0 | FQ9: =IF(FN9>0,FN9,0) -> 0 | FR9: 11.25 | FS9: 15 | FT9: 22.5 | FU9: =IF(FK9=20,$FF$2*FO9,IF(FK9=40,$FF$3*FO9,"wrong size")) -> 23.87 | FV9: =IF(FK9=20,$FG$2*FP9,IF(FK9=40,$FG$3*FP9,"wrong size")) -> 0 | FW9: =IF(FK9=20,$FH$2*FQ9,IF(FK9=40,$FH$3*FQ9,"wrong size")) -> 0 | FX9: =SUM(FU9:FW9) -> 23.87 | FY9: =IF(FK9=40,FX9*2,IF(FK9=20,FX9)) -> 47.74 | GF9: =L15 -> 44079 | GG9: =S15 -> 0 | GH9: =GF9+GG9 -> 44079 | GI9: =GH9 -> 44079 | GJ9: =D15 -> 44305 | GK9: =GJ9-GI9+1 -> 227 | GL9: =H15 -> 40 | GM9: =IF(GK9<7,GK9,7) -> 7 | GN9: =IF(GK9>14,7,GK9-7) -> 7 | GO9: =IF(GK9>21,7,GK9-14) -> 7 | GP9: =GK9-21 -> 206 | GQ9: =IF(GM9>0,GM9,0) -> 7 | GR9: =IF(GN9>0,GN9,0) -> 7 | GS9: =IF(GO9>0,GO9,0) -> 7 | GT9: =IF(GP9>0,GP9,0) -> 206 | GU9: 75 | GV9: 106 | GW9: 144 | GX9: 144 | GY9: =GQ9*GU9 -> 525 | GZ9: =GR9*GV9 -> 742 | HA9: =GS9*GW9 -> 1008 | HB9: =GT9*GX9 -> 29664 | HC9: =SUM(GY9:HB9) -> 31939 | HD9: =IF(GL9=40,HC9*2,IF(GL9=20,HC9)) -> 63878 | HM9: |* | HO9: | | HP9: =IF(HS9="D",0,1) -> 1 | HQ9: | | HS9: =T(E9:E9) | HU9: | | HV9: =(+F14-D14-1)*3 -> 18 | HW9: | | HX9: =IF(E14<TIME(7,0,0),4,IF(AND(E14>=TIME(7,0,0),+E14<TIME(15,0,0)),3,IF(AND(E14>=TIME(15,0,0),+E14<TIME(23,0,0)),2,1))) -> 3 | HY9: | | HZ9: =IF(G14<=TIME(7,0,0),0,IF(AND(G14>TIME(7,0,0),+G14<=TIME(15,0,0)),1,IF(AND(G14>TIME(15,0,0),+G14<=TIME(23,0,0)),2,3))) -> 2 | IA9: | | IJ9: | | IK9: =DATE(97,2,28) -> 35489 | IL9: |
A10: NO | B10: REEFER NO. | C10: Seal Nos | D10: Plug-in | F10: Plug-out | H10: Sz | I10: Set | J10: Number of units of electricity | K10: No of storage days | L10: Gate out - EXP | M10: Reefer charges | N10: Storage charge | O10: Detention Charge | P10: Container number | Q10: Bill of Lading | R10: Customer Name | S10: Agreed freetime | FE10: =D16 -> 44081 | FF10: 0 | FG10: =FE10+FF10 -> 44081 | FH10: =FG10 -> 44081 | FI10: =F16 -> 44085 | FJ10: =FI10-FH10 -> 4 | FK10: =H16 -> 20 | FL10: =IF(FJ10<7,FJ10,10) -> 4 | FM10: =IF(FJ10>15,5,FJ10-10) -> -6 | FN10: =FJ10-15 -> -11 | FO10: =IF(FL10>0,FL10,0) -> 4 | FP10: =IF(FM10>0,FM10,0) -> 0 | FQ10: =IF(FN10>0,FN10,0) -> 0 | FR10: 11.25 | FS10: 15 | FT10: 22.5 | FU10: =IF(FK10=20,$FF$2*FO10,IF(FK10=40,$FF$3*FO10,"wrong size")) -> 47.52 | FV10: =IF(FK10=20,$FG$2*FP10,IF(FK10=40,$FG$3*FP10,"wrong size")) -> 0 | FW10: =IF(FK10=20,$FH$2*FQ10,IF(FK10=40,$FH$3*FQ10,"wrong size")) -> 0 | FX10: =SUM(FU10:FW10) -> 47.52 | FY10: =IF(FK10=40,FX10*2,IF(FK10=20,FX10)) -> 47.52 | GF10: =L16 -> 44078 | GG10: =S16 -> 0 | GH10: =GF10+GG10 -> 44078 | GI10: =GH10 -> 44078 | GJ10: =D16 -> 44081 | GK10: =GJ10-GI10+1 -> 4 | GL10: =H16 -> 20 | GM10: =IF(GK10<7,GK10,7) -> 4 | GN10: =IF(GK10>14,7,GK10-7) -> -3 | GO10: =IF(GK10>21,7,GK10-14) -> -10 | GP10: =GK10-21 -> -17 | GQ10: =IF(GM10>0,GM10,0) -> 4 | GR10: =IF(GN10>0,GN10,0) -> 0 | GS10: =IF(GO10>0,GO10,0) -> 0 | GT10: =IF(GP10>0,GP10,0) -> 0 | GU10: 75 | GV10: 106 | GW10: 144 | GX10: 144 | GY10: =GQ10*GU10 -> 300 | GZ10: =GR10*GV10 -> 0 | HA10: =GS10*GW10 -> 0 | HB10: =GT10*GX10 -> 0 | HC10: =SUM(GY10:HB10) -> 300 | HD10: =IF(GL10=40,HC10*2,IF(GL10=20,HC10)) -> 300 | HM10: |* | HO10: | | HP10: =IF(HS10="D",0,1) -> 1 | HQ10: | | HS10: =T(D10:D10) -> Plug-in | HU10: | | HV10: =(+F15-D15-1)*3 -> 0 | HW10: | | HX10: =IF(E15<TIME(7,0,0),4,IF(AND(E15>=TIME(7,0,0),+E15<TIME(15,0,0)),3,IF(AND(E15>=TIME(15,0,0),+E15<TIME(23,0,0)),2,1))) -> 3 | HY10: | | HZ10: =IF(G15<=TIME(7,0,0),0,IF(AND(G15>TIME(7,0,0),+G15<=TIME(15,0,0)),1,IF(AND(G15>TIME(15,0,0),+G15<=TIME(23,0,0)),2,3))) -> 1 | IA10: | | IJ10: | | IK10: =DATE(97,2,28) -> 35489 | IL10: |
D11: Date | E11: Time | F11: Date | G11: Time | I11: C | L11: Date | M11: USD | N11: USD | O11: USD | U11: 20 | V11: 40 | FE11: =D17 -> 0 | FF11: 0 | FG11: =FE11+FF11 -> 0 | FH11: =FG11 -> 0 | FI11: =F17 -> 0 | FJ11: =FI11-FH11 -> 0 | FK11: =H17 -> 40 | FL11: =IF(FJ11<7,FJ11,10) -> 0 | FM11: =IF(FJ11>15,5,FJ11-10) -> -10 | FN11: =FJ11-15 -> -15 | FO11: =IF(FL11>0,FL11,0) -> 0 | FP11: =IF(FM11>0,FM11,0) -> 0 | FQ11: =IF(FN11>0,FN11,0) -> 0 | FR11: 11.25 | FS11: 15 | FT11: 22.5 | FU11: =IF(FK11=20,$FF$2*FO11,IF(FK11=40,$FF$3*FO11,"wrong size")) -> 0 | FV11: =IF(FK11=20,$FG$2*FP11,IF(FK11=40,$FG$3*FP11,"wrong size")) -> 0 | FW11: =IF(FK11=20,$FH$2*FQ11,IF(FK11=40,$FH$3*FQ11,"wrong size")) -> 0 | FX11: =SUM(FU11:FW11) -> 0 | FY11: =IF(FK11=40,FX11*2,IF(FK11=20,FX11)) -> 0 | GF11: =L17 -> 44082 | GG11: =S17 -> 0 | GH11: =GF11+GG11 -> 44082 | GI11: =GH11 -> 44082 | GJ11: =D17 -> 0 | GK11: =GJ11-GI11+1 -> -44081 | GL11: =H17 -> 40 | GM11: =IF(GK11<7,GK11,7) -> -44081 | GN11: =IF(GK11>14,7,GK11-7) -> -44088 | GO11: =IF(GK11>21,7,GK11-14) -> -44095 | GP11: =GK11-21 -> -44102 | GQ11: =IF(GM11>0,GM11,0) -> 0 | GR11: =IF(GN11>0,GN11,0) -> 0 | GS11: =IF(GO11>0,GO11,0) -> 0 | GT11: =IF(GP11>0,GP11,0) -> 0 | GU11: 75 | GV11: 106 | GW11: 144 | GX11: 144 | GY11: =GQ11*GU11 -> 0 | GZ11: =GR11*GV11 -> 0 | HA11: =GS11*GW11 -> 0 | HB11: =GT11*GX11 -> 0 | HC11: =SUM(GY11:HB11) -> 0 | HD11: =IF(GL11=40,HC11*2,IF(GL11=20,HC11)) -> 0 | HM11: |* | HO11: | | HP11: =IF(HS11="D",0,1) -> 1 | HQ11: | | HS11: =T(D11:D11) -> Date | HU11: | | HV11: =(+F16-D16-1)*3 -> 9 | HW11: | | HX11: =IF(E16<TIME(7,0,0),4,IF(AND(E16>=TIME(7,0,0),+E16<TIME(15,0,0)),3,IF(AND(E16>=TIME(15,0,0),+E16<TIME(23,0,0)),2,1))) -> 2 | HY11: | | HZ11: =IF(G16<=TIME(7,0,0),0,IF(AND(G16>TIME(7,0,0),+G16<=TIME(15,0,0)),1,IF(AND(G16>TIME(15,0,0),+G16<=TIME(23,0,0)),2,3))) -> 1 | IA11: | | IJ11: | | IK11: =DATE(97,2,28) -> 35489 | IL11: |
B12: MWMU6429831 | D12: 43248 | E12: 0.57708333 | F12: 43250 | G12: 0.875 | H12: 40 | J12: =IF(HP7=0,0,+HV7+HX7+HZ7) -> 8 | L12: 43243 | M12: =IF(H12<>40,(15*1)*J12,((15*1)*J12)*2)*1 -> 240 | N12: =FX6 -> 47.74 | O12: =HD6 -> 900 | P12: =B12 -> MWMU6429831 | Q12: 965064887 | R12: SAPMER PREMIUM SEAPRODUCTS | FE12: =D18 -> 0 | FF12: 0 | FG12: =FE12+FF12 -> 0 | FH12: =FG12 -> 0 | FI12: =F18 -> 0 | FJ12: =FI12-FH12 -> 0 | FK12: =H18 -> 0 | FL12: =IF(FJ12<7,FJ12,10) -> 0 | FM12: =IF(FJ12>15,5,FJ12-10) -> -10 | FN12: =FJ12-15 -> -15 | FO12: =IF(FL12>0,FL12,0) -> 0 | FP12: =IF(FM12>0,FM12,0) -> 0 | FQ12: =IF(FN12>0,FN12,0) -> 0 | FR12: 11.25 | FS12: 15 | FT12: 22.5 | FU12: =IF(FK12=20,$FF$2*FO12,IF(FK12=40,$FF$3*FO12,"wrong size")) -> wrong size | FV12: =IF(FK12=20,$FG$2*FP12,IF(FK12=40,$FG$3*FP12,"wrong size")) -> wrong size | FW12: =IF(FK12=20,$FH$2*FQ12,IF(FK12=40,$FH$3*FQ12,"wrong size")) -> wrong size | FX12: =SUM(FU12:FW12) -> 0 | FY12: =IF(FK12=40,FX12*2,IF(FK12=20,FX12)) -> FALSE | GF12: =L18 -> 44079 | GG12: =S18 -> 0 | GH12: =GF12+GG12 -> 44079 | GI12: =GH12 -> 44079 | GJ12: =D18 -> 0 | GK12: =GJ12-GI12+1 -> -44078 | GL12: =H18 -> 0 | GM12: =IF(GK12<7,GK12,7) -> -44078 | GN12: =IF(GK12>14,7,GK12-7) -> -44085 | GO12: =IF(GK12>21,7,GK12-14) -> -44092 | GP12: =GK12-21 -> -44099 | GQ12: =IF(GM12>0,GM12,0) -> 0 | GR12: =IF(GN12>0,GN12,0) -> 0 | GS12: =IF(GO12>0,GO12,0) -> 0 | GT12: =IF(GP12>0,GP12,0) -> 0 | GU12: 75 | GV12: 106 | GW12: 144 | GX12: 144 | GY12: =GQ12*GU12 -> 0 | GZ12: =GR12*GV12 -> 0 | HA12: =GS12*GW12 -> 0 | HB12: =GT12*GX12 -> 0 | HC12: =SUM(GY12:HB12) -> 0 | HD12: =IF(GL12=40,HC12*2,IF(GL12=20,HC12)) -> FALSE | HM12: |* | HO12: | | HP12: =IF(HS12="D",0,1) -> 1 | HQ12: | | HS12: =T(D12:D12) | HU12: | | HV12: =(+F17-D17-1)*3 -> -3 | HW12: | | HX12: =IF(E17<TIME(7,0,0),4,IF(AND(E17>=TIME(7,0,0),+E17<TIME(15,0,0)),3,IF(AND(E17>=TIME(15,0,0),+E17<TIME(23,0,0)),2,1))) -> 4 | HY12: | | HZ12: =IF(G17<=TIME(7,0,0),0,IF(AND(G17>TIME(7,0,0),+G17<=TIME(15,0,0)),1,IF(AND(G17>TIME(15,0,0),+G17<=TIME(23,0,0)),2,3))) -> 0 | IA12: | | IJ12: | | IK12: =DATE(97,2,28) -> 35489 | IL12: |
B13: MWCU5725090 | D13: 43733 | E13: 0.66180556 | F13: 43739 | G13: 0.80763889 | H13: 20 | J13: =IF(HP8=0,0,+HV8+HX8+HZ8) -> 19 | L13: 43733 | M13: =IF(H13<>40,$GZ$2*J13,(($HA$2*1)*J13))*1 -> 348.65 | N13: =FX7 -> 71.28 | O13: =HD7 -> 75 | P13: =B13 -> MWCU5725090 | Q13: 969599035 | R13: LUTTICK AUSTRALIA PTY LTD | FE13: =D19 -> 0 | FF13: 0 | FG13: =FE13+FF13 -> 0 | FH13: =FG13 -> 0 | FI13: =F19 -> 0 | FJ13: =FI13-FH13 -> 0 | FK13: =H19 -> 0 | FL13: =IF(FJ13<7,FJ13,10) -> 0 | FM13: =IF(FJ13>15,5,FJ13-10) -> -10 | FN13: =FJ13-15 -> -15 | FO13: =IF(FL13>0,FL13,0) -> 0 | FP13: =IF(FM13>0,FM13,0) -> 0 | FQ13: =IF(FN13>0,FN13,0) -> 0 | FR13: 11.25 | FS13: 15 | FT13: 22.5 | FU13: =IF(FK13=20,$FF$2*FO13,IF(FK13=40,$FF$3*FO13,"wrong size")) -> wrong size | FV13: =IF(FK13=20,$FG$2*FP13,IF(FK13=40,$FG$3*FP13,"wrong size")) -> wrong size | FW13: =IF(FK13=20,$FH$2*FQ13,IF(FK13=40,$FH$3*FQ13,"wrong size")) -> wrong size | FX13: =SUM(FU13:FW13) -> 0 | FY13: =IF(FK13=40,FX13*2,IF(FK13=20,FX13)) -> FALSE | GF13: =L19 -> 0 | GG13: =S19 -> 0 | GH13: =GF13+GG13 -> 0 | GI13: =GH13 -> 0 | GJ13: =D19 -> 0 | GK13: =GJ13-GI13+1 -> 1 | GL13: =H19 -> 0 | GM13: =IF(GK13<7,GK13,7) -> 1 | GN13: =IF(GK13>14,7,GK13-7) -> -6 | GO13: =IF(GK13>21,7,GK13-14) -> -13 | GP13: =GK13-21 -> -20 | GQ13: =IF(GM13>0,GM13,0) -> 1 | GR13: =IF(GN13>0,GN13,0) -> 0 | GS13: =IF(GO13>0,GO13,0) -> 0 | GT13: =IF(GP13>0,GP13,0) -> 0 | GU13: 75 | GV13: 106 | GW13: 144 | GX13: 144 | GY13: =GQ13*GU13 -> 75 | GZ13: =GR13*GV13 -> 0 | HA13: =GS13*GW13 -> 0 | HB13: =GT13*GX13 -> 0 | HC13: =SUM(GY13:HB13) -> 75 | HD13: =IF(GL13=40,HC13*2,IF(GL13=20,HC13)) -> FALSE | HM13: |* | HO13: | | HP13: =IF(HS13="D",0,1) -> 1 | HQ13: | | HS13: =T(D13:D13) | HU13: | | HV13: =(+F18-D18-1)*3 -> -3 | HW13: | | HX13: =IF(E18<TIME(7,0,0),4,IF(AND(E18>=TIME(7,0,0),+E18<TIME(15,0,0)),3,IF(AND(E18>=TIME(15,0,0),+E18<TIME(23,0,0)),2,1))) -> 4 | HY13: | | HZ13: =IF(G18<=TIME(7,0,0),0,IF(AND(G18>TIME(7,0,0),+G18<=TIME(15,0,0)),1,IF(AND(G18>TIME(15,0,0),+G18<=TIME(23,0,0)),2,3))) -> 0 | IA13: | | IJ13: | | IK13: =DATE(97,2,28) -> 35489 | IL13: |
B14: MNBU4044973 | D14: 43732 | E14: 0.41388889 | F14: 43739 | G14: 0.83125 | H14: 40 | J14: =IF(HP9=0,0,+HV9+HX9+HZ9) -> 23 | L14: 43726 | M14: =IF(H14<>40,$GZ$2*J14,(($HA$2*1)*J14))*1 -> 844.1 | N14: =FX8 -> 238.7 | O14: =HD8 -> 1050 | P14: =B14 -> MNBU4044973 | Q14: 969611639 | R14: LUTTICK AUSTRALIA PTY LTD | FE14: =D20 -> 0 | FF14: 0 | FG14: =FE14+FF14 -> 0 | FH14: =FG14 -> 0 | FI14: =F20 -> 0 | FJ14: =FI14-FH14 -> 0 | FK14: =H20 -> 0 | FL14: =IF(FJ14<7,FJ14,10) -> 0 | FM14: =IF(FJ14>15,5,FJ14-10) -> -10 | FN14: =FJ14-15 -> -15 | FO14: =IF(FL14>0,FL14,0) -> 0 | FP14: =IF(FM14>0,FM14,0) -> 0 | FQ14: =IF(FN14>0,FN14,0) -> 0 | FR14: 11.25 | FS14: 15 | FT14: 22.5 | FU14: =IF(FK14=20,$FF$2*FO14,IF(FK14=40,$FF$3*FO14,"wrong size")) -> wrong size | FV14: =IF(FK14=20,$FG$2*FP14,IF(FK14=40,$FG$3*FP14,"wrong size")) -> wrong size | FW14: =IF(FK14=20,$FH$2*FQ14,IF(FK14=40,$FH$3*FQ14,"wrong size")) -> wrong size | FX14: =SUM(FU14:FW14) -> 0 | FY14: =IF(FK14=40,FX14*2,IF(FK14=20,FX14)) -> FALSE | GF14: =L20 -> 0 | GG14: =S20 -> 0 | GH14: =GF14+GG14 -> 0 | GI14: =GH14 -> 0 | GJ14: =D20 -> 0 | GK14: =GJ14-GI14+1 -> 1 | GL14: =H20 -> 0 | GM14: =IF(GK14<7,GK14,7) -> 1 | GN14: =IF(GK14>14,7,GK14-7) -> -6 | GO14: =IF(GK14>21,7,GK14-14) -> -13 | GP14: =GK14-21 -> -20 | GQ14: =IF(GM14>0,GM14,0) -> 1 | GR14: =IF(GN14>0,GN14,0) -> 0 | GS14: =IF(GO14>0,GO14,0) -> 0 | GT14: =IF(GP14>0,GP14,0) -> 0 | GU14: 75 | GV14: 106 | GW14: 144 | GX14: 144 | GY14: =GQ14*GU14 -> 75 | GZ14: =GR14*GV14 -> 0 | HA14: =GS14*GW14 -> 0 | HB14: =GT14*GX14 -> 0 | HC14: =SUM(GY14:HB14) -> 75 | HD14: =IF(GL14=40,HC14*2,IF(GL14=20,HC14)) -> FALSE | HM14: |* | HO14: | | HP14: =IF(HS14="D",0,1) -> 1 | HQ14: | | HS14: =T(D14:D14) | HU14: | | HV14: =(+F19-D19-1)*3 -> -3 | HW14: | | HX14: =IF(E19<TIME(7,0,0),4,IF(AND(E19>=TIME(7,0,0),+E19<TIME(15,0,0)),3,IF(AND(E19>=TIME(15,0,0),+E19<TIME(23,0,0)),2,1))) -> 4 | HY14: | | HZ14: =IF(G19<=TIME(7,0,0),0,IF(AND(G19>TIME(7,0,0),+G19<=TIME(15,0,0)),1,IF(AND(G19>TIME(15,0,0),+G19<=TIME(23,0,0)),2,3))) -> 0 | IA14: | | IJ14: | | IK14: =DATE(97,2,28) -> 35489 | IL14: |
B15: =' Calculator'!B7 -> abcd | D15: =' Calculator'!D7 -> 44305 | E15: =' Calculator'!E7 -> 0.40347222 | F15: =' Calculator'!F7 -> 44306 | G15: =' Calculator'!G7 -> 0.47847222 | H15: =' Calculator'!C7 -> 40 | J15: =IF(HP10=0,0,+HV10+HX10+HZ10) -> 4 | K15: =(F15-D15)+1 -> 2 | L15: 44079 | M15: =IF(H15<>40,$GZ$2*J15,(($HA$2*1)*J15))*1 -> 146.8 | N15: =IF(H15=20,U15,V15) -> 47.74 | O15: =HD9 -> 63878 | P15: =B15 -> abcd | Q15: 911177349 | R15: SAPMER PREMIUM SEAPRODUCTS | U15: =IF(K15<10,K15*11.88,IF(K15<16,(10*11.88)+(K15-10)*15.77,((10*11.88)+(5*15.77)+(K15-15)*23.87))) -> 23.76 | V15: =IF(K15<10,K15*23.87,IF(K15<16,(10*23.87)+(K15-10)*31.75,((10*23.87)+(5*31.75)+(K15-15)*47.52))) -> 47.74 | FE15: =D21 -> 0 | FF15: 0 | FG15: =FE15+FF15 -> 0 | FH15: =FG15 -> 0 | FI15: =F21 -> 0 | FJ15: =FI15-FH15 -> 0 | FK15: =H21 -> 0 | FL15: =IF(FJ15<7,FJ15,10) -> 0 | FM15: =IF(FJ15>15,5,FJ15-10) -> -10 | FN15: =FJ15-15 -> -15 | FO15: =IF(FL15>0,FL15,0) -> 0 | FP15: =IF(FM15>0,FM15,0) -> 0 | FQ15: =IF(FN15>0,FN15,0) -> 0 | FR15: 11.25 | FS15: 15 | FT15: 22.5 | FU15: =IF(FK15=20,$FF$2*FO15,IF(FK15=40,$FF$3*FO15,"wrong size")) -> wrong size | FV15: =IF(FK15=20,$FG$2*FP15,IF(FK15=40,$FG$3*FP15,"wrong size")) -> wrong size | FW15: =IF(FK15=20,$FH$2*FQ15,IF(FK15=40,$FH$3*FQ15,"wrong size")) -> wrong size | FX15: =SUM(FU15:FW15) -> 0 | FY15: =IF(FK15=40,FX15*2,IF(FK15=20,FX15)) -> FALSE | GF15: =L21 -> 0 | GG15: =S21 -> 0 | GH15: =GF15+GG15 -> 0 | GI15: =GH15 -> 0 | GJ15: =D21 -> 0 | GK15: =GJ15-GI15+1 -> 1 | GL15: =H21 -> 0 | GM15: =IF(GK15<7,GK15,7) -> 1 | GN15: =IF(GK15>14,7,GK15-7) -> -6 | GO15: =IF(GK15>21,7,GK15-14) -> -13 | GP15: =GK15-21 -> -20 | GQ15: =IF(GM15>0,GM15,0) -> 1 | GR15: =IF(GN15>0,GN15,0) -> 0 | GS15: =IF(GO15>0,GO15,0) -> 0 | GT15: =IF(GP15>0,GP15,0) -> 0 | GU15: 75 | GV15: 106 | GW15: 144 | GX15: 144 | GY15: =GQ15*GU15 -> 75 | GZ15: =GR15*GV15 -> 0 | HA15: =GS15*GW15 -> 0 | HB15: =GT15*GX15 -> 0 | HC15: =SUM(GY15:HB15) -> 75 | HD15: =IF(GL15=40,HC15*2,IF(GL15=20,HC15)) -> FALSE | HM15: |* | HO15: | | HP15: =IF(HS15="D",0,1) -> 1 | HQ15: | | HS15: =T(D15:D15) | HU15: | | HV15: =(+F20-D20-1)*3 -> -3 | HW15: | | HX15: =IF(E20<TIME(7,0,0),4,IF(AND(E20>=TIME(7,0,0),+E20<TIME(15,0,0)),3,IF(AND(E20>=TIME(15,0,0),+E20<TIME(23,0,0)),2,1))) -> 4 | HY15: | | HZ15: =IF(G20<=TIME(7,0,0),0,IF(AND(G20>TIME(7,0,0),+G20<=TIME(15,0,0)),1,IF(AND(G20>TIME(15,0,0),+G20<=TIME(23,0,0)),2,3))) -> 0 | IA15: | | IJ15: | | IK15: =DATE(97,2,28) -> 35489 | IL15: |
B16: =' Calculator'!B8 -> abcd | D16: =' Calculator'!D8 -> 44081 | E16: =' Calculator'!E8 -> 0.65555556 | F16: =' Calculator'!F8 -> 44085 | G16: =' Calculator'!G8 -> 0.45833333 | H16: =' Calculator'!C8 -> 20 | J16: =IF(HP11=0,0,+HV11+HX11+HZ11) -> 12 | K16: =(F16-D16)+1 -> 5 | L16: 44078 | M16: =IF(H16<>40,$GZ$2*J16,(($HA$2*1)*J16))*1 -> 220.2 | N16: =IF(H16=20,U16,V16) -> 59.4 | O16: =HD10 -> 300 | P16: =B16 -> abcd | Q16: 911181803 | R16: TRANSFROID LTD | U16: =IF(K16<10,K16*11.88,IF(K16<16,(10*11.88)+(K16-10)*15.77,((10*11.88)+(5*15.77)+(K16-15)*23.87))) -> 59.4 | V16: =IF(K16<10,K16*23.87,IF(K16<16,(10*23.87)+(K16-10)*31.75,((10*23.87)+(5*31.75)+(K16-15)*47.52))) -> 119.35 | FE16: =D22 -> 0 | FF16: 0 | FG16: =FE16+FF16 -> 0 | FH16: =FG16 -> 0 | FI16: =F22 -> 0 | FJ16: =FI16-FH16 -> 0 | FK16: =H22 -> 0 | FL16: =IF(FJ16<7,FJ16,10) -> 0 | FM16: =IF(FJ16>15,5,FJ16-10) -> -10 | FN16: =FJ16-15 -> -15 | FO16: =IF(FL16>0,FL16,0) -> 0 | FP16: =IF(FM16>0,FM16,0) -> 0 | FQ16: =IF(FN16>0,FN16,0) -> 0 | FR16: 11.25 | FS16: 15 | FT16: 22.5 | FU16: =IF(FK16=20,$FF$2*FO16,IF(FK16=40,$FF$3*FO16,"wrong size")) -> wrong size | FV16: =IF(FK16=20,$FG$2*FP16,IF(FK16=40,$FG$3*FP16,"wrong size")) -> wrong size | FW16: =IF(FK16=20,$FH$2*FQ16,IF(FK16=40,$FH$3*FQ16,"wrong size")) -> wrong size | FX16: =SUM(FU16:FW16) -> 0 | FY16: =IF(FK16=40,FX16*2,IF(FK16=20,FX16)) -> FALSE | GF16: =L22 -> 0 | GG16: =S22 -> 0 | GH16: =GF16+GG16 -> 0 | GI16: =GH16 -> 0 | GJ16: =D22 -> 0 | GK16: =GJ16-GI16+1 -> 1 | GL16: =H22 -> 0 | GM16: =IF(GK16<7,GK16,7) -> 1 | GN16: =IF(GK16>14,7,GK16-7) -> -6 | GO16: =IF(GK16>21,7,GK16-14) -> -13 | GP16: =GK16-21 -> -20 | GQ16: =IF(GM16>0,GM16,0) -> 1 | GR16: =IF(GN16>0,GN16,0) -> 0 | GS16: =IF(GO16>0,GO16,0) -> 0 | GT16: =IF(GP16>0,GP16,0) -> 0 | GU16: 75 | GV16: 106 | GW16: 144 | GX16: 144 | GY16: =GQ16*GU16 -> 75 | GZ16: =GR16*GV16 -> 0 | HA16: =GS16*GW16 -> 0 | HB16: =GT16*GX16 -> 0 | HC16: =SUM(GY16:HB16) -> 75 | HD16: =IF(GL16=40,HC16*2,IF(GL16=20,HC16)) -> FALSE | HM16: |* | HO16: | | HP16: =IF(HS16="D",0,1) -> 1 | HQ16: | | HS16: =T(D16:D16) | HU16: | | HV16: =(+F21-D21-1)*3 -> -3 | HW16: | | HX16: =IF(E21<TIME(7,0,0),4,IF(AND(E21>=TIME(7,0,0),+E21<TIME(15,0,0)),3,IF(AND(E21>=TIME(15,0,0),+E21<TIME(23,0,0)),2,1))) -> 4 | HY16: | | HZ16: =IF(G21<=TIME(7,0,0),0,IF(AND(G21>TIME(7,0,0),+G21<=TIME(15,0,0)),1,IF(AND(G21>TIME(15,0,0),+G21<=TIME(23,0,0)),2,3))) -> 0 | IA16: | | IJ16: | | IK16: =DATE(97,2,28) -> 35489 | IL16: |
B17: =' Calculator'!B9 -> 0 | D17: =' Calculator'!D9 -> 0 | E17: =' Calculator'!E9 -> 0 | F17: =' Calculator'!F9 -> 0 | G17: =' Calculator'!G9 -> 0 | H17: =' Calculator'!C9 -> 40 | J17: =IF(HP12=0,0,+HV12+HX12+HZ12) -> 1 | K17: =(F17-D17)+1 -> 1 | L17: 44082 | M17: =IF(H17<>40,$GZ$2*J17,(($HA$2*1)*J17))*1 -> 36.7 | N17: =IF(H17=20,U17,V17) -> 23.87 | O17: =HD11 -> 0 | P17: =B17 -> 0 | Q17: 911194817 | R17: SAPMER PREMIUM SEAPRODUCTS | U17: =IF(K17<10,K17*11.88,IF(K17<16,(10*11.88)+(K17-10)*15.77,((10*11.88)+(5*15.77)+(K17-15)*23.87))) -> 11.88 | V17: =IF(K17<10,K17*23.87,IF(K17<16,(10*23.87)+(K17-10)*31.75,((10*23.87)+(5*31.75)+(K17-15)*47.52))) -> 23.87 | FE17: =D23 -> 0 | FF17: 0 | FG17: =FE17+FF17 -> 0 | FH17: =FG17 -> 0 | FI17: =F23 -> 0 | FJ17: =FI17-FH17 -> 0 | FK17: =H23 -> 0 | FL17: =IF(FJ17<7,FJ17,10) -> 0 | FM17: =IF(FJ17>15,5,FJ17-10) -> -10 | FN17: =FJ17-15 -> -15 | FO17: =IF(FL17>0,FL17,0) -> 0 | FP17: =IF(FM17>0,FM17,0) -> 0 | FQ17: =IF(FN17>0,FN17,0) -> 0 | FR17: 11.25 | FS17: 15 | FT17: 22.5 | FU17: =IF(FK17=20,$FF$2*FO17,IF(FK17=40,$FF$3*FO17,"wrong size")) -> wrong size | FV17: =IF(FK17=20,$FG$2*FP17,IF(FK17=40,$FG$3*FP17,"wrong size")) -> wrong size | FW17: =IF(FK17=20,$FH$2*FQ17,IF(FK17=40,$FH$3*FQ17,"wrong size")) -> wrong size | FX17: =SUM(FU17:FW17) -> 0 | FY17: =IF(FK17=40,FX17*2,IF(FK17=20,FX17)) -> FALSE | GF17: =L23 -> 0 | GG17: =S23 -> 0 | GH17: =GF17+GG17 -> 0 | GI17: =GH17 -> 0 | GJ17: =D23 -> 0 | GK17: =GJ17-GI17+1 -> 1 | GL17: =H23 -> 0 | GM17: =IF(GK17<7,GK17,7) -> 1 | GN17: =IF(GK17>14,7,GK17-7) -> -6 | GO17: =IF(GK17>21,7,GK17-14) -> -13 | GP17: =GK17-21 -> -20 | GQ17: =IF(GM17>0,GM17,0) -> 1 | GR17: =IF(GN17>0,GN17,0) -> 0 | GS17: =IF(GO17>0,GO17,0) -> 0 | GT17: =IF(GP17>0,GP17,0) -> 0 | GU17: 75 | GV17: 106 | GW17: 144 | GX17: 144 | GY17: =GQ17*GU17 -> 75 | GZ17: =GR17*GV17 -> 0 | HA17: =GS17*GW17 -> 0 | HB17: =GT17*GX17 -> 0 | HC17: =SUM(GY17:HB17) -> 75 | HD17: =IF(GL17=40,HC17*2,IF(GL17=20,HC17)) -> FALSE | HM17: |* | HO17: | | HP17: =IF(HS17="D",0,1) -> 1 | HQ17: | | HS17: =T(D17:D17) | HU17: | | HV17: =(+F22-D22-1)*3 -> -3 | HW17: | | HX17: =IF(E22<TIME(7,0,0),4,IF(AND(E22>=TIME(7,0,0),+E22<TIME(15,0,0)),3,IF(AND(E22>=TIME(15,0,0),+E22<TIME(23,0,0)),2,1))) -> 4 | HY17: | | HZ17: =IF(G22<=TIME(7,0,0),0,IF(AND(G22>TIME(7,0,0),+G22<=TIME(15,0,0)),1,IF(AND(G22>TIME(15,0,0),+G22<=TIME(23,0,0)),2,3))) -> 0 | IA17: | | IJ17: | | IK17: =DATE(97,2,28) -> 35489 | IL17: |
B18: =' Calculator'!B10 -> 0 | D18: =' Calculator'!D10 -> 0 | E18: =' Calculator'!E10 -> 0 | F18: =' Calculator'!F10 -> 0 | G18: =' Calculator'!G10 -> 0 | H18: =' Calculator'!C10 -> 0 | J18: =IF(HP13=0,0,+HV13+HX13+HZ13) -> 1 | K18: =(F18-D18)+1 -> 1 | L18: 44079 | M18: =IF(H18<>40,$GZ$2*J18,(($HA$2*1)*J18))*1 -> 18.35 | N18: =IF(H18=20,U18,V18) -> 23.87 | O18: =HD12 -> FALSE | P18: =B18 -> 0 | U18: =IF(K18<10,K18*11.88,IF(K18<16,(10*11.88)+(K18-10)*15.77,((10*11.88)+(5*15.77)+(K18-15)*23.87))) -> 11.88 | V18: =IF(K18<10,K18*23.87,IF(K18<16,(10*23.87)+(K18-10)*31.75,((10*23.87)+(5*31.75)+(K18-15)*47.52))) -> 23.87 | FE18: =D24 -> 0 | FF18: 0 | FG18: =FE18+FF18 -> 0 | FH18: =FG18 -> 0 | FI18: =F24 -> 0 | FJ18: =FI18-FH18 -> 0 | FK18: =H24 -> 0 | FL18: =IF(FJ18<7,FJ18,10) -> 0 | FM18: =IF(FJ18>15,5,FJ18-10) -> -10 | FN18: =FJ18-15 -> -15 | FO18: =IF(FL18>0,FL18,0) -> 0 | FP18: =IF(FM18>0,FM18,0) -> 0 | FQ18: =IF(FN18>0,FN18,0) -> 0 | FR18: 11.25 | FS18: 15 | FT18: 22.5 | FU18: =IF(FK18=20,$FF$2*FO18,IF(FK18=40,$FF$3*FO18,"wrong size")) -> wrong size | FV18: =IF(FK18=20,$FG$2*FP18,IF(FK18=40,$FG$3*FP18,"wrong size")) -> wrong size | FW18: =IF(FK18=20,$FH$2*FQ18,IF(FK18=40,$FH$3*FQ18,"wrong size")) -> wrong size | FX18: =SUM(FU18:FW18) -> 0 | FY18: =IF(FK18=40,FX18*2,IF(FK18=20,FX18)) -> FALSE | GF18: =L24 -> 0 | GG18: =S24 -> 0 | GH18: =GF18+GG18 -> 0 | GI18: =GH18 -> 0 | GJ18: =D24 -> 0 | GK18: =GJ18-GI18+1 -> 1 | GL18: =H24 -> 0 | GM18: =IF(GK18<7,GK18,7) -> 1 | GN18: =IF(GK18>14,7,GK18-7) -> -6 | GO18: =IF(GK18>21,7,GK18-14) -> -13 | GP18: =GK18-21 -> -20 | GQ18: =IF(GM18>0,GM18,0) -> 1 | GR18: =IF(GN18>0,GN18,0) -> 0 | GS18: =IF(GO18>0,GO18,0) -> 0 | GT18: =IF(GP18>0,GP18,0) -> 0 | GU18: 75 | GV18: 106 | GW18: 144 | GX18: 144 | GY18: =GQ18*GU18 -> 75 | GZ18: =GR18*GV18 -> 0 | HA18: =GS18*GW18 -> 0 | HB18: =GT18*GX18 -> 0 | HC18: =SUM(GY18:HB18) -> 75 | HD18: =IF(GL18=40,HC18*2,IF(GL18=20,HC18)) -> FALSE | HM18: |* | HO18: | | HP18: =IF(HS18="D",0,1) -> 1 | HQ18: | | HS18: =T(D18:D18) | HU18: | | HV18: =(+F23-D23-1)*3 -> -3 | HW18: | | HX18: =IF(E23<TIME(7,0,0),4,IF(AND(E23>=TIME(7,0,0),+E23<TIME(15,0,0)),3,IF(AND(E23>=TIME(15,0,0),+E23<TIME(23,0,0)),2,1))) -> 4 | HY18: | | HZ18: =IF(G23<=TIME(7,0,0),0,IF(AND(G23>TIME(7,0,0),+G23<=TIME(15,0,0)),1,IF(AND(G23>TIME(15,0,0),+G23<=TIME(23,0,0)),2,3))) -> 0 | IA18: | | IJ18: | | IK18: =DATE(97,2,28) -> 35489 | IL18: |
B19: =' Calculator'!B11 -> 0 | D19: =' Calculator'!D11 -> 0 | E19: =' Calculator'!E11 -> 0 | F19: =' Calculator'!F11 -> 0 | G19: =' Calculator'!G11 -> 0 | H19: =' Calculator'!C11 -> 0 | J19: =IF(HP14=0,0,+HV14+HX14+HZ14) -> 1 | K19: =(F19-D19)+1 -> 1 | M19: =IF(H19<>40,$GZ$2*J19,(($HA$2*1)*J19))*1 -> 18.35 | N19: =IF(H19=20,U19,V19) -> 23.87 | O19: =HD13 -> FALSE | P19: =B19 -> 0 | U19: =IF(K19<10,K19*11.88,IF(K19<16,(10*11.88)+(K19-10)*15.77,((10*11.88)+(5*15.77)+(K19-15)*23.87))) -> 11.88 | V19: =IF(K19<10,K19*23.87,IF(K19<16,(10*23.87)+(K19-10)*31.75,((10*23.87)+(5*31.75)+(K19-15)*47.52))) -> 23.87 | FE19: =D25 -> 0 | FF19: 0 | FG19: =FE19+FF19 -> 0 | FH19: =FG19 -> 0 | FI19: =F25 -> 0 | FJ19: =FI19-FH19 -> 0 | FK19: =H25 -> 0 | FL19: =IF(FJ19<7,FJ19,10) -> 0 | FM19: =IF(FJ19>15,5,FJ19-10) -> -10 | FN19: =FJ19-15 -> -15 | FO19: =IF(FL19>0,FL19,0) -> 0 | FP19: =IF(FM19>0,FM19,0) -> 0 | FQ19: =IF(FN19>0,FN19,0) -> 0 | FR19: 11.25 | FS19: 15 | FT19: 22.5 | FU19: =IF(FK19=20,$FF$2*FO19,IF(FK19=40,$FF$3*FO19,"wrong size")) -> wrong size | FV19: =IF(FK19=20,$FG$2*FP19,IF(FK19=40,$FG$3*FP19,"wrong size")) -> wrong size | FW19: =IF(FK19=20,$FH$2*FQ19,IF(FK19=40,$FH$3*FQ19,"wrong size")) -> wrong size | FX19: =SUM(FU19:FW19) -> 0 | FY19: =IF(FK19=40,FX19*2,IF(FK19=20,FX19)) -> FALSE | GF19: =L25 -> 0 | GG19: =S25 -> 0 | GH19: =GF19+GG19 -> 0 | GI19: =GH19 -> 0 | GJ19: =D25 -> 0 | GK19: =GJ19-GI19+1 -> 1 | GL19: =H25 -> 0 | GM19: =IF(GK19<7,GK19,7) -> 1 | GN19: =IF(GK19>14,7,GK19-7) -> -6 | GO19: =IF(GK19>21,7,GK19-14) -> -13 | GP19: =GK19-21 -> -20 | GQ19: =IF(GM19>0,GM19,0) -> 1 | GR19: =IF(GN19>0,GN19,0) -> 0 | GS19: =IF(GO19>0,GO19,0) -> 0 | GT19: =IF(GP19>0,GP19,0) -> 0 | GU19: 75 | GV19: 106 | GW19: 144 | GX19: 144 | GY19: =GQ19*GU19 -> 75 | GZ19: =GR19*GV19 -> 0 | HA19: =GS19*GW19 -> 0 | HB19: =GT19*GX19 -> 0 | HC19: =SUM(GY19:HB19) -> 75 | HD19: =IF(GL19=40,HC19*2,IF(GL19=20,HC19)) -> FALSE | HM19: |* | HO19: | | HP19: =IF(HS19="D",0,1) -> 1 | HQ19: | | HS19: =T(D19:D19) | HU19: | | HV19: =(+F24-D24-1)*3 -> -3 | HW19: | | HX19: =IF(E24<TIME(7,0,0),4,IF(AND(E24>=TIME(7,0,0),+E24<TIME(15,0,0)),3,IF(AND(E24>=TIME(15,0,0),+E24<TIME(23,0,0)),2,1))) -> 4 | HY19: | | HZ19: =IF(G24<=TIME(7,0,0),0,IF(AND(G24>TIME(7,0,0),+G24<=TIME(15,0,0)),1,IF(AND(G24>TIME(15,0,0),+G24<=TIME(23,0,0)),2,3))) -> 0 | IA19: | | IJ19: | | IK19: =DATE(97,2,28) -> 35489 | IL19: |
B20: =' Calculator'!B12 -> 0 | D20: =' Calculator'!D12 -> 0 | E20: =' Calculator'!E12 -> 0 | F20: =' Calculator'!F12 -> 0 | G20: =' Calculator'!G12 -> 0 | H20: =' Calculator'!C12 -> 0 | J20: =IF(HP15=0,0,+HV15+HX15+HZ15) -> 1 | K20: =(F20-D20)+1 -> 1 | M20: =IF(H20<>40,$GZ$2*J20,(($HA$2*1)*J20))*1 -> 18.35 | N20: =IF(H20=20,U20,V20) -> 23.87 | O20: =HD14 -> FALSE | P20: =B20 -> 0 | U20: =IF(K20<10,K20*11.88,IF(K20<16,(10*11.88)+(K20-10)*15.77,((10*11.88)+(5*15.77)+(K20-15)*23.87))) -> 11.88 | V20: =IF(K20<10,K20*23.87,IF(K20<16,(10*23.87)+(K20-10)*31.75,((10*23.87)+(5*31.75)+(K20-15)*47.52))) -> 23.87 | FE20: =D26 -> 0 | FF20: 0 | FG20: =FE20+FF20 -> 0 | FH20: =FG20 -> 0 | FI20: =F26 -> 0 | FJ20: =FI20-FH20 -> 0 | FK20: =H26 -> 0 | FL20: =IF(FJ20<7,FJ20,10) -> 0 | FM20: =IF(FJ20>15,5,FJ20-10) -> -10 | FN20: =FJ20-15 -> -15 | FO20: =IF(FL20>0,FL20,0) -> 0 | FP20: =IF(FM20>0,FM20,0) -> 0 | FQ20: =IF(FN20>0,FN20,0) -> 0 | FR20: 11.25 | FS20: 15 | FT20: 22.5 | FU20: =IF(FK20=20,$FF$2*FO20,IF(FK20=40,$FF$3*FO20,"wrong size")) -> wrong size | FV20: =IF(FK20=20,$FG$2*FP20,IF(FK20=40,$FG$3*FP20,"wrong size")) -> wrong size | FW20: =IF(FK20=20,$FH$2*FQ20,IF(FK20=40,$FH$3*FQ20,"wrong size")) -> wrong size | FX20: =SUM(FU20:FW20) -> 0 | FY20: =IF(FK20=40,FX20*2,IF(FK20=20,FX20)) -> FALSE | GF20: =L26 -> 0 | GG20: =S26 -> 0 | GH20: =GF20+GG20 -> 0 | GI20: =GH20 -> 0 | GJ20: =D26 -> 0 | GK20: =GJ20-GI20+1 -> 1 | GL20: =H26 -> 0 | GM20: =IF(GK20<7,GK20,7) -> 1 | GN20: =IF(GK20>14,7,GK20-7) -> -6 | GO20: =IF(GK20>21,7,GK20-14) -> -13 | GP20: =GK20-21 -> -20 | GQ20: =IF(GM20>0,GM20,0) -> 1 | GR20: =IF(GN20>0,GN20,0) -> 0 | GS20: =IF(GO20>0,GO20,0) -> 0 | GT20: =IF(GP20>0,GP20,0) -> 0 | GU20: 75 | GV20: 106 | GW20: 144 | GX20: 144 | GY20: =GQ20*GU20 -> 75 | GZ20: =GR20*GV20 -> 0 | HA20: =GS20*GW20 -> 0 | HB20: =GT20*GX20 -> 0 | HC20: =SUM(GY20:HB20) -> 75 | HD20: =IF(GL20=40,HC20*2,IF(GL20=20,HC20)) -> FALSE | HM20: |* | HO20: | | HP20: =IF(HS20="D",0,1) -> 1 | HQ20: | | HS20: =T(D20:D20) | HU20: | | HV20: =(+F25-D25-1)*3 -> -3 | HW20: | | HX20: =IF(E25<TIME(7,0,0),4,IF(AND(E25>=TIME(7,0,0),+E25<TIME(15,0,0)),3,IF(AND(E25>=TIME(15,0,0),+E25<TIME(23,0,0)),2,1))) -> 4 | HY20: | | HZ20: =IF(G25<=TIME(7,0,0),0,IF(AND(G25>TIME(7,0,0),+G25<=TIME(15,0,0)),1,IF(AND(G25>TIME(15,0,0),+G25<=TIME(23,0,0)),2,3))) -> 0 | IA20: | | IJ20: | | IK20: =DATE(97,2,28) -> 35489 | IL20: |
B21: =' Calculator'!B13 -> 0 | D21: =' Calculator'!D13 -> 0 | E21: =' Calculator'!E13 -> 0 | F21: =' Calculator'!F13 -> 0 | G21: =' Calculator'!G13 -> 0 | H21: =' Calculator'!C13 -> 0 | J21: =IF(HP16=0,0,+HV16+HX16+HZ16) -> 1 | K21: =(F21-D21)+1 -> 1 | M21: =IF(H21<>40,$GZ$2*J21,(($HA$2*1)*J21))*1 -> 18.35 | N21: =IF(H21=20,U21,V21) -> 23.87 | O21: =HD15 -> FALSE | P21: =B21 -> 0 | U21: =IF(K21<10,K21*11.88,IF(K21<16,(10*11.88)+(K21-10)*15.77,((10*11.88)+(5*15.77)+(K21-15)*23.87))) -> 11.88 | V21: =IF(K21<10,K21*23.87,IF(K21<16,(10*23.87)+(K21-10)*31.75,((10*23.87)+(5*31.75)+(K21-15)*47.52))) -> 23.87 | FE21: =D27 -> 0 | FF21: 0 | FG21: =FE21+FF21 -> 0 | FH21: =FG21 -> 0 | FI21: =F27 -> 0 | FJ21: =FI21-FH21 -> 0 | FK21: =H27 -> 0 | FL21: =IF(FJ21<7,FJ21,10) -> 0 | FM21: =IF(FJ21>15,5,FJ21-10) -> -10 | FN21: =FJ21-15 -> -15 | FO21: =IF(FL21>0,FL21,0) -> 0 | FP21: =IF(FM21>0,FM21,0) -> 0 | FQ21: =IF(FN21>0,FN21,0) -> 0 | FR21: 11.25 | FS21: 15 | FT21: 22.5 | FU21: =IF(FK21=20,$FF$2*FO21,IF(FK21=40,$FF$3*FO21,"wrong size")) -> wrong size | FV21: =IF(FK21=20,$FG$2*FP21,IF(FK21=40,$FG$3*FP21,"wrong size")) -> wrong size | FW21: =IF(FK21=20,$FH$2*FQ21,IF(FK21=40,$FH$3*FQ21,"wrong size")) -> wrong size | FX21: =SUM(FU21:FW21) -> 0 | FY21: =IF(FK21=40,FX21*2,IF(FK21=20,FX21)) -> FALSE | GF21: =L27 -> 0 | GG21: =S27 -> 0 | GH21: =GF21+GG21 -> 0 | GI21: =GH21 -> 0 | GJ21: =D27 -> 0 | GK21: =GJ21-GI21+1 -> 1 | GL21: =H27 -> 0 | GM21: =IF(GK21<7,GK21,7) -> 1 | GN21: =IF(GK21>14,7,GK21-7) -> -6 | GO21: =IF(GK21>21,7,GK21-14) -> -13 | GP21: =GK21-21 -> -20 | GQ21: =IF(GM21>0,GM21,0) -> 1 | GR21: =IF(GN21>0,GN21,0) -> 0 | GS21: =IF(GO21>0,GO21,0) -> 0 | GT21: =IF(GP21>0,GP21,0) -> 0 | GU21: 75 | GV21: 106 | GW21: 144 | GX21: 144 | GY21: =GQ21*GU21 -> 75 | GZ21: =GR21*GV21 -> 0 | HA21: =GS21*GW21 -> 0 | HB21: =GT21*GX21 -> 0 | HC21: =SUM(GY21:HB21) -> 75 | HD21: =IF(GL21=40,HC21*2,IF(GL21=20,HC21)) -> FALSE | HM21: |* | HO21: | | HP21: =IF(HS21="D",0,1) -> 1 | HQ21: | | HS21: =T(D21:D21) | HU21: | | HV21: =(+F26-D26-1)*3 -> -3 | HW21: | | HX21: =IF(E26<TIME(7,0,0),4,IF(AND(E26>=TIME(7,0,0),+E26<TIME(15,0,0)),3,IF(AND(E26>=TIME(15,0,0),+E26<TIME(23,0,0)),2,1))) -> 4 | HY21: | | HZ21: =IF(G26<=TIME(7,0,0),0,IF(AND(G26>TIME(7,0,0),+G26<=TIME(15,0,0)),1,IF(AND(G26>TIME(15,0,0),+G26<=TIME(23,0,0)),2,3))) -> 0 | IA21: | | IJ21: | | IK21: =DATE(97,2,28) -> 35489 | IL21: |
B22: =' Calculator'!B14 -> 0 | D22: =' Calculator'!D14 -> 0 | E22: =' Calculator'!E14 -> 0 | F22: =' Calculator'!F14 -> 0 | G22: =' Calculator'!G14 -> 0 | H22: =' Calculator'!C14 -> 0 | J22: =IF(HP17=0,0,+HV17+HX17+HZ17) -> 1 | K22: =(F22-D22)+1 -> 1 | M22: =IF(H22<>40,$GZ$2*J22,(($HA$2*1)*J22))*1 -> 18.35 | N22: =IF(H22=20,U22,V22) -> 23.87 | O22: =HD16 -> FALSE | P22: =B22 -> 0 | U22: =IF(K22<10,K22*11.88,IF(K22<16,(10*11.88)+(K22-10)*15.77,((10*11.88)+(5*15.77)+(K22-15)*23.87))) -> 11.88 | V22: =IF(K22<10,K22*23.87,IF(K22<16,(10*23.87)+(K22-10)*31.75,((10*23.87)+(5*31.75)+(K22-15)*47.52))) -> 23.87 | FE22: =D28 -> 0 | FF22: 0 | FG22: =FE22+FF22 -> 0 | FH22: =FG22 -> 0 | FI22: =F28 -> 0 | FJ22: =FI22-FH22 -> 0 | FK22: =H28 -> 0 | FL22: =IF(FJ22<7,FJ22,10) -> 0 | FM22: =IF(FJ22>15,5,FJ22-10) -> -10 | FN22: =FJ22-15 -> -15 | FO22: =IF(FL22>0,FL22,0) -> 0 | FP22: =IF(FM22>0,FM22,0) -> 0 | FQ22: =IF(FN22>0,FN22,0) -> 0 | FR22: 11.25 | FS22: 15 | FT22: 22.5 | FU22: =IF(FK22=20,$FF$2*FO22,IF(FK22=40,$FF$3*FO22,"wrong size")) -> wrong size | FV22: =IF(FK22=20,$FG$2*FP22,IF(FK22=40,$FG$3*FP22,"wrong size")) -> wrong size | FW22: =IF(FK22=20,$FH$2*FQ22,IF(FK22=40,$FH$3*FQ22,"wrong size")) -> wrong size | FX22: =SUM(FU22:FW22) -> 0 | FY22: =IF(FK22=40,FX22*2,IF(FK22=20,FX22)) -> FALSE | GF22: =L28 -> 0 | GG22: =S28 -> 0 | GH22: =GF22+GG22 -> 0 | GI22: =GH22 -> 0 | GJ22: =D28 -> 0 | GK22: =GJ22-GI22+1 -> 1 | GL22: =H28 -> 0 | GM22: =IF(GK22<7,GK22,7) -> 1 | GN22: =IF(GK22>14,7,GK22-7) -> -6 | GO22: =IF(GK22>21,7,GK22-14) -> -13 | GP22: =GK22-21 -> -20 | GQ22: =IF(GM22>0,GM22,0) -> 1 | GR22: =IF(GN22>0,GN22,0) -> 0 | GS22: =IF(GO22>0,GO22,0) -> 0 | GT22: =IF(GP22>0,GP22,0) -> 0 | GU22: 75 | GV22: 106 | GW22: 144 | GX22: 144 | GY22: =GQ22*GU22 -> 75 | GZ22: =GR22*GV22 -> 0 | HA22: =GS22*GW22 -> 0 | HB22: =GT22*GX22 -> 0 | HC22: =SUM(GY22:HB22) -> 75 | HD22: =IF(GL22=40,HC22*2,IF(GL22=20,HC22)) -> FALSE | HM22: |* | HO22: | | HP22: =IF(HS22="D",0,1) -> 1 | HQ22: | | HS22: =T(D22:D22) | HU22: | | HV22: =(+F27-D27-1)*3 -> -3 | HW22: | | HX22: =IF(E27<TIME(7,0,0),4,IF(AND(E27>=TIME(7,0,0),+E27<TIME(15,0,0)),3,IF(AND(E27>=TIME(15,0,0),+E27<TIME(23,0,0)),2,1))) -> 4 | HY22: | | HZ22: =IF(G27<=TIME(7,0,0),0,IF(AND(G27>TIME(7,0,0),+G27<=TIME(15,0,0)),1,IF(AND(G27>TIME(15,0,0),+G27<=TIME(23,0,0)),2,3))) -> 0 | IA22: | | IJ22: | | IK22: =DATE(97,2,28) -> 35489 | IL22: |
B23: =' Calculator'!B15 -> 0 | D23: =' Calculator'!D15 -> 0 | E23: =' Calculator'!E15 -> 0 | F23: =' Calculator'!F15 -> 0 | G23: =' Calculator'!G15 -> 0 | H23: =' Calculator'!C15 -> 0 | J23: =IF(HP18=0,0,+HV18+HX18+HZ18) -> 1 | K23: =(F23-D23)+1 -> 1 | M23: =IF(H23<>40,$GZ$2*J23,(($HA$2*1)*J23))*1 -> 18.35 | N23: =IF(H23=20,U23,V23) -> 23.87 | O23: =HD17 -> FALSE | P23: =B23 -> 0 | U23: =IF(K23<10,K23*11.88,IF(K23<16,(10*11.88)+(K23-10)*15.77,((10*11.88)+(5*15.77)+(K23-15)*23.87))) -> 11.88 | V23: =IF(K23<10,K23*23.87,IF(K23<16,(10*23.87)+(K23-10)*31.75,((10*23.87)+(5*31.75)+(K23-15)*47.52))) -> 23.87 | FE23: =D29 -> 0 | FF23: 0 | FG23: =FE23+FF23 -> 0 | FH23: =FG23 -> 0 | FI23: =F29 -> 0 | FJ23: =FI23-FH23 -> 0 | FK23: =H29 -> 0 | FL23: =IF(FJ23<7,FJ23,10) -> 0 | FM23: =IF(FJ23>15,5,FJ23-10) -> -10 | FN23: =FJ23-15 -> -15 | FO23: =IF(FL23>0,FL23,0) -> 0 | FP23: =IF(FM23>0,FM23,0) -> 0 | FQ23: =IF(FN23>0,FN23,0) -> 0 | FR23: 11.25 | FS23: 15 | FT23: 22.5 | FU23: =IF(FK23=20,$FF$2*FO23,IF(FK23=40,$FF$3*FO23,"wrong size")) -> wrong size | FV23: =IF(FK23=20,$FG$2*FP23,IF(FK23=40,$FG$3*FP23,"wrong size")) -> wrong size | FW23: =IF(FK23=20,$FH$2*FQ23,IF(FK23=40,$FH$3*FQ23,"wrong size")) -> wrong size | FX23: =SUM(FU23:FW23) -> 0 | FY23: =IF(FK23=40,FX23*2,IF(FK23=20,FX23)) -> FALSE | GF23: =L29 -> 0 | GG23: =S29 -> 0 | GH23: =GF23+GG23 -> 0 | GI23: =GH23 -> 0 | GJ23: =D29 -> 0 | GK23: =GJ23-GI23+1 -> 1 | GL23: =H29 -> 0 | GM23: =IF(GK23<7,GK23,7) -> 1 | GN23: =IF(GK23>14,7,GK23-7) -> -6 | GO23: =IF(GK23>21,7,GK23-14) -> -13 | GP23: =GK23-21 -> -20 | GQ23: =IF(GM23>0,GM23,0) -> 1 | GR23: =IF(GN23>0,GN23,0) -> 0 | GS23: =IF(GO23>0,GO23,0) -> 0 | GT23: =IF(GP23>0,GP23,0) -> 0 | GU23: 75 | GV23: 106 | GW23: 144 | GX23: 144 | GY23: =GQ23*GU23 -> 75 | GZ23: =GR23*GV23 -> 0 | HA23: =GS23*GW23 -> 0 | HB23: =GT23*GX23 -> 0 | HC23: =SUM(GY23:HB23) -> 75 | HD23: =IF(GL23=40,HC23*2,IF(GL23=20,HC23)) -> FALSE | HM23: |* | HO23: | | HP23: =IF(HS23="D",0,1) -> 1 | HQ23: | | HS23: =T(D23:D23) | HU23: | | HV23: =(+F28-D28-1)*3 -> -3 | HW23: | | HX23: =IF(E28<TIME(7,0,0),4,IF(AND(E28>=TIME(7,0,0),+E28<TIME(15,0,0)),3,IF(AND(E28>=TIME(15,0,0),+E28<TIME(23,0,0)),2,1))) -> 4 | HY23: | | HZ23: =IF(G28<=TIME(7,0,0),0,IF(AND(G28>TIME(7,0,0),+G28<=TIME(15,0,0)),1,IF(AND(G28>TIME(15,0,0),+G28<=TIME(23,0,0)),2,3))) -> 0 | IA23: | | IJ23: | | IK23: =DATE(97,2,28) -> 35489 | IL23: |
B24: =' Calculator'!B16 -> 0 | D24: =' Calculator'!D16 -> 0 | E24: =' Calculator'!E16 -> 0 | F24: =' Calculator'!F16 -> 0 | G24: =' Calculator'!G16 -> 0 | H24: =' Calculator'!C16 -> 0 | J24: =IF(HP19=0,0,+HV19+HX19+HZ19) -> 1 | K24: =(F24-D24)+1 -> 1 | M24: =IF(H24<>40,$GZ$2*J24,(($HA$2*1)*J24))*1 -> 18.35 | N24: =IF(H24=20,U24,V24) -> 23.87 | O24: =HD18 -> FALSE | P24: =B24 -> 0 | U24: =IF(K24<10,K24*11.88,IF(K24<16,(10*11.88)+(K24-10)*15.77,((10*11.88)+(5*15.77)+(K24-15)*23.87))) -> 11.88 | V24: =IF(K24<10,K24*23.87,IF(K24<16,(10*23.87)+(K24-10)*31.75,((10*23.87)+(5*31.75)+(K24-15)*47.52))) -> 23.87 | FE24: =D30 -> 0 | FF24: 0 | FG24: =FE24+FF24 -> 0 | FH24: =FG24 -> 0 | FI24: =F30 -> 0 | FJ24: =FI24-FH24 -> 0 | FK24: =H30 -> 0 | FL24: =IF(FJ24<7,FJ24,10) -> 0 | FM24: =IF(FJ24>15,5,FJ24-10) -> -10 | FN24: =FJ24-15 -> -15 | FO24: =IF(FL24>0,FL24,0) -> 0 | FP24: =IF(FM24>0,FM24,0) -> 0 | FQ24: =IF(FN24>0,FN24,0) -> 0 | FR24: 11.25 | FS24: 15 | FT24: 22.5 | FU24: =IF(FK24=20,$FF$2*FO24,IF(FK24=40,$FF$3*FO24,"wrong size")) -> wrong size | FV24: =IF(FK24=20,$FG$2*FP24,IF(FK24=40,$FG$3*FP24,"wrong size")) -> wrong size | FW24: =IF(FK24=20,$FH$2*FQ24,IF(FK24=40,$FH$3*FQ24,"wrong size")) -> wrong size | FX24: =SUM(FU24:FW24) -> 0 | FY24: =IF(FK24=40,FX24*2,IF(FK24=20,FX24)) -> FALSE | GF24: =L30 -> 0 | GG24: =S30 -> 0 | GH24: =GF24+GG24 -> 0 | GI24: =GH24 -> 0 | GJ24: =D30 -> 0 | GK24: =GJ24-GI24+1 -> 1 | GL24: =H30 -> 0 | GM24: =IF(GK24<7,GK24,7) -> 1 | GN24: =IF(GK24>14,7,GK24-7) -> -6 | GO24: =IF(GK24>21,7,GK24-14) -> -13 | GP24: =GK24-21 -> -20 | GQ24: =IF(GM24>0,GM24,0) -> 1 | GR24: =IF(GN24>0,GN24,0) -> 0 | GS24: =IF(GO24>0,GO24,0) -> 0 | GT24: =IF(GP24>0,GP24,0) -> 0 | GU24: 75 | GV24: 106 | GW24: 144 | GX24: 144 | GY24: =GQ24*GU24 -> 75 | GZ24: =GR24*GV24 -> 0 | HA24: =GS24*GW24 -> 0 | HB24: =GT24*GX24 -> 0 | HC24: =SUM(GY24:HB24) -> 75 | HD24: =IF(GL24=40,HC24*2,IF(GL24=20,HC24)) -> FALSE | HM24: |* | HO24: | | HP24: =IF(HS24="D",0,1) -> 1 | HQ24: | | HS24: =T(D24:D24) | HU24: | | HV24: =(+F29-D29-1)*3 -> -3 | HW24: | | HX24: =IF(E29<TIME(7,0,0),4,IF(AND(E29>=TIME(7,0,0),+E29<TIME(15,0,0)),3,IF(AND(E29>=TIME(15,0,0),+E29<TIME(23,0,0)),2,1))) -> 4 | HY24: | | HZ24: =IF(G29<=TIME(7,0,0),0,IF(AND(G29>TIME(7,0,0),+G29<=TIME(15,0,0)),1,IF(AND(G29>TIME(15,0,0),+G29<=TIME(23,0,0)),2,3))) -> 0 | IA24: | | IJ24: | | IK24: =DATE(97,2,28) -> 35489 | IL24: |
B25: =' Calculator'!B17 -> 0 | D25: =' Calculator'!D17 -> 0 | E25: =' Calculator'!E17 -> 0 | F25: =' Calculator'!F17 -> 0 | G25: =' Calculator'!G17 -> 0 | H25: =' Calculator'!C17 -> 0 | J25: =IF(HP20=0,0,+HV20+HX20+HZ20) -> 1 | K25: =(F25-D25)+1 -> 1 | M25: =IF(H25<>40,$GZ$2*J25,(($HA$2*1)*J25))*1 -> 18.35 | N25: =IF(H25=20,U25,V25) -> 23.87 | O25: =HD19 -> FALSE | P25: =B25 -> 0 | U25: =IF(K25<10,K25*11.88,IF(K25<16,(10*11.88)+(K25-10)*15.77,((10*11.88)+(5*15.77)+(K25-15)*23.87))) -> 11.88 | V25: =IF(K25<10,K25*23.87,IF(K25<16,(10*23.87)+(K25-10)*31.75,((10*23.87)+(5*31.75)+(K25-15)*47.52))) -> 23.87 | FE25: =D31 -> 0 | FF25: 0 | FG25: =FE25+FF25 -> 0 | FH25: =FG25 -> 0 | FI25: =F31 -> 0 | FJ25: =FI25-FH25 -> 0 | FK25: =H31 -> 0 | FL25: =IF(FJ25<7,FJ25,10) -> 0 | FM25: =IF(FJ25>15,5,FJ25-10) -> -10 | FN25: =FJ25-15 -> -15 | FO25: =IF(FL25>0,FL25,0) -> 0 | FP25: =IF(FM25>0,FM25,0) -> 0 | FQ25: =IF(FN25>0,FN25,0) -> 0 | FR25: 11.25 | FS25: 15 | FT25: 22.5 | FU25: =IF(FK25=20,$FF$2*FO25,IF(FK25=40,$FF$3*FO25,"wrong size")) -> wrong size | FV25: =IF(FK25=20,$FG$2*FP25,IF(FK25=40,$FG$3*FP25,"wrong size")) -> wrong size | FW25: =IF(FK25=20,$FH$2*FQ25,IF(FK25=40,$FH$3*FQ25,"wrong size")) -> wrong size | FX25: =SUM(FU25:FW25) -> 0 | FY25: =IF(FK25=40,FX25*2,IF(FK25=20,FX25)) -> FALSE | GF25: =L31 -> 0 | GG25: =S31 -> 0 | GH25: =GF25+GG25 -> 0 | GI25: =GH25 -> 0 | GJ25: =D31 -> 0 | GK25: =GJ25-GI25+1 -> 1 | GL25: =H31 -> 0 | GM25: =IF(GK25<7,GK25,7) -> 1 | GN25: =IF(GK25>14,7,GK25-7) -> -6 | GO25: =IF(GK25>21,7,GK25-14) -> -13 | GP25: =GK25-21 -> -20 | GQ25: =IF(GM25>0,GM25,0) -> 1 | GR25: =IF(GN25>0,GN25,0) -> 0 | GS25: =IF(GO25>0,GO25,0) -> 0 | GT25: =IF(GP25>0,GP25,0) -> 0 | GU25: 75 | GV25: 106 | GW25: 144 | GX25: 144 | GY25: =GQ25*GU25 -> 75 | GZ25: =GR25*GV25 -> 0 | HA25: =GS25*GW25 -> 0 | HB25: =GT25*GX25 -> 0 | HC25: =SUM(GY25:HB25) -> 75 | HD25: =IF(GL25=40,HC25*2,IF(GL25=20,HC25)) -> FALSE | HM25: |* | HO25: | | HP25: =IF(HS25="D",0,1) -> 1 | HQ25: | | HS25: =T(D25:D25) | HU25: | | HV25: =(+F30-D30-1)*3 -> -3 | HW25: | | HX25: =IF(E30<TIME(7,0,0),4,IF(AND(E30>=TIME(7,0,0),+E30<TIME(15,0,0)),3,IF(AND(E30>=TIME(15,0,0),+E30<TIME(23,0,0)),2,1))) -> 4 | HY25: | | HZ25: =IF(G30<=TIME(7,0,0),0,IF(AND(G30>TIME(7,0,0),+G30<=TIME(15,0,0)),1,IF(AND(G30>TIME(15,0,0),+G30<=TIME(23,0,0)),2,3))) -> 0 | IA25: | | IJ25: | | IK25: =DATE(97,2,28) -> 35489 | IL25: |
B26: =' Calculator'!B18 -> 0 | D26: =' Calculator'!D18 -> 0 | E26: =' Calculator'!E18 -> 0 | F26: =' Calculator'!F18 -> 0 | G26: =' Calculator'!G18 -> 0 | H26: =' Calculator'!C18 -> 0 | J26: =IF(HP21=0,0,+HV21+HX21+HZ21) -> 1 | K26: =(F26-D26)+1 -> 1 | M26: =IF(H26<>40,$GZ$2*J26,(($HA$2*1)*J26))*1 -> 18.35 | N26: =IF(H26=20,U26,V26) -> 23.87 | O26: =HD20 -> FALSE | P26: =B26 -> 0 | U26: =IF(K26<10,K26*11.88,IF(K26<16,(10*11.88)+(K26-10)*15.77,((10*11.88)+(5*15.77)+(K26-15)*23.87))) -> 11.88 | V26: =IF(K26<10,K26*23.87,IF(K26<16,(10*23.87)+(K26-10)*31.75,((10*23.87)+(5*31.75)+(K26-15)*47.52))) -> 23.87 | FE26: =D32 -> 0 | FF26: 0 | FG26: =FE26+FF26 -> 0 | FH26: =FG26 -> 0 | FI26: =F32 -> 0 | FJ26: =FI26-FH26 -> 0 | FK26: =H32 -> 0 | FL26: =IF(FJ26<7,FJ26,10) -> 0 | FM26: =IF(FJ26>15,5,FJ26-10) -> -10 | FN26: =FJ26-15 -> -15 | FO26: =IF(FL26>0,FL26,0) -> 0 | FP26: =IF(FM26>0,FM26,0) -> 0 | FQ26: =IF(FN26>0,FN26,0) -> 0 | FR26: 11.25 | FS26: 15 | FT26: 22.5 | FU26: =IF(FK26=20,$FF$2*FO26,IF(FK26=40,$FF$3*FO26,"wrong size")) -> wrong size | FV26: =IF(FK26=20,$FG$2*FP26,IF(FK26=40,$FG$3*FP26,"wrong size")) -> wrong size | FW26: =IF(FK26=20,$FH$2*FQ26,IF(FK26=40,$FH$3*FQ26,"wrong size")) -> wrong size | FX26: =SUM(FU26:FW26) -> 0 | FY26: =IF(FK26=40,FX26*2,IF(FK26=20,FX26)) -> FALSE | GF26: =L32 -> 0 | GG26: =S32 -> 0 | GH26: =GF26+GG26 -> 0 | GI26: =GH26 -> 0 | GJ26: =D32 -> 0 | GK26: =GJ26-GI26+1 -> 1 | GL26: =H32 -> 0 | GM26: =IF(GK26<7,GK26,7) -> 1 | GN26: =IF(GK26>14,7,GK26-7) -> -6 | GO26: =IF(GK26>21,7,GK26-14) -> -13 | GP26: =GK26-21 -> -20 | GQ26: =IF(GM26>0,GM26,0) -> 1 | GR26: =IF(GN26>0,GN26,0) -> 0 | GS26: =IF(GO26>0,GO26,0) -> 0 | GT26: =IF(GP26>0,GP26,0) -> 0 | GU26: 75 | GV26: 106 | GW26: 144 | GX26: 144 | GY26: =GQ26*GU26 -> 75 | GZ26: =GR26*GV26 -> 0 | HA26: =GS26*GW26 -> 0 | HB26: =GT26*GX26 -> 0 | HC26: =SUM(GY26:HB26) -> 75 | HD26: =IF(GL26=40,HC26*2,IF(GL26=20,HC26)) -> FALSE | HM26: |* | HO26: | | HP26: =IF(HS26="D",0,1) -> 1 | HQ26: | | HS26: =T(D26:D26) | HU26: | | HV26: =(+F31-D31-1)*3 -> -3 | HW26: | | HX26: =IF(E31<TIME(7,0,0),4,IF(AND(E31>=TIME(7,0,0),+E31<TIME(15,0,0)),3,IF(AND(E31>=TIME(15,0,0),+E31<TIME(23,0,0)),2,1))) -> 4 | HY26: | | HZ26: =IF(G31<=TIME(7,0,0),0,IF(AND(G31>TIME(7,0,0),+G31<=TIME(15,0,0)),1,IF(AND(G31>TIME(15,0,0),+G31<=TIME(23,0,0)),2,3))) -> 0 | IA26: | | IJ26: | | IK26: =DATE(97,2,28) -> 35489 | IL26: |
B27: =' Calculator'!B19 -> 0 | D27: =' Calculator'!D19 -> 0 | E27: =' Calculator'!E19 -> 0 | F27: =' Calculator'!F19 -> 0 | G27: =' Calculator'!G19 -> 0 | H27: =' Calculator'!C19 -> 0 | J27: =IF(HP22=0,0,+HV22+HX22+HZ22) -> 1 | K27: =(F27-D27)+1 -> 1 | M27: =IF(H27<>40,$GZ$2*J27,(($HA$2*1)*J27))*1 -> 18.35 | N27: =IF(H27=20,U27,V27) -> 23.87 | O27: =HD21 -> FALSE | P27: =B27 -> 0 | U27: =IF(K27<10,K27*11.88,IF(K27<16,(10*11.88)+(K27-10)*15.77,((10*11.88)+(5*15.77)+(K27-15)*23.87))) -> 11.88 | V27: =IF(K27<10,K27*23.87,IF(K27<16,(10*23.87)+(K27-10)*31.75,((10*23.87)+(5*31.75)+(K27-15)*47.52))) -> 23.87 | FE27: =D33 -> 0 | FF27: 0 | FG27: =FE27+FF27 -> 0 | FH27: =FG27 -> 0 | FI27: =F33 -> 0 | FJ27: =FI27-FH27 -> 0 | FK27: =H33 -> 0 | FL27: =IF(FJ27<7,FJ27,10) -> 0 | FM27: =IF(FJ27>15,5,FJ27-10) -> -10 | FN27: =FJ27-15 -> -15 | FO27: =IF(FL27>0,FL27,0) -> 0 | FP27: =IF(FM27>0,FM27,0) -> 0 | FQ27: =IF(FN27>0,FN27,0) -> 0 | FR27: 11.25 | FS27: 15 | FT27: 22.5 | FU27: =IF(FK27=20,$FF$2*FO27,IF(FK27=40,$FF$3*FO27,"wrong size")) -> wrong size | FV27: =IF(FK27=20,$FG$2*FP27,IF(FK27=40,$FG$3*FP27,"wrong size")) -> wrong size | FW27: =IF(FK27=20,$FH$2*FQ27,IF(FK27=40,$FH$3*FQ27,"wrong size")) -> wrong size | FX27: =SUM(FU27:FW27) -> 0 | FY27: =IF(FK27=40,FX27*2,IF(FK27=20,FX27)) -> FALSE | GF27: =L33 -> 0 | GG27: =S33 -> 0 | GH27: =GF27+GG27 -> 0 | GI27: =GH27 -> 0 | GJ27: =D33 -> 0 | GK27: =GJ27-GI27+1 -> 1 | GL27: =H33 -> 0 | GM27: =IF(GK27<7,GK27,7) -> 1 | GN27: =IF(GK27>14,7,GK27-7) -> -6 | GO27: =IF(GK27>21,7,GK27-14) -> -13 | GP27: =GK27-21 -> -20 | GQ27: =IF(GM27>0,GM27,0) -> 1 | GR27: =IF(GN27>0,GN27,0) -> 0 | GS27: =IF(GO27>0,GO27,0) -> 0 | GT27: =IF(GP27>0,GP27,0) -> 0 | GU27: 75 | GV27: 106 | GW27: 144 | GX27: 144 | GY27: =GQ27*GU27 -> 75 | GZ27: =GR27*GV27 -> 0 | HA27: =GS27*GW27 -> 0 | HB27: =GT27*GX27 -> 0 | HC27: =SUM(GY27:HB27) -> 75 | HD27: =IF(GL27=40,HC27*2,IF(GL27=20,HC27)) -> FALSE | HM27: |* | HO27: | | HP27: =IF(HS27="D",0,1) -> 1 | HQ27: | | HS27: =T(D27:D27) | HU27: | | HV27: =(+F32-D32-1)*3 -> -3 | HW27: | | HX27: =IF(E32<TIME(7,0,0),4,IF(AND(E32>=TIME(7,0,0),+E32<TIME(15,0,0)),3,IF(AND(E32>=TIME(15,0,0),+E32<TIME(23,0,0)),2,1))) -> 4 | HY27: | | HZ27: =IF(G32<=TIME(7,0,0),0,IF(AND(G32>TIME(7,0,0),+G32<=TIME(15,0,0)),1,IF(AND(G32>TIME(15,0,0),+G32<=TIME(23,0,0)),2,3))) -> 0 | IA27: | | IJ27: | | IK27: =DATE(97,2,28) -> 35489 | IL27: |
B28: =' Calculator'!B20 -> 0 | D28: =' Calculator'!D20 -> 0 | E28: =' Calculator'!E20 -> 0 | F28: =' Calculator'!F20 -> 0 | G28: =' Calculator'!G20 -> 0 | H28: =' Calculator'!C20 -> 0 | J28: =IF(HP23=0,0,+HV23+HX23+HZ23) -> 1 | K28: =(F28-D28)+1 -> 1 | M28: =IF(H28<>40,$GZ$2*J28,(($HA$2*1)*J28))*1 -> 18.35 | N28: =IF(H28=20,U28,V28) -> 23.87 | O28: =HD22 -> FALSE | P28: =B28 -> 0 | U28: =IF(K28<10,K28*11.88,IF(K28<16,(10*11.88)+(K28-10)*15.77,((10*11.88)+(5*15.77)+(K28-15)*23.87))) -> 11.88 | V28: =IF(K28<10,K28*23.87,IF(K28<16,(10*23.87)+(K28-10)*31.75,((10*23.87)+(5*31.75)+(K28-15)*47.52))) -> 23.87 | FE28: =D34 -> 0 | FF28: 0 | FG28: =FE28+FF28 -> 0 | FH28: =FG28 -> 0 | FI28: =F34 -> 0 | FJ28: =FI28-FH28 -> 0 | FK28: =H34 -> 0 | FL28: =IF(FJ28<7,FJ28,10) -> 0 | FM28: =IF(FJ28>15,5,FJ28-10) -> -10 | FN28: =FJ28-15 -> -15 | FO28: =IF(FL28>0,FL28,0) -> 0 | FP28: =IF(FM28>0,FM28,0) -> 0 | FQ28: =IF(FN28>0,FN28,0) -> 0 | FR28: 11.25 | FS28: 15 | FT28: 22.5 | FU28: =IF(FK28=20,$FF$2*FO28,IF(FK28=40,$FF$3*FO28,"wrong size")) -> wrong size | FV28: =IF(FK28=20,$FG$2*FP28,IF(FK28=40,$FG$3*FP28,"wrong size")) -> wrong size | FW28: =IF(FK28=20,$FH$2*FQ28,IF(FK28=40,$FH$3*FQ28,"wrong size")) -> wrong size | FX28: =SUM(FU28:FW28) -> 0 | FY28: =IF(FK28=40,FX28*2,IF(FK28=20,FX28)) -> FALSE | GF28: =L34 -> 0 | GG28: =S34 -> 0 | GH28: =GF28+GG28 -> 0 | GI28: =GH28 -> 0 | GJ28: =D34 -> 0 | GK28: =GJ28-GI28+1 -> 1 | GL28: =H34 -> 0 | GM28: =IF(GK28<7,GK28,7) -> 1 | GN28: =IF(GK28>14,7,GK28-7) -> -6 | GO28: =IF(GK28>21,7,GK28-14) -> -13 | GP28: =GK28-21 -> -20 | GQ28: =IF(GM28>0,GM28,0) -> 1 | GR28: =IF(GN28>0,GN28,0) -> 0 | GS28: =IF(GO28>0,GO28,0) -> 0 | GT28: =IF(GP28>0,GP28,0) -> 0 | GU28: 75 | GV28: 106 | GW28: 144 | GX28: 144 | GY28: =GQ28*GU28 -> 75 | GZ28: =GR28*GV28 -> 0 | HA28: =GS28*GW28 -> 0 | HB28: =GT28*GX28 -> 0 | HC28: =SUM(GY28:HB28) -> 75 | HD28: =IF(GL28=40,HC28*2,IF(GL28=20,HC28)) -> FALSE | HM28: |* | HO28: | | HP28: =IF(HS28="D",0,1) -> 1 | HQ28: | | HS28: =T(D28:D28) | HU28: | | HV28: =(+F33-D33-1)*3 -> -3 | HW28: | | HX28: =IF(E33<TIME(7,0,0),4,IF(AND(E33>=TIME(7,0,0),+E33<TIME(15,0,0)),3,IF(AND(E33>=TIME(15,0,0),+E33<TIME(23,0,0)),2,1))) -> 4 | HY28: | | HZ28: =IF(G33<=TIME(7,0,0),0,IF(AND(G33>TIME(7,0,0),+G33<=TIME(15,0,0)),1,IF(AND(G33>TIME(15,0,0),+G33<=TIME(23,0,0)),2,3))) -> 0 | IA28: | | IJ28: | | IK28: =DATE(97,2,28) -> 35489 | IL28: |
B29: =' Calculator'!B21 -> 0 | D29: =' Calculator'!D21 -> 0 | E29: =' Calculator'!E21 -> 0 | F29: =' Calculator'!F21 -> 0 | G29: =' Calculator'!G21 -> 0 | H29: =' Calculator'!C21 -> 0 | J29: =IF(HP24=0,0,+HV24+HX24+HZ24) -> 1 | K29: =(F29-D29)+1 -> 1 | M29: =IF(H29<>40,$GZ$2*J29,(($HA$2*1)*J29))*1 -> 18.35 | N29: =IF(H29=20,U29,V29) -> 23.87 | O29: =HD23 -> FALSE | P29: =B29 -> 0 | U29: =IF(K29<10,K29*11.88,IF(K29<16,(10*11.88)+(K29-10)*15.77,((10*11.88)+(5*15.77)+(K29-15)*23.87))) -> 11.88 | V29: =IF(K29<10,K29*23.87,IF(K29<16,(10*23.87)+(K29-10)*31.75,((10*23.87)+(5*31.75)+(K29-15)*47.52))) -> 23.87 | FE29: =D35 -> 0 | FF29: 0 | FG29: =FE29+FF29 -> 0 | FH29: =FG29 -> 0 | FI29: =F35 -> 0 | FJ29: =FI29-FH29 -> 0 | FK29: =H35 -> 0 | FL29: =IF(FJ29<7,FJ29,10) -> 0 | FM29: =IF(FJ29>15,5,FJ29-10) -> -10 | FN29: =FJ29-15 -> -15 | FO29: =IF(FL29>0,FL29,0) -> 0 | FP29: =IF(FM29>0,FM29,0) -> 0 | FQ29: =IF(FN29>0,FN29,0) -> 0 | FR29: 11.25 | FS29: 15 | FT29: 22.5 | FU29: =IF(FK29=20,$FF$2*FO29,IF(FK29=40,$FF$3*FO29,"wrong size")) -> wrong size | FV29: =IF(FK29=20,$FG$2*FP29,IF(FK29=40,$FG$3*FP29,"wrong size")) -> wrong size | FW29: =IF(FK29=20,$FH$2*FQ29,IF(FK29=40,$FH$3*FQ29,"wrong size")) -> wrong size | FX29: =SUM(FU29:FW29) -> 0 | FY29: =IF(FK29=40,FX29*2,IF(FK29=20,FX29)) -> FALSE | GF29: =L35 -> 0 | GG29: =S35 -> 0 | GH29: =GF29+GG29 -> 0 | GI29: =GH29 -> 0 | GJ29: =D35 -> 0 | GK29: =GJ29-GI29+1 -> 1 | GL29: =H35 -> 0 | GM29: =IF(GK29<7,GK29,7) -> 1 | GN29: =IF(GK29>14,7,GK29-7) -> -6 | GO29: =IF(GK29>21,7,GK29-14) -> -13 | GP29: =GK29-21 -> -20 | GQ29: =IF(GM29>0,GM29,0) -> 1 | GR29: =IF(GN29>0,GN29,0) -> 0 | GS29: =IF(GO29>0,GO29,0) -> 0 | GT29: =IF(GP29>0,GP29,0) -> 0 | GU29: 75 | GV29: 106 | GW29: 144 | GX29: 144 | GY29: =GQ29*GU29 -> 75 | GZ29: =GR29*GV29 -> 0 | HA29: =GS29*GW29 -> 0 | HB29: =GT29*GX29 -> 0 | HC29: =SUM(GY29:HB29) -> 75 | HD29: =IF(GL29=40,HC29*2,IF(GL29=20,HC29)) -> FALSE | HM29: |* | HO29: | | HP29: =IF(HS29="D",0,1) -> 1 | HQ29: | | HS29: =T(D29:D29) | HU29: | | HV29: =(+F34-D34-1)*3 -> -3 | HW29: | | HX29: =IF(E34<TIME(7,0,0),4,IF(AND(E34>=TIME(7,0,0),+E34<TIME(15,0,0)),3,IF(AND(E34>=TIME(15,0,0),+E34<TIME(23,0,0)),2,1))) -> 4 | HY29: | | HZ29: =IF(G34<=TIME(7,0,0),0,IF(AND(G34>TIME(7,0,0),+G34<=TIME(15,0,0)),1,IF(AND(G34>TIME(15,0,0),+G34<=TIME(23,0,0)),2,3))) -> 0 | IA29: | | IJ29: | | IK29: =DATE(97,2,28) -> 35489 | IL29: |
J30: =IF(HP25=0,0,+HV25+HX25+HZ25) -> 1 | K30: =(F30-D30)+1 -> 1 | M30: =IF(H30<>40,$GZ$2*J30,(($HA$2*1)*J30))*1 -> 18.35 | N30: =IF(H30=20,U30,V30) -> 23.87 | O30: =HD24 -> FALSE | P30: =B30 -> 0 | U30: =IF(K30<10,K30*11.88,IF(K30<16,(10*11.88)+(K30-10)*15.77,((10*11.88)+(5*15.77)+(K30-15)*23.87))) -> 11.88 | V30: =IF(K30<10,K30*23.87,IF(K30<16,(10*23.87)+(K30-10)*31.75,((10*23.87)+(5*31.75)+(K30-15)*47.52))) -> 23.87 | FE30: =D36 -> 0 | FF30: 0 | FG30: =FE30+FF30 -> 0 | FH30: =FG30 -> 0 | FI30: =F36 -> 0 | FJ30: =FI30-FH30 -> 0 | FK30: =H36 -> 0 | FL30: =IF(FJ30<7,FJ30,10) -> 0 | FM30: =IF(FJ30>15,5,FJ30-10) -> -10 | FN30: =FJ30-15 -> -15 | FO30: =IF(FL30>0,FL30,0) -> 0 | FP30: =IF(FM30>0,FM30,0) -> 0 | FQ30: =IF(FN30>0,FN30,0) -> 0 | FR30: 11.25 | FS30: 15 | FT30: 22.5 | FU30: =IF(FK30=20,$FF$2*FO30,IF(FK30=40,$FF$3*FO30,"wrong size")) -> wrong size | FV30: =IF(FK30=20,$FG$2*FP30,IF(FK30=40,$FG$3*FP30,"wrong size")) -> wrong size | FW30: =IF(FK30=20,$FH$2*FQ30,IF(FK30=40,$FH$3*FQ30,"wrong size")) -> wrong size | FX30: =SUM(FU30:FW30) -> 0 | FY30: =IF(FK30=40,FX30*2,IF(FK30=20,FX30)) -> FALSE | GF30: =L36 -> 0 | GG30: =S36 -> 0 | GH30: =GF30+GG30 -> 0 | GI30: =GH30 -> 0 | GJ30: =D36 -> 0 | GK30: =GJ30-GI30+1 -> 1 | GL30: =H36 -> 0 | GM30: =IF(GK30<7,GK30,7) -> 1 | GN30: =IF(GK30>14,7,GK30-7) -> -6 | GO30: =IF(GK30>21,7,GK30-14) -> -13 | GP30: =GK30-21 -> -20 | GQ30: =IF(GM30>0,GM30,0) -> 1 | GR30: =IF(GN30>0,GN30,0) -> 0 | GS30: =IF(GO30>0,GO30,0) -> 0 | GT30: =IF(GP30>0,GP30,0) -> 0 | GU30: 75 | GV30: 106 | GW30: 144 | GX30: 144 | GY30: =GQ30*GU30 -> 75 | GZ30: =GR30*GV30 -> 0 | HA30: =GS30*GW30 -> 0 | HB30: =GT30*GX30 -> 0 | HC30: =SUM(GY30:HB30) -> 75 | HD30: =IF(GL30=40,HC30*2,IF(GL30=20,HC30)) -> FALSE | HM30: |* | HO30: | | HP30: =IF(HS30="D",0,1) -> 1 | HQ30: | | HS30: =T(D30:D30) | HU30: | | HV30: =(+F35-D35-1)*3 -> -3 | HW30: | | HX30: =IF(E35<TIME(7,0,0),4,IF(AND(E35>=TIME(7,0,0),+E35<TIME(15,0,0)),3,IF(AND(E35>=TIME(15,0,0),+E35<TIME(23,0,0)),2,1))) -> 4 | HY30: | | HZ30: =IF(G35<=TIME(7,0,0),0,IF(AND(G35>TIME(7,0,0),+G35<=TIME(15,0,0)),1,IF(AND(G35>TIME(15,0,0),+G35<=TIME(23,0,0)),2,3))) -> 0 | IA30: | | IJ30: | | IK30: =DATE(97,2,28) -> 35489 | IL30: |
A31: 1 | J31: =IF(HP26=0,0,+HV26+HX26+HZ26) -> 1 | K31: =(F31-D31)+1 -> 1 | M31: =IF(H31<>40,$GZ$2*J31,(($HA$2*1)*J31))*1 -> 18.35 | N31: =IF(H31=20,U31,V31) -> 23.87 | O31: =HD25 -> FALSE | P31: =B31 -> 0 | U31: =IF(K31<10,K31*11.88,IF(K31<16,(10*11.88)+(K31-10)*15.77,((10*11.88)+(5*15.77)+(K31-15)*23.87))) -> 11.88 | V31: =IF(K31<10,K31*23.87,IF(K31<16,(10*23.87)+(K31-10)*31.75,((10*23.87)+(5*31.75)+(K31-15)*47.52))) -> 23.87 | FE31: =D37 -> 0 | FF31: 0 | FG31: =FE31+FF31 -> 0 | FH31: =FG31 -> 0 | FI31: =F37 -> 0 | FJ31: =FI31-FH31 -> 0 | FK31: =H37 -> 0 | FL31: =IF(FJ31<7,FJ31,10) -> 0 | FM31: =IF(FJ31>15,5,FJ31-10) -> -10 | FN31: =FJ31-15 -> -15 | FO31: =IF(FL31>0,FL31,0) -> 0 | FP31: =IF(FM31>0,FM31,0) -> 0 | FQ31: =IF(FN31>0,FN31,0) -> 0 | FR31: 11.25 | FS31: 15 | FT31: 22.5 | FU31: =IF(FK31=20,$FF$2*FO31,IF(FK31=40,$FF$3*FO31,"wrong size")) -> wrong size | FV31: =IF(FK31=20,$FG$2*FP31,IF(FK31=40,$FG$3*FP31,"wrong size")) -> wrong size | FW31: =IF(FK31=20,$FH$2*FQ31,IF(FK31=40,$FH$3*FQ31,"wrong size")) -> wrong size | FX31: =SUM(FU31:FW31) -> 0 | FY31: =IF(FK31=40,FX31*2,IF(FK31=20,FX31)) -> FALSE | GF31: =L37 -> 0 | GG31: =S37 -> 0 | GH31: =GF31+GG31 -> 0 | GI31: =GH31 -> 0 | GJ31: =D37 -> 0 | GK31: =GJ31-GI31+1 -> 1 | GL31: =H37 -> 0 | GM31: =IF(GK31<7,GK31,7) -> 1 | GN31: =IF(GK31>14,7,GK31-7) -> -6 | GO31: =IF(GK31>21,7,GK31-14) -> -13 | GP31: =GK31-21 -> -20 | GQ31: =IF(GM31>0,GM31,0) -> 1 | GR31: =IF(GN31>0,GN31,0) -> 0 | GS31: =IF(GO31>0,GO31,0) -> 0 | GT31: =IF(GP31>0,GP31,0) -> 0 | GU31: 75 | GV31: 106 | GW31: 144 | GX31: 144 | GY31: =GQ31*GU31 -> 75 | GZ31: =GR31*GV31 -> 0 | HA31: =GS31*GW31 -> 0 | HB31: =GT31*GX31 -> 0 | HC31: =SUM(GY31:HB31) -> 75 | HD31: =IF(GL31=40,HC31*2,IF(GL31=20,HC31)) -> FALSE | HM31: |* | HO31: | | HP31: =IF(HS31="D",0,1) -> 1 | HQ31: | | HS31: =T(D31:D31) | HU31: | | HV31: =(+F36-D36-1)*3 -> -3 | HW31: | | HX31: =IF(E36<TIME(7,0,0),4,IF(AND(E36>=TIME(7,0,0),+E36<TIME(15,0,0)),3,IF(AND(E36>=TIME(15,0,0),+E36<TIME(23,0,0)),2,1))) -> 4 | HY31: | | HZ31: =IF(G36<=TIME(7,0,0),0,IF(AND(G36>TIME(7,0,0),+G36<=TIME(15,0,0)),1,IF(AND(G36>TIME(15,0,0),+G36<=TIME(23,0,0)),2,3))) -> 0 | IA31: | | IJ31: | | IK31: =DATE(97,2,28) -> 35489 | IL31: |
A32: 1 | J32: =IF(HP27=0,0,+HV27+HX27+HZ27) -> 1 | K32: =(F32-D32)+1 -> 1 | M32: =IF(H32<>40,$GZ$2*J32,(($HA$2*1)*J32))*1 -> 18.35 | N32: =IF(H32=20,U32,V32) -> 23.87 | O32: =HD26 -> FALSE | P32: =B32 -> 0 | U32: =IF(K32<10,K32*11.88,IF(K32<16,(10*11.88)+(K32-10)*15.77,((10*11.88)+(5*15.77)+(K32-15)*23.87))) -> 11.88 | V32: =IF(K32<10,K32*23.87,IF(K32<16,(10*23.87)+(K32-10)*31.75,((10*23.87)+(5*31.75)+(K32-15)*47.52))) -> 23.87 | FE32: =D38 -> 0 | FF32: 0 | FG32: =FE32+FF32 -> 0 | FH32: =FG32 -> 0 | FI32: =F38 -> 0 | FJ32: =FI32-FH32 -> 0 | FK32: =H38 -> 0 | FL32: =IF(FJ32<7,FJ32,10) -> 0 | FM32: =IF(FJ32>15,5,FJ32-10) -> -10 | FN32: =FJ32-15 -> -15 | FO32: =IF(FL32>0,FL32,0) -> 0 | FP32: =IF(FM32>0,FM32,0) -> 0 | FQ32: =IF(FN32>0,FN32,0) -> 0 | FR32: 11.25 | FS32: 15 | FT32: 22.5 | FU32: =IF(FK32=20,$FF$2*FO32,IF(FK32=40,$FF$3*FO32,"wrong size")) -> wrong size | FV32: =IF(FK32=20,$FG$2*FP32,IF(FK32=40,$FG$3*FP32,"wrong size")) -> wrong size | FW32: =IF(FK32=20,$FH$2*FQ32,IF(FK32=40,$FH$3*FQ32,"wrong size")) -> wrong size | FX32: =SUM(FU32:FW32) -> 0 | FY32: =IF(FK32=40,FX32*2,IF(FK32=20,FX32)) -> FALSE | GF32: =L38 -> 0 | GG32: =S38 -> 0 | GH32: =GF32+GG32 -> 0 | GI32: =GH32 -> 0 | GJ32: =D38 -> 0 | GK32: =GJ32-GI32+1 -> 1 | GL32: =H38 -> 0 | GM32: =IF(GK32<7,GK32,7) -> 1 | GN32: =IF(GK32>14,7,GK32-7) -> -6 | GO32: =IF(GK32>21,7,GK32-14) -> -13 | GP32: =GK32-21 -> -20 | GQ32: =IF(GM32>0,GM32,0) -> 1 | GR32: =IF(GN32>0,GN32,0) -> 0 | GS32: =IF(GO32>0,GO32,0) -> 0 | GT32: =IF(GP32>0,GP32,0) -> 0 | GU32: 75 | GV32: 106 | GW32: 144 | GX32: 144 | GY32: =GQ32*GU32 -> 75 | GZ32: =GR32*GV32 -> 0 | HA32: =GS32*GW32 -> 0 | HB32: =GT32*GX32 -> 0 | HC32: =SUM(GY32:HB32) -> 75 | HD32: =IF(GL32=40,HC32*2,IF(GL32=20,HC32)) -> FALSE | HM32: |* | HO32: | | HP32: =IF(HS32="D",0,1) -> 1 | HQ32: | | HS32: =T(D32:D32) | HU32: | | HV32: =(+F37-D37-1)*3 -> -3 | HW32: | | HX32: =IF(E37<TIME(7,0,0),4,IF(AND(E37>=TIME(7,0,0),+E37<TIME(15,0,0)),3,IF(AND(E37>=TIME(15,0,0),+E37<TIME(23,0,0)),2,1))) -> 4 | HY32: | | HZ32: =IF(G37<=TIME(7,0,0),0,IF(AND(G37>TIME(7,0,0),+G37<=TIME(15,0,0)),1,IF(AND(G37>TIME(15,0,0),+G37<=TIME(23,0,0)),2,3))) -> 0 | IA32: | | IJ32: | | IK32: =DATE(97,2,28) -> 35489 | IL32: |
A33: 1 | J33: =IF(HP28=0,0,+HV28+HX28+HZ28) -> 1 | K33: =(F33-D33)+1 -> 1 | M33: =IF(H33<>40,$GZ$2*J33,(($HA$2*1)*J33))*1 -> 18.35 | N33: =IF(H33=20,U33,V33) -> 23.87 | O33: =HD27 -> FALSE | P33: =B33 -> 0 | U33: =IF(K33<10,K33*11.88,IF(K33<16,(10*11.88)+(K33-10)*15.77,((10*11.88)+(5*15.77)+(K33-15)*23.87))) -> 11.88 | V33: =IF(K33<10,K33*23.87,IF(K33<16,(10*23.87)+(K33-10)*31.75,((10*23.87)+(5*31.75)+(K33-15)*47.52))) -> 23.87 | FE33: =D39 -> 0 | FF33: 0 | FG33: =FE33+FF33 -> 0 | FH33: =FG33 -> 0 | FI33: =F39 -> 0 | FJ33: =FI33-FH33 -> 0 | FK33: =H39 -> 0 | FL33: =IF(FJ33<7,FJ33,10) -> 0 | FM33: =IF(FJ33>15,5,FJ33-10) -> -10 | FN33: =FJ33-15 -> -15 | FO33: =IF(FL33>0,FL33,0) -> 0 | FP33: =IF(FM33>0,FM33,0) -> 0 | FQ33: =IF(FN33>0,FN33,0) -> 0 | FR33: 11.25 | FS33: 15 | FT33: 22.5 | FU33: =IF(FK33=20,$FF$2*FO33,IF(FK33=40,$FF$3*FO33,"wrong size")) -> wrong size | FV33: =IF(FK33=20,$FG$2*FP33,IF(FK33=40,$FG$3*FP33,"wrong size")) -> wrong size | FW33: =IF(FK33=20,$FH$2*FQ33,IF(FK33=40,$FH$3*FQ33,"wrong size")) -> wrong size | FX33: =SUM(FU33:FW33) -> 0 | FY33: =IF(FK33=40,FX33*2,IF(FK33=20,FX33)) -> FALSE | GF33: =L39 -> 0 | GG33: =S39 -> 0 | GH33: =GF33+GG33 -> 0 | GI33: =GH33 -> 0 | GJ33: =D39 -> 0 | GK33: =GJ33-GI33+1 -> 1 | GL33: =H39 -> 0 | GM33: =IF(GK33<7,GK33,7) -> 1 | GN33: =IF(GK33>14,7,GK33-7) -> -6 | GO33: =IF(GK33>21,7,GK33-14) -> -13 | GP33: =GK33-21 -> -20 | GQ33: =IF(GM33>0,GM33,0) -> 1 | GR33: =IF(GN33>0,GN33,0) -> 0 | GS33: =IF(GO33>0,GO33,0) -> 0 | GT33: =IF(GP33>0,GP33,0) -> 0 | GU33: 75 | GV33: 106 | GW33: 144 | GX33: 144 | GY33: =GQ33*GU33 -> 75 | GZ33: =GR33*GV33 -> 0 | HA33: =GS33*GW33 -> 0 | HB33: =GT33*GX33 -> 0 | HC33: =SUM(GY33:HB33) -> 75 | HD33: =IF(GL33=40,HC33*2,IF(GL33=20,HC33)) -> FALSE | HM33: |* | HO33: | | HP33: =IF(HS33="D",0,1) -> 1 | HQ33: | | HS33: =T(D33:D33) | HU33: | | HV33: =(+F38-D38-1)*3 -> -3 | HW33: | | HX33: =IF(E38<TIME(7,0,0),4,IF(AND(E38>=TIME(7,0,0),+E38<TIME(15,0,0)),3,IF(AND(E38>=TIME(15,0,0),+E38<TIME(23,0,0)),2,1))) -> 4 | HY33: | | HZ33: =IF(G38<=TIME(7,0,0),0,IF(AND(G38>TIME(7,0,0),+G38<=TIME(15,0,0)),1,IF(AND(G38>TIME(15,0,0),+G38<=TIME(23,0,0)),2,3))) -> 0 | IA33: | | IJ33: | | IK33: =DATE(97,2,28) -> 35489 | IL33: |
A34: 1 | J34: =IF(HP29=0,0,+HV29+HX29+HZ29) -> 1 | K34: =(F34-D34)+1 -> 1 | M34: =IF(H34<>40,$GZ$2*J34,(($HA$2*1)*J34))*1 -> 18.35 | N34: =IF(H34=20,U34,V34) -> 23.87 | O34: =HD28 -> FALSE | P34: =B34 -> 0 | U34: =IF(K34<10,K34*11.88,IF(K34<16,(10*11.88)+(K34-10)*15.77,((10*11.88)+(5*15.77)+(K34-15)*23.87))) -> 11.88 | V34: =IF(K34<10,K34*23.87,IF(K34<16,(10*23.87)+(K34-10)*31.75,((10*23.87)+(5*31.75)+(K34-15)*47.52))) -> 23.87 | FE34: =D40 -> 0 | FF34: 0 | FG34: =FE34+FF34 -> 0 | FH34: =FG34 -> 0 | FI34: =F40 -> 0 | FJ34: =FI34-FH34 -> 0 | FK34: =H40 -> 0 | FL34: =IF(FJ34<7,FJ34,10) -> 0 | FM34: =IF(FJ34>15,5,FJ34-10) -> -10 | FN34: =FJ34-15 -> -15 | FO34: =IF(FL34>0,FL34,0) -> 0 | FP34: =IF(FM34>0,FM34,0) -> 0 | FQ34: =IF(FN34>0,FN34,0) -> 0 | FR34: 11.25 | FS34: 15 | FT34: 22.5 | FU34: =IF(FK34=20,$FF$2*FO34,IF(FK34=40,$FF$3*FO34,"wrong size")) -> wrong size | FV34: =IF(FK34=20,$FG$2*FP34,IF(FK34=40,$FG$3*FP34,"wrong size")) -> wrong size | FW34: =IF(FK34=20,$FH$2*FQ34,IF(FK34=40,$FH$3*FQ34,"wrong size")) -> wrong size | FX34: =SUM(FU34:FW34) -> 0 | FY34: =IF(FK34=40,FX34*2,IF(FK34=20,FX34)) -> FALSE | GF34: =L40 -> 0 | GG34: =S40 -> 0 | GH34: =GF34+GG34 -> 0 | GI34: =GH34 -> 0 | GJ34: =D40 -> 0 | GK34: =GJ34-GI34+1 -> 1 | GL34: =H40 -> 0 | GM34: =IF(GK34<7,GK34,7) -> 1 | GN34: =IF(GK34>14,7,GK34-7) -> -6 | GO34: =IF(GK34>21,7,GK34-14) -> -13 | GP34: =GK34-21 -> -20 | GQ34: =IF(GM34>0,GM34,0) -> 1 | GR34: =IF(GN34>0,GN34,0) -> 0 | GS34: =IF(GO34>0,GO34,0) -> 0 | GT34: =IF(GP34>0,GP34,0) -> 0 | GU34: 75 | GV34: 106 | GW34: 144 | GX34: 144 | GY34: =GQ34*GU34 -> 75 | GZ34: =GR34*GV34 -> 0 | HA34: =GS34*GW34 -> 0 | HB34: =GT34*GX34 -> 0 | HC34: =SUM(GY34:HB34) -> 75 | HD34: =IF(GL34=40,HC34*2,IF(GL34=20,HC34)) -> FALSE | HM34: |* | HO34: | | HP34: =IF(HS34="D",0,1) -> 1 | HQ34: | | HS34: =T(D34:D34) | HU34: | | HV34: =(+F39-D39-1)*3 -> -3 | HW34: | | HX34: =IF(E39<TIME(7,0,0),4,IF(AND(E39>=TIME(7,0,0),+E39<TIME(15,0,0)),3,IF(AND(E39>=TIME(15,0,0),+E39<TIME(23,0,0)),2,1))) -> 4 | HY34: | | HZ34: =IF(G39<=TIME(7,0,0),0,IF(AND(G39>TIME(7,0,0),+G39<=TIME(15,0,0)),1,IF(AND(G39>TIME(15,0,0),+G39<=TIME(23,0,0)),2,3))) -> 0 | IA34: | | IJ34: | | IK34: =DATE(97,2,28) -> 35489 | IL34: |
A35: 1 | J35: =IF(HP30=0,0,+HV30+HX30+HZ30) -> 1 | K35: =(F35-D35)+1 -> 1 | M35: =IF(H35<>40,$GZ$2*J35,(($HA$2*1)*J35))*1 -> 18.35 | N35: =IF(H35=20,U35,V35) -> 23.87 | O35: =HD29 -> FALSE | P35: =B35 -> 0 | U35: =IF(K35<10,K35*11.88,IF(K35<16,(10*11.88)+(K35-10)*15.77,((10*11.88)+(5*15.77)+(K35-15)*23.87))) -> 11.88 | V35: =IF(K35<10,K35*23.87,IF(K35<16,(10*23.87)+(K35-10)*31.75,((10*23.87)+(5*31.75)+(K35-15)*47.52))) -> 23.87 | FE35: =D41 -> 0 | FF35: 0 | FG35: =FE35+FF35 -> 0 | FH35: =FG35 -> 0 | FI35: =F41 -> 0 | FJ35: =FI35-FH35 -> 0 | FK35: =H41 -> 0 | FL35: =IF(FJ35<7,FJ35,10) -> 0 | FM35: =IF(FJ35>15,5,FJ35-10) -> -10 | FN35: =FJ35-15 -> -15 | FO35: =IF(FL35>0,FL35,0) -> 0 | FP35: =IF(FM35>0,FM35,0) -> 0 | FQ35: =IF(FN35>0,FN35,0) -> 0 | FR35: 11.25 | FS35: 15 | FT35: 22.5 | FU35: =IF(FK35=20,$FF$2*FO35,IF(FK35=40,$FF$3*FO35,"wrong size")) -> wrong size | FV35: =IF(FK35=20,$FG$2*FP35,IF(FK35=40,$FG$3*FP35,"wrong size")) -> wrong size | FW35: =IF(FK35=20,$FH$2*FQ35,IF(FK35=40,$FH$3*FQ35,"wrong size")) -> wrong size | FX35: =SUM(FU35:FW35) -> 0 | FY35: =IF(FK35=40,FX35*2,IF(FK35=20,FX35)) -> FALSE | GF35: =L41 -> 0 | GG35: =S41 -> 0 | GH35: =GF35+GG35 -> 0 | GI35: =GH35 -> 0 | GJ35: =D41 -> 0 | GK35: =GJ35-GI35+1 -> 1 | GL35: =H41 -> 0 | GM35: =IF(GK35<7,GK35,7) -> 1 | GN35: =IF(GK35>14,7,GK35-7) -> -6 | GO35: =IF(GK35>21,7,GK35-14) -> -13 | GP35: =GK35-21 -> -20 | GQ35: =IF(GM35>0,GM35,0) -> 1 | GR35: =IF(GN35>0,GN35,0) -> 0 | GS35: =IF(GO35>0,GO35,0) -> 0 | GT35: =IF(GP35>0,GP35,0) -> 0 | GU35: 75 | GV35: 106 | GW35: 144 | GX35: 144 | GY35: =GQ35*GU35 -> 75 | GZ35: =GR35*GV35 -> 0 | HA35: =GS35*GW35 -> 0 | HB35: =GT35*GX35 -> 0 | HC35: =SUM(GY35:HB35) -> 75 | HD35: =IF(GL35=40,HC35*2,IF(GL35=20,HC35)) -> FALSE | HM35: |* | HO35: | | HP35: =IF(HS35="D",0,1) -> 1 | HQ35: | | HS35: =T(D35:D35) | HU35: | | HV35: =(+F40-D40-1)*3 -> -3 | HW35: | | HX35: =IF(E40<TIME(7,0,0),4,IF(AND(E40>=TIME(7,0,0),+E40<TIME(15,0,0)),3,IF(AND(E40>=TIME(15,0,0),+E40<TIME(23,0,0)),2,1))) -> 4 | HY35: | | HZ35: =IF(G40<=TIME(7,0,0),0,IF(AND(G40>TIME(7,0,0),+G40<=TIME(15,0,0)),1,IF(AND(G40>TIME(15,0,0),+G40<=TIME(23,0,0)),2,3))) -> 0 | IA35: | | IJ35: | | IK35: =DATE(97,2,28) -> 35489 | IL35: |
A36: 1 | J36: =IF(HP31=0,0,+HV31+HX31+HZ31) -> 1 | K36: =(F36-D36)+1 -> 1 | M36: =IF(H36<>40,$GZ$2*J36,(($HA$2*1)*J36))*1 -> 18.35 | N36: =IF(H36=20,U36,V36) -> 23.87 | O36: =HD30 -> FALSE | P36: =B36 -> 0 | U36: =IF(K36<10,K36*11.88,IF(K36<16,(10*11.88)+(K36-10)*15.77,((10*11.88)+(5*15.77)+(K36-15)*23.87))) -> 11.88 | V36: =IF(K36<10,K36*23.87,IF(K36<16,(10*23.87)+(K36-10)*31.75,((10*23.87)+(5*31.75)+(K36-15)*47.52))) -> 23.87 | FE36: =D42 -> 0 | FF36: 0 | FG36: =FE36+FF36 -> 0 | FH36: =FG36 -> 0 | FI36: =F42 -> 0 | FJ36: =FI36-FH36 -> 0 | FK36: =H42 -> 0 | FL36: =IF(FJ36<7,FJ36,10) -> 0 | FM36: =IF(FJ36>15,5,FJ36-10) -> -10 | FN36: =FJ36-15 -> -15 | FO36: =IF(FL36>0,FL36,0) -> 0 | FP36: =IF(FM36>0,FM36,0) -> 0 | FQ36: =IF(FN36>0,FN36,0) -> 0 | FR36: 11.25 | FS36: 15 | FT36: 22.5 | FU36: =IF(FK36=20,$FF$2*FO36,IF(FK36=40,$FF$3*FO36,"wrong size")) -> wrong size | FV36: =IF(FK36=20,$FG$2*FP36,IF(FK36=40,$FG$3*FP36,"wrong size")) -> wrong size | FW36: =IF(FK36=20,$FH$2*FQ36,IF(FK36=40,$FH$3*FQ36,"wrong size")) -> wrong size | FX36: =SUM(FU36:FW36) -> 0 | FY36: =IF(FK36=40,FX36*2,IF(FK36=20,FX36)) -> FALSE | GF36: =L42 -> 0 | GG36: =S42 -> 0 | GH36: =GF36+GG36 -> 0 | GI36: =GH36 -> 0 | GJ36: =D42 -> 0 | GK36: =GJ36-GI36+1 -> 1 | GL36: =H42 -> 0 | GM36: =IF(GK36<7,GK36,7) -> 1 | GN36: =IF(GK36>14,7,GK36-7) -> -6 | GO36: =IF(GK36>21,7,GK36-14) -> -13 | GP36: =GK36-21 -> -20 | GQ36: =IF(GM36>0,GM36,0) -> 1 | GR36: =IF(GN36>0,GN36,0) -> 0 | GS36: =IF(GO36>0,GO36,0) -> 0 | GT36: =IF(GP36>0,GP36,0) -> 0 | GU36: 75 | GV36: 106 | GW36: 144 | GX36: 144 | GY36: =GQ36*GU36 -> 75 | GZ36: =GR36*GV36 -> 0 | HA36: =GS36*GW36 -> 0 | HB36: =GT36*GX36 -> 0 | HC36: =SUM(GY36:HB36) -> 75 | HD36: =IF(GL36=40,HC36*2,IF(GL36=20,HC36)) -> FALSE | HM36: |* | HO36: | | HP36: =IF(HS36="D",0,1) -> 1 | HQ36: | | HS36: =T(D36:D36) | HU36: | | HV36: =(+F41-D41-1)*3 -> -3 | HW36: | | HX36: =IF(E41<TIME(7,0,0),4,IF(AND(E41>=TIME(7,0,0),+E41<TIME(15,0,0)),3,IF(AND(E41>=TIME(15,0,0),+E41<TIME(23,0,0)),2,1))) -> 4 | HY36: | | HZ36: =IF(G41<=TIME(7,0,0),0,IF(AND(G41>TIME(7,0,0),+G41<=TIME(15,0,0)),1,IF(AND(G41>TIME(15,0,0),+G41<=TIME(23,0,0)),2,3))) -> 0 | IA36: | | IJ36: | | IK36: =DATE(97,2,28) -> 35489 | IL36: |
A37: 1 | J37: =IF(HP32=0,0,+HV32+HX32+HZ32) -> 1 | K37: =(F37-D37)+1 -> 1 | M37: =IF(H37<>40,$GZ$2*J37,(($HA$2*1)*J37))*1 -> 18.35 | N37: =IF(H37=20,U37,V37) -> 23.87 | O37: =HD31 -> FALSE | P37: =B37 -> 0 | U37: =IF(K37<10,K37*11.88,IF(K37<16,(10*11.88)+(K37-10)*15.77,((10*11.88)+(5*15.77)+(K37-15)*23.87))) -> 11.88 | V37: =IF(K37<10,K37*23.87,IF(K37<16,(10*23.87)+(K37-10)*31.75,((10*23.87)+(5*31.75)+(K37-15)*47.52))) -> 23.87 | FE37: =D43 -> 0 | FF37: 0 | FG37: =FE37+FF37 -> 0 | FH37: =FG37 -> 0 | FI37: =F43 -> 0 | FJ37: =FI37-FH37 -> 0 | FK37: =H43 -> 0 | FL37: =IF(FJ37<7,FJ37,10) -> 0 | FM37: =IF(FJ37>15,5,FJ37-10) -> -10 | FN37: =FJ37-15 -> -15 | FO37: =IF(FL37>0,FL37,0) -> 0 | FP37: =IF(FM37>0,FM37,0) -> 0 | FQ37: =IF(FN37>0,FN37,0) -> 0 | FR37: 11.25 | FS37: 15 | FT37: 22.5 | FU37: =IF(FK37=20,$FF$2*FO37,IF(FK37=40,$FF$3*FO37,"wrong size")) -> wrong size | FV37: =IF(FK37=20,$FG$2*FP37,IF(FK37=40,$FG$3*FP37,"wrong size")) -> wrong size | FW37: =IF(FK37=20,$FH$2*FQ37,IF(FK37=40,$FH$3*FQ37,"wrong size")) -> wrong size | FX37: =SUM(FU37:FW37) -> 0 | FY37: =IF(FK37=40,FX37*2,IF(FK37=20,FX37)) -> FALSE | GF37: =L43 -> 0 | GG37: =S43 -> 0 | GH37: =GF37+GG37 -> 0 | GI37: =GH37 -> 0 | GJ37: =D43 -> 0 | GK37: =GJ37-GI37+1 -> 1 | GL37: =H43 -> 0 | GM37: =IF(GK37<7,GK37,7) -> 1 | GN37: =IF(GK37>14,7,GK37-7) -> -6 | GO37: =IF(GK37>21,7,GK37-14) -> -13 | GP37: =GK37-21 -> -20 | GQ37: =IF(GM37>0,GM37,0) -> 1 | GR37: =IF(GN37>0,GN37,0) -> 0 | GS37: =IF(GO37>0,GO37,0) -> 0 | GT37: =IF(GP37>0,GP37,0) -> 0 | GU37: 75 | GV37: 106 | GW37: 144 | GX37: 144 | GY37: =GQ37*GU37 -> 75 | GZ37: =GR37*GV37 -> 0 | HA37: =GS37*GW37 -> 0 | HB37: =GT37*GX37 -> 0 | HC37: =SUM(GY37:HB37) -> 75 | HD37: =IF(GL37=40,HC37*2,IF(GL37=20,HC37)) -> FALSE | HM37: |* | HO37: | | HP37: =IF(HS37="D",0,1) -> 1 | HQ37: | | HS37: =T(D37:D37) | HU37: | | HV37: =(+F42-D42-1)*3 -> -3 | HW37: | | HX37: =IF(E42<TIME(7,0,0),4,IF(AND(E42>=TIME(7,0,0),+E42<TIME(15,0,0)),3,IF(AND(E42>=TIME(15,0,0),+E42<TIME(23,0,0)),2,1))) -> 4 | HY37: | | HZ37: =IF(G42<=TIME(7,0,0),0,IF(AND(G42>TIME(7,0,0),+G42<=TIME(15,0,0)),1,IF(AND(G42>TIME(15,0,0),+G42<=TIME(23,0,0)),2,3))) -> 0 | IA37: | | IJ37: | | IK37: =DATE(97,2,28) -> 35489 | IL37: |
A38: 1 | J38: =IF(HP33=0,0,+HV33+HX33+HZ33) -> 1 | K38: =(F38-D38)+1 -> 1 | M38: =IF(H38<>40,$GZ$2*J38,(($HA$2*1)*J38))*1 -> 18.35 | N38: =IF(H38=20,U38,V38) -> 23.87 | O38: =HD32 -> FALSE | P38: =B38 -> 0 | U38: =IF(K38<10,K38*11.88,IF(K38<16,(10*11.88)+(K38-10)*15.77,((10*11.88)+(5*15.77)+(K38-15)*23.87))) -> 11.88 | V38: =IF(K38<10,K38*23.87,IF(K38<16,(10*23.87)+(K38-10)*31.75,((10*23.87)+(5*31.75)+(K38-15)*47.52))) -> 23.87 | FE38: =D44 -> 0 | FF38: 0 | FG38: =FE38+FF38 -> 0 | FH38: =FG38 -> 0 | FI38: =F44 -> 0 | FJ38: =FI38-FH38 -> 0 | FK38: =H44 -> 0 | FL38: =IF(FJ38<7,FJ38,10) -> 0 | FM38: =IF(FJ38>15,5,FJ38-10) -> -10 | FN38: =FJ38-15 -> -15 | FO38: =IF(FL38>0,FL38,0) -> 0 | FP38: =IF(FM38>0,FM38,0) -> 0 | FQ38: =IF(FN38>0,FN38,0) -> 0 | FR38: 11.25 | FS38: 15 | FT38: 22.5 | FU38: =IF(FK38=20,$FF$2*FO38,IF(FK38=40,$FF$3*FO38,"wrong size")) -> wrong size | FV38: =IF(FK38=20,$FG$2*FP38,IF(FK38=40,$FG$3*FP38,"wrong size")) -> wrong size | FW38: =IF(FK38=20,$FH$2*FQ38,IF(FK38=40,$FH$3*FQ38,"wrong size")) -> wrong size | FX38: =SUM(FU38:FW38) -> 0 | FY38: =IF(FK38=40,FX38*2,IF(FK38=20,FX38)) -> FALSE | GF38: =L44 -> 0 | GG38: =S44 -> 0 | GH38: =GF38+GG38 -> 0 | GI38: =GH38 -> 0 | GJ38: =D44 -> 0 | GK38: =GJ38-GI38+1 -> 1 | GL38: =H44 -> 0 | GM38: =IF(GK38<7,GK38,7) -> 1 | GN38: =IF(GK38>14,7,GK38-7) -> -6 | GO38: =IF(GK38>21,7,GK38-14) -> -13 | GP38: =GK38-21 -> -20 | GQ38: =IF(GM38>0,GM38,0) -> 1 | GR38: =IF(GN38>0,GN38,0) -> 0 | GS38: =IF(GO38>0,GO38,0) -> 0 | GT38: =IF(GP38>0,GP38,0) -> 0 | GU38: 75 | GV38: 106 | GW38: 144 | GX38: 144 | GY38: =GQ38*GU38 -> 75 | GZ38: =GR38*GV38 -> 0 | HA38: =GS38*GW38 -> 0 | HB38: =GT38*GX38 -> 0 | HC38: =SUM(GY38:HB38) -> 75 | HD38: =IF(GL38=40,HC38*2,IF(GL38=20,HC38)) -> FALSE | HM38: |* | HO38: | | HP38: =IF(HS38="D",0,1) -> 1 | HQ38: | | HS38: =T(D38:D38) | HU38: | | HV38: =(+F43-D43-1)*3 -> -3 | HW38: | | HX38: =IF(E43<TIME(7,0,0),4,IF(AND(E43>=TIME(7,0,0),+E43<TIME(15,0,0)),3,IF(AND(E43>=TIME(15,0,0),+E43<TIME(23,0,0)),2,1))) -> 4 | HY38: | | HZ38: =IF(G43<=TIME(7,0,0),0,IF(AND(G43>TIME(7,0,0),+G43<=TIME(15,0,0)),1,IF(AND(G43>TIME(15,0,0),+G43<=TIME(23,0,0)),2,3))) -> 0 | IA38: | | IJ38: | | IK38: =DATE(97,2,28) -> 35489 | IL38: |
A39: 1 | J39: =IF(HP34=0,0,+HV34+HX34+HZ34) -> 1 | K39: =(F39-D39)+1 -> 1 | M39: =IF(H39<>40,$GZ$2*J39,(($HA$2*1)*J39))*1 -> 18.35 | N39: =IF(H39=20,U39,V39) -> 23.87 | O39: =HD33 -> FALSE | P39: =B39 -> 0 | U39: =IF(K39<10,K39*11.88,IF(K39<16,(10*11.88)+(K39-10)*15.77,((10*11.88)+(5*15.77)+(K39-15)*23.87))) -> 11.88 | V39: =IF(K39<10,K39*23.87,IF(K39<16,(10*23.87)+(K39-10)*31.75,((10*23.87)+(5*31.75)+(K39-15)*47.52))) -> 23.87 | FE39: =D45 -> 0 | FF39: 0 | FG39: =FE39+FF39 -> 0 | FH39: =FG39 -> 0 | FI39: =F45 -> 0 | FJ39: =FI39-FH39 -> 0 | FK39: =H45 -> 0 | FL39: =IF(FJ39<7,FJ39,10) -> 0 | FM39: =IF(FJ39>15,5,FJ39-10) -> -10 | FN39: =FJ39-15 -> -15 | FO39: =IF(FL39>0,FL39,0) -> 0 | FP39: =IF(FM39>0,FM39,0) -> 0 | FQ39: =IF(FN39>0,FN39,0) -> 0 | FR39: 11.25 | FS39: 15 | FT39: 22.5 | FU39: =IF(FK39=20,$FF$2*FO39,IF(FK39=40,$FF$3*FO39,"wrong size")) -> wrong size | FV39: =IF(FK39=20,$FG$2*FP39,IF(FK39=40,$FG$3*FP39,"wrong size")) -> wrong size | FW39: =IF(FK39=20,$FH$2*FQ39,IF(FK39=40,$FH$3*FQ39,"wrong size")) -> wrong size | FX39: =SUM(FU39:FW39) -> 0 | FY39: =IF(FK39=40,FX39*2,IF(FK39=20,FX39)) -> FALSE | GF39: =L45 -> 0 | GG39: =S45 -> 0 | GH39: =GF39+GG39 -> 0 | GI39: =GH39 -> 0 | GJ39: =D45 -> 0 | GK39: =GJ39-GI39+1 -> 1 | GL39: =H45 -> 0 | GM39: =IF(GK39<7,GK39,7) -> 1 | GN39: =IF(GK39>14,7,GK39-7) -> -6 | GO39: =IF(GK39>21,7,GK39-14) -> -13 | GP39: =GK39-21 -> -20 | GQ39: =IF(GM39>0,GM39,0) -> 1 | GR39: =IF(GN39>0,GN39,0) -> 0 | GS39: =IF(GO39>0,GO39,0) -> 0 | GT39: =IF(GP39>0,GP39,0) -> 0 | GU39: 75 | GV39: 106 | GW39: 144 | GX39: 144 | GY39: =GQ39*GU39 -> 75 | GZ39: =GR39*GV39 -> 0 | HA39: =GS39*GW39 -> 0 | HB39: =GT39*GX39 -> 0 | HC39: =SUM(GY39:HB39) -> 75 | HD39: =IF(GL39=40,HC39*2,IF(GL39=20,HC39)) -> FALSE | HM39: |* | HO39: | | HP39: =IF(HS39="D",0,1) -> 1 | HQ39: | | HS39: =T(D39:D39) | HU39: | | HV39: =(+F44-D44-1)*3 -> -3 | HW39: | | HX39: =IF(E44<TIME(7,0,0),4,IF(AND(E44>=TIME(7,0,0),+E44<TIME(15,0,0)),3,IF(AND(E44>=TIME(15,0,0),+E44<TIME(23,0,0)),2,1))) -> 4 | HY39: | | HZ39: =IF(G44<=TIME(7,0,0),0,IF(AND(G44>TIME(7,0,0),+G44<=TIME(15,0,0)),1,IF(AND(G44>TIME(15,0,0),+G44<=TIME(23,0,0)),2,3))) -> 0 | IA39: | | IJ39: | | IK39: =DATE(97,2,28) -> 35489 | IL39: |
A40: 1 | J40: =IF(HP35=0,0,+HV35+HX35+HZ35) -> 1 | K40: =(F40-D40)+1 -> 1 | M40: =IF(H40<>40,$GZ$2*J40,(($HA$2*1)*J40))*1 -> 18.35 | N40: =IF(H40=20,U40,V40) -> 23.87 | O40: =HD34 -> FALSE | P40: =B40 -> 0 | U40: =IF(K40<10,K40*11.88,IF(K40<16,(10*11.88)+(K40-10)*15.77,((10*11.88)+(5*15.77)+(K40-15)*23.87))) -> 11.88 | V40: =IF(K40<10,K40*23.87,IF(K40<16,(10*23.87)+(K40-10)*31.75,((10*23.87)+(5*31.75)+(K40-15)*47.52))) -> 23.87 | FE40: =D46 -> 0 | FF40: 0 | FG40: =FE40+FF40 -> 0 | FH40: =FG40 -> 0 | FI40: =F46 -> 0 | FJ40: =FI40-FH40 -> 0 | FK40: =H46 -> 0 | FL40: =IF(FJ40<7,FJ40,10) -> 0 | FM40: =IF(FJ40>15,5,FJ40-10) -> -10 | FN40: =FJ40-15 -> -15 | FO40: =IF(FL40>0,FL40,0) -> 0 | FP40: =IF(FM40>0,FM40,0) -> 0 | FQ40: =IF(FN40>0,FN40,0) -> 0 | FR40: 11.25 | FS40: 15 | FT40: 22.5 | FU40: =IF(FK40=20,$FF$2*FO40,IF(FK40=40,$FF$3*FO40,"wrong size")) -> wrong size | FV40: =IF(FK40=20,$FG$2*FP40,IF(FK40=40,$FG$3*FP40,"wrong size")) -> wrong size | FW40: =IF(FK40=20,$FH$2*FQ40,IF(FK40=40,$FH$3*FQ40,"wrong size")) -> wrong size | FX40: =SUM(FU40:FW40) -> 0 | FY40: =IF(FK40=40,FX40*2,IF(FK40=20,FX40)) -> FALSE | GF40: =L46 -> 0 | GG40: =S46 -> 0 | GH40: =GF40+GG40 -> 0 | GI40: =GH40 -> 0 | GJ40: =D46 -> 0 | GK40: =GJ40-GI40+1 -> 1 | GL40: =H46 -> 0 | GM40: =IF(GK40<7,GK40,7) -> 1 | GN40: =IF(GK40>14,7,GK40-7) -> -6 | GO40: =IF(GK40>21,7,GK40-14) -> -13 | GP40: =GK40-21 -> -20 | GQ40: =IF(GM40>0,GM40,0) -> 1 | GR40: =IF(GN40>0,GN40,0) -> 0 | GS40: =IF(GO40>0,GO40,0) -> 0 | GT40: =IF(GP40>0,GP40,0) -> 0 | GU40: 75 | GV40: 106 | GW40: 144 | GX40: 144 | GY40: =GQ40*GU40 -> 75 | GZ40: =GR40*GV40 -> 0 | HA40: =GS40*GW40 -> 0 | HB40: =GT40*GX40 -> 0 | HC40: =SUM(GY40:HB40) -> 75 | HD40: =IF(GL40=40,HC40*2,IF(GL40=20,HC40)) -> FALSE | HM40: |* | HO40: | | HP40: =IF(HS40="D",0,1) -> 1 | HQ40: | | HS40: =T(D40:D40) | HU40: | | HV40: =(+F45-D45-1)*3 -> -3 | HW40: | | HX40: =IF(E45<TIME(7,0,0),4,IF(AND(E45>=TIME(7,0,0),+E45<TIME(15,0,0)),3,IF(AND(E45>=TIME(15,0,0),+E45<TIME(23,0,0)),2,1))) -> 4 | HY40: | | HZ40: =IF(G45<=TIME(7,0,0),0,IF(AND(G45>TIME(7,0,0),+G45<=TIME(15,0,0)),1,IF(AND(G45>TIME(15,0,0),+G45<=TIME(23,0,0)),2,3))) -> 0 | IA40: | | IJ40: | | IK40: =DATE(97,2,28) -> 35489 | IL40: |
A41: 1 | J41: =IF(HP36=0,0,+HV36+HX36+HZ36) -> 1 | K41: =(F41-D41)+1 -> 1 | M41: =IF(H41<>40,$GZ$2*J41,(($HA$2*1)*J41))*1 -> 18.35 | N41: =IF(H41=20,U41,V41) -> 23.87 | O41: =HD35 -> FALSE | P41: =B41 -> 0 | U41: =IF(K41<10,K41*11.88,IF(K41<16,(10*11.88)+(K41-10)*15.77,((10*11.88)+(5*15.77)+(K41-15)*23.87))) -> 11.88 | V41: =IF(K41<10,K41*23.87,IF(K41<16,(10*23.87)+(K41-10)*31.75,((10*23.87)+(5*31.75)+(K41-15)*47.52))) -> 23.87 | FE41: =D47 -> 0 | FF41: 0 | FG41: =FE41+FF41 -> 0 | FH41: =FG41 -> 0 | FI41: =F47 -> 0 | FJ41: =FI41-FH41 -> 0 | FK41: =H47 -> 0 | FL41: =IF(FJ41<7,FJ41,10) -> 0 | FM41: =IF(FJ41>15,5,FJ41-10) -> -10 | FN41: =FJ41-15 -> -15 | FO41: =IF(FL41>0,FL41,0) -> 0 | FP41: =IF(FM41>0,FM41,0) -> 0 | FQ41: =IF(FN41>0,FN41,0) -> 0 | FR41: 11.25 | FS41: 15 | FT41: 22.5 | FU41: =IF(FK41=20,$FF$2*FO41,IF(FK41=40,$FF$3*FO41,"wrong size")) -> wrong size | FV41: =IF(FK41=20,$FG$2*FP41,IF(FK41=40,$FG$3*FP41,"wrong size")) -> wrong size | FW41: =IF(FK41=20,$FH$2*FQ41,IF(FK41=40,$FH$3*FQ41,"wrong size")) -> wrong size | FX41: =SUM(FU41:FW41) -> 0 | FY41: =IF(FK41=40,FX41*2,IF(FK41=20,FX41)) -> FALSE | GF41: =L47 -> 0 | GG41: =S47 -> 0 | GH41: =GF41+GG41 -> 0 | GI41: =GH41 -> 0 | GJ41: =D47 -> 0 | GK41: =GJ41-GI41+1 -> 1 | GL41: =H47 -> 0 | GM41: =IF(GK41<7,GK41,7) -> 1 | GN41: =IF(GK41>14,7,GK41-7) -> -6 | GO41: =IF(GK41>21,7,GK41-14) -> -13 | GP41: =GK41-21 -> -20 | GQ41: =IF(GM41>0,GM41,0) -> 1 | GR41: =IF(GN41>0,GN41,0) -> 0 | GS41: =IF(GO41>0,GO41,0) -> 0 | GT41: =IF(GP41>0,GP41,0) -> 0 | GU41: 75 | GV41: 106 | GW41: 144 | GX41: 144 | GY41: =GQ41*GU41 -> 75 | GZ41: =GR41*GV41 -> 0 | HA41: =GS41*GW41 -> 0 | HB41: =GT41*GX41 -> 0 | HC41: =SUM(GY41:HB41) -> 75 | HD41: =IF(GL41=40,HC41*2,IF(GL41=20,HC41)) -> FALSE | HM41: |* | HO41: | | HP41: =IF(HS41="D",0,1) -> 1 | HQ41: | | HS41: =T(D41:D41) | HU41: | | HV41: =(+F46-D46-1)*3 -> -3 | HW41: | | HX41: =IF(E46<TIME(7,0,0),4,IF(AND(E46>=TIME(7,0,0),+E46<TIME(15,0,0)),3,IF(AND(E46>=TIME(15,0,0),+E46<TIME(23,0,0)),2,1))) -> 4 | HY41: | | HZ41: =IF(G46<=TIME(7,0,0),0,IF(AND(G46>TIME(7,0,0),+G46<=TIME(15,0,0)),1,IF(AND(G46>TIME(15,0,0),+G46<=TIME(23,0,0)),2,3))) -> 0 | IA41: | | IJ41: | | IK41: =DATE(97,2,28) -> 35489 | IL41: |
A42: 1 | J42: =IF(HP37=0,0,+HV37+HX37+HZ37) -> 1 | K42: =(F42-D42)+1 -> 1 | M42: =IF(H42<>40,$GZ$2*J42,(($HA$2*1)*J42))*1 -> 18.35 | N42: =IF(H42=20,U42,V42) -> 23.87 | O42: =HD36 -> FALSE | P42: =B42 -> 0 | U42: =IF(K42<10,K42*11.88,IF(K42<16,(10*11.88)+(K42-10)*15.77,((10*11.88)+(5*15.77)+(K42-15)*23.87))) -> 11.88 | V42: =IF(K42<10,K42*23.87,IF(K42<16,(10*23.87)+(K42-10)*31.75,((10*23.87)+(5*31.75)+(K42-15)*47.52))) -> 23.87 | FE42: =D48 -> 0 | FF42: 0 | FG42: =FE42+FF42 -> 0 | FH42: =FG42 -> 0 | FI42: =F48 -> 0 | FJ42: =FI42-FH42 -> 0 | FK42: =H48 -> 0 | FL42: =IF(FJ42<7,FJ42,10) -> 0 | FM42: =IF(FJ42>15,5,FJ42-10) -> -10 | FN42: =FJ42-15 -> -15 | FO42: =IF(FL42>0,FL42,0) -> 0 | FP42: =IF(FM42>0,FM42,0) -> 0 | FQ42: =IF(FN42>0,FN42,0) -> 0 | FR42: 11.25 | FS42: 15 | FT42: 22.5 | FU42: =IF(FK42=20,$FF$2*FO42,IF(FK42=40,$FF$3*FO42,"wrong size")) -> wrong size | FV42: =IF(FK42=20,$FG$2*FP42,IF(FK42=40,$FG$3*FP42,"wrong size")) -> wrong size | FW42: =IF(FK42=20,$FH$2*FQ42,IF(FK42=40,$FH$3*FQ42,"wrong size")) -> wrong size | FX42: =SUM(FU42:FW42) -> 0 | FY42: =IF(FK42=40,FX42*2,IF(FK42=20,FX42)) -> FALSE | GF42: =L48 -> 0 | GG42: =S48 -> 0 | GH42: =GF42+GG42 -> 0 | GI42: =GH42 -> 0 | GJ42: =D48 -> 0 | GK42: =GJ42-GI42+1 -> 1 | GL42: =H48 -> 0 | GM42: =IF(GK42<7,GK42,7) -> 1 | GN42: =IF(GK42>14,7,GK42-7) -> -6 | GO42: =IF(GK42>21,7,GK42-14) -> -13 | GP42: =GK42-21 -> -20 | GQ42: =IF(GM42>0,GM42,0) -> 1 | GR42: =IF(GN42>0,GN42,0) -> 0 | GS42: =IF(GO42>0,GO42,0) -> 0 | GT42: =IF(GP42>0,GP42,0) -> 0 | GU42: 75 | GV42: 106 | GW42: 144 | GX42: 144 | GY42: =GQ42*GU42 -> 75 | GZ42: =GR42*GV42 -> 0 | HA42: =GS42*GW42 -> 0 | HB42: =GT42*GX42 -> 0 | HC42: =SUM(GY42:HB42) -> 75 | HD42: =IF(GL42=40,HC42*2,IF(GL42=20,HC42)) -> FALSE | HM42: |* | HO42: | | HP42: =IF(HS42="D",0,1) -> 1 | HQ42: | | HS42: =T(D42:D42) | HU42: | | HV42: =(+F47-D47-1)*3 -> -3 | HW42: | | HX42: =IF(E47<TIME(7,0,0),4,IF(AND(E47>=TIME(7,0,0),+E47<TIME(15,0,0)),3,IF(AND(E47>=TIME(15,0,0),+E47<TIME(23,0,0)),2,1))) -> 4 | HY42: | | HZ42: =IF(G47<=TIME(7,0,0),0,IF(AND(G47>TIME(7,0,0),+G47<=TIME(15,0,0)),1,IF(AND(G47>TIME(15,0,0),+G47<=TIME(23,0,0)),2,3))) -> 0 | IA42: | | IJ42: | | IK42: =DATE(97,2,28) -> 35489 | IL42: |
... A46: 1 | J46: =IF(HP41=0,0,+HV41+HX41+HZ41) -> 1 | K46: =(F46-D46)+1 -> 1 | M46: =IF(H46<>40,$GZ$2*J46,(($HA$2*1)*J46))*1 -> 18.35 | N46: =IF(H46=20,U46,V46) -> 23.87 | O46: =HD40 -> FALSE | P46: =B46 -> 0 | U46: =IF(K46<10,K46*11.88,IF(K46<16,(10*11.88)+(K46-10)*15.77,((10*11.88)+(5*15.77)+(K46-15)*23.87))) -> 11.88 | V46: =IF(K46<10,K46*23.87,IF(K46<16,(10*23.87)+(K46-10)*31.75,((10*23.87)+(5*31.75)+(K46-15)*47.52))) -> 23.87 | FE46: =D52 -> 0 | FF46: 0 | FG46: =FE46+FF46 -> 0 | FH46: =FG46 -> 0 | FI46: =F52 -> 0 | FJ46: =FI46-FH46 -> 0 | FK46: =H52 -> 0 | FL46: =IF(FJ46<7,FJ46,10) -> 0 | FM46: =IF(FJ46>15,5,FJ46-10) -> -10 | FN46: =FJ46-15 -> -15 | FO46: =IF(FL46>0,FL46,0) -> 0 | FP46: =IF(FM46>0,FM46,0) -> 0 | FQ46: =IF(FN46>0,FN46,0) -> 0 | FR46: 11.25 | FS46: 15 | FT46: 22.5 | FU46: =IF(FK46=20,$FF$2*FO46,IF(FK46=40,$FF$3*FO46,"wrong size")) -> wrong size | FV46: =IF(FK46=20,$FG$2*FP46,IF(FK46=40,$FG$3*FP46,"wrong size")) -> wrong size | FW46: =IF(FK46=20,$FH$2*FQ46,IF(FK46=40,$FH$3*FQ46,"wrong size")) -> wrong size | FX46: =SUM(FU46:FW46) -> 0 | FY46: =IF(FK46=40,FX46*2,IF(FK46=20,FX46)) -> FALSE | GF46: =L52 -> 0 | GG46: =S52 -> 0 | GH46: =GF46+GG46 -> 0 | GI46: =GH46 -> 0 | GJ46: =D52 -> 0 | GK46: =GJ46-GI46+1 -> 1 | GL46: =H52 -> 0 | GM46: =IF(GK46<7,GK46,7) -> 1 | GN46: =IF(GK46>14,7,GK46-7) -> -6 | GO46: =IF(GK46>21,7,GK46-14) -> -13 | GP46: =GK46-21 -> -20 | GQ46: =IF(GM46>0,GM46,0) -> 1 | GR46: =IF(GN46>0,GN46,0) -> 0 | GS46: =IF(GO46>0,GO46,0) -> 0 | GT46: =IF(GP46>0,GP46,0) -> 0 | GU46: 75 | GV46: 106 | GW46: 144 | GX46: 144 | GY46: =GQ46*GU46 -> 75 | GZ46: =GR46*GV46 -> 0 | HA46: =GS46*GW46 -> 0 | HB46: =GT46*GX46 -> 0 | HC46: =SUM(GY46:HB46) -> 75 | HD46: =IF(GL46=40,HC46*2,IF(GL46=20,HC46)) -> FALSE | HM46: |* | HO46: | | HP46: =IF(HS46="D",0,1) -> 1 | HQ46: | | HS46: =T(D46:D46) | HU46: | | HV46: =(+F51-D51-1)*3 -> -3 | HW46: | | HX46: =IF(E51<TIME(7,0,0),4,IF(AND(E51>=TIME(7,0,0),+E51<TIME(15,0,0)),3,IF(AND(E51>=TIME(15,0,0),+E51<TIME(23,0,0)),2,1))) -> 4 | HY46: | | HZ46: =IF(G51<=TIME(7,0,0),0,IF(AND(G51>TIME(7,0,0),+G51<=TIME(15,0,0)),1,IF(AND(G51>TIME(15,0,0),+G51<=TIME(23,0,0)),2,3))) -> 0 | IA46: | | IJ46: | | IK46: =DATE(97,2,28) -> 35489 | IL46: |
A47: 1 | J47: =IF(HP42=0,0,+HV42+HX42+HZ42) -> 1 | M47: =IF(H47<>40,$GZ$2*J47,(($HA$2*1)*J47))*1 -> 18.35 | N47: =IF(H47=20,U47,V47) -> 0 | O47: =HD41 -> FALSE | P47: =B47 -> 0 | U47: =IF(K47<10,K47*11.88,IF(K47<16,(10*11.88)+(K47-10)*15.77,((10*11.88)+(5*15.77)+(K47-15)*23.87))) -> 0 | V47: =IF(K47<10,K47*23.87,IF(K47<16,(10*23.87)+(K47-10)*31.75,((10*23.87)+(5*31.75)+(K47-15)*47.52))) -> 0 | FE47: =D53 -> 0 | FF47: 0 | FG47: =FE47+FF47 -> 0 | FH47: =FG47 -> 0 | FI47: =F53 -> 0 | FJ47: =FI47-FH47 -> 0 | FK47: =H53 -> 0 | FL47: =IF(FJ47<7,FJ47,10) -> 0 | FM47: =IF(FJ47>15,5,FJ47-10) -> -10 | FN47: =FJ47-15 -> -15 | FO47: =IF(FL47>0,FL47,0) -> 0 | FP47: =IF(FM47>0,FM47,0) -> 0 | FQ47: =IF(FN47>0,FN47,0) -> 0 | FR47: 11.25 | FS47: 15 | FT47: 22.5 | FU47: =IF(FK47=20,$FF$2*FO47,IF(FK47=40,$FF$3*FO47,"wrong size")) -> wrong size | FV47: =IF(FK47=20,$FG$2*FP47,IF(FK47=40,$FG$3*FP47,"wrong size")) -> wrong size | FW47: =IF(FK47=20,$FH$2*FQ47,IF(FK47=40,$FH$3*FQ47,"wrong size")) -> wrong size | FX47: =SUM(FU47:FW47) -> 0 | FY47: =IF(FK47=40,FX47*2,IF(FK47=20,FX47)) -> FALSE | GF47: =L53 -> 0 | GG47: =S53 -> 0 | GH47: =GF47+GG47 -> 0 | GI47: =GH47 -> 0 | GJ47: =D53 -> 0 | GK47: =GJ47-GI47+1 -> 1 | GL47: =H53 -> 0 | GM47: =IF(GK47<7,GK47,7) -> 1 | GN47: =IF(GK47>14,7,GK47-7) -> -6 | GO47: =IF(GK47>21,7,GK47-14) -> -13 | GP47: =GK47-21 -> -20 | GQ47: =IF(GM47>0,GM47,0) -> 1 | GR47: =IF(GN47>0,GN47,0) -> 0 | GS47: =IF(GO47>0,GO47,0) -> 0 | GT47: =IF(GP47>0,GP47,0) -> 0 | GU47: 75 | GV47: 106 | GW47: 144 | GX47: 144 | GY47: =GQ47*GU47 -> 75 | GZ47: =GR47*GV47 -> 0 | HA47: =GS47*GW47 -> 0 | HB47: =GT47*GX47 -> 0 | HC47: =SUM(GY47:HB47) -> 75 | HD47: =IF(GL47=40,HC47*2,IF(GL47=20,HC47)) -> FALSE | HM47: |* | HO47: | | HP47: =IF(HS47="D",0,1) -> 1 | HQ47: | | HS47: =T(D47:D47) | HU47: | | HV47: =(+F52-D52-1)*3 -> -3 | HW47: | | HX47: =IF(E52<TIME(7,0,0),4,IF(AND(E52>=TIME(7,0,0),+E52<TIME(15,0,0)),3,IF(AND(E52>=TIME(15,0,0),+E52<TIME(23,0,0)),2,1))) -> 4 | HY47: | | HZ47: =IF(G52<=TIME(7,0,0),0,IF(AND(G52>TIME(7,0,0),+G52<=TIME(15,0,0)),1,IF(AND(G52>TIME(15,0,0),+G52<=TIME(23,0,0)),2,3))) -> 0 | IA47: | | IJ47: | | IK47: =DATE(97,2,28) -> 35489 | IL47: |
A48: 1 | J48: =IF(HP43=0,0,+HV43+HX43+HZ43) -> 1 | M48: =IF(H48<>40,$GZ$2*J48,(($HA$2*1)*J48))*1 -> 18.35 | N48: =IF(H48=20,U48,V48) -> 0 | O48: =HD42 -> FALSE | P48: =B48 -> 0 | U48: =IF(K48<10,K48*11.88,IF(K48<16,(10*11.88)+(K48-10)*15.77,((10*11.88)+(5*15.77)+(K48-15)*23.87))) -> 0 | V48: =IF(K48<10,K48*23.87,IF(K48<16,(10*23.87)+(K48-10)*31.75,((10*23.87)+(5*31.75)+(K48-15)*47.52))) -> 0 | FE48: =D54 -> 0 | FF48: 0 | FG48: =FE48+FF48 -> 0 | FH48: =FG48 -> 0 | FI48: =F54 -> 0 | FJ48: =FI48-FH48 -> 0 | FK48: =H54 -> 0 | FL48: =IF(FJ48<7,FJ48,10) -> 0 | FM48: =IF(FJ48>15,5,FJ48-10) -> -10 | FN48: =FJ48-15 -> -15 | FO48: =IF(FL48>0,FL48,0) -> 0 | FP48: =IF(FM48>0,FM48,0) -> 0 | FQ48: =IF(FN48>0,FN48,0) -> 0 | FR48: 11.25 | FS48: 15 | FT48: 22.5 | FU48: =IF(FK48=20,$FF$2*FO48,IF(FK48=40,$FF$3*FO48,"wrong size")) -> wrong size | FV48: =IF(FK48=20,$FG$2*FP48,IF(FK48=40,$FG$3*FP48,"wrong size")) -> wrong size | FW48: =IF(FK48=20,$FH$2*FQ48,IF(FK48=40,$FH$3*FQ48,"wrong size")) -> wrong size | FX48: =SUM(FU48:FW48) -> 0 | FY48: =IF(FK48=40,FX48*2,IF(FK48=20,FX48)) -> FALSE | GF48: =L54 -> 0 | GG48: =S54 -> 0 | GH48: =GF48+GG48 -> 0 | GI48: =GH48 -> 0 | GJ48: =D54 -> 0 | GK48: =GJ48-GI48+1 -> 1 | GL48: =H54 -> 0 | GM48: =IF(GK48<7,GK48,7) -> 1 | GN48: =IF(GK48>14,7,GK48-7) -> -6 | GO48: =IF(GK48>21,7,GK48-14) -> -13 | GP48: =GK48-21 -> -20 | GQ48: =IF(GM48>0,GM48,0) -> 1 | GR48: =IF(GN48>0,GN48,0) -> 0 | GS48: =IF(GO48>0,GO48,0) -> 0 | GT48: =IF(GP48>0,GP48,0) -> 0 | GU48: 75 | GV48: 106 | GW48: 144 | GX48: 144 | GY48: =GQ48*GU48 -> 75 | GZ48: =GR48*GV48 -> 0 | HA48: =GS48*GW48 -> 0 | HB48: =GT48*GX48 -> 0 | HC48: =SUM(GY48:HB48) -> 75 | HD48: =IF(GL48=40,HC48*2,IF(GL48=20,HC48)) -> FALSE | HM48: |* | HO48: | | HP48: =IF(HS48="D",0,1) -> 1 | HQ48: | | HS48: =T(D48:D48) | HU48: | | HV48: =(+F53-D53-1)*3 -> -3 | HW48: | | HX48: =IF(E53<TIME(7,0,0),4,IF(AND(E53>=TIME(7,0,0),+E53<TIME(15,0,0)),3,IF(AND(E53>=TIME(15,0,0),+E53<TIME(23,0,0)),2,1))) -> 4 | HY48: | | HZ48: =IF(G53<=TIME(7,0,0),0,IF(AND(G53>TIME(7,0,0),+G53<=TIME(15,0,0)),1,IF(AND(G53>TIME(15,0,0),+G53<=TIME(23,0,0)),2,3))) -> 0 | IA48: | | IJ48: | | IK48: =DATE(97,2,28) -> 35489 | IL48: |
A49: 1 | J49: =IF(HP44=0,0,+HV44+HX44+HZ44) -> 1 | M49: =IF(H49<>40,$GZ$2*J49,(($HA$2*1)*J49))*1 -> 18.35 | N49: =IF(H49=20,U49,V49) -> 0 | O49: =HD43 -> FALSE | P49: =B49 -> 0 | U49: =IF(K49<10,K49*11.88,IF(K49<16,(10*11.88)+(K49-10)*15.77,((10*11.88)+(5*15.77)+(K49-15)*23.87))) -> 0 | V49: =IF(K49<10,K49*23.87,IF(K49<16,(10*23.87)+(K49-10)*31.75,((10*23.87)+(5*31.75)+(K49-15)*47.52))) -> 0 | FE49: =D55 -> 0 | FF49: 0 | FG49: =FE49+FF49 -> 0 | FH49: =FG49 -> 0 | FI49: =F55 -> 0 | FJ49: =FI49-FH49 -> 0 | FK49: =H55 -> 0 | FL49: =IF(FJ49<7,FJ49,10) -> 0 | FM49: =IF(FJ49>15,5,FJ49-10) -> -10 | FN49: =FJ49-15 -> -15 | FO49: =IF(FL49>0,FL49,0) -> 0 | FP49: =IF(FM49>0,FM49,0) -> 0 | FQ49: =IF(FN49>0,FN49,0) -> 0 | FR49: 11.25 | FS49: 15 | FT49: 22.5 | FU49: =IF(FK49=20,$FF$2*FO49,IF(FK49=40,$FF$3*FO49,"wrong size")) -> wrong size | FV49: =IF(FK49=20,$FG$2*FP49,IF(FK49=40,$FG$3*FP49,"wrong size")) -> wrong size | FW49: =IF(FK49=20,$FH$2*FQ49,IF(FK49=40,$FH$3*FQ49,"wrong size")) -> wrong size | FX49: =SUM(FU49:FW49) -> 0 | FY49: =IF(FK49=40,FX49*2,IF(FK49=20,FX49)) -> FALSE | GF49: =L55 -> 0 | GG49: =S55 -> 0 | GH49: =GF49+GG49 -> 0 | GI49: =GH49 -> 0 | GJ49: =D55 -> 0 | GK49: =GJ49-GI49+1 -> 1 | GL49: =H55 -> 0 | GM49: =IF(GK49<7,GK49,7) -> 1 | GN49: =IF(GK49>14,7,GK49-7) -> -6 | GO49: =IF(GK49>21,7,GK49-14) -> -13 | GP49: =GK49-21 -> -20 | GQ49: =IF(GM49>0,GM49,0) -> 1 | GR49: =IF(GN49>0,GN49,0) -> 0 | GS49: =IF(GO49>0,GO49,0) -> 0 | GT49: =IF(GP49>0,GP49,0) -> 0 | GU49: 75 | GV49: 106 | GW49: 144 | GX49: 144 | GY49: =GQ49*GU49 -> 75 | GZ49: =GR49*GV49 -> 0 | HA49: =GS49*GW49 -> 0 | HB49: =GT49*GX49 -> 0 | HC49: =SUM(GY49:HB49) -> 75 | HD49: =IF(GL49=40,HC49*2,IF(GL49=20,HC49)) -> FALSE | HM49: |* | HO49: | | HP49: =IF(HS49="D",0,1) -> 1 | HQ49: | | HS49: =T(D49:D49) | HU49: | | HV49: =(+F54-D54-1)*3 -> -3 | HW49: | | HX49: =IF(E54<TIME(7,0,0),4,IF(AND(E54>=TIME(7,0,0),+E54<TIME(15,0,0)),3,IF(AND(E54>=TIME(15,0,0),+E54<TIME(23,0,0)),2,1))) -> 4 | HY49: | | HZ49: =IF(G54<=TIME(7,0,0),0,IF(AND(G54>TIME(7,0,0),+G54<=TIME(15,0,0)),1,IF(AND(G54>TIME(15,0,0),+G54<=TIME(23,0,0)),2,3))) -> 0 | IA49: | | IJ49: | | IK49: =DATE(97,2,28) -> 35489 | IL49: |
A50: 1 | J50: =IF(HP45=0,0,+HV45+HX45+HZ45) -> 1 | M50: =IF(H50<>40,$GZ$2*J50,(($HA$2*1)*J50))*1 -> 18.35 | N50: =IF(H50=20,U50,V50) -> 0 | O50: =HD44 -> FALSE | P50: =B50 -> 0 | U50: =IF(K50<10,K50*11.88,IF(K50<16,(10*11.88)+(K50-10)*15.77,((10*11.88)+(5*15.77)+(K50-15)*23.87))) -> 0 | V50: =IF(K50<10,K50*23.87,IF(K50<16,(10*23.87)+(K50-10)*31.75,((10*23.87)+(5*31.75)+(K50-15)*47.52))) -> 0 | FE50: =D56 -> 0 | FF50: 0 | FG50: =FE50+FF50 -> 0 | FH50: =FG50 -> 0 | FI50: =F56 -> 0 | FJ50: =FI50-FH50 -> 0 | FK50: =H56 -> 0 | FL50: =IF(FJ50<7,FJ50,10) -> 0 | FM50: =IF(FJ50>15,5,FJ50-10) -> -10 | FN50: =FJ50-15 -> -15 | FO50: =IF(FL50>0,FL50,0) -> 0 | FP50: =IF(FM50>0,FM50,0) -> 0 | FQ50: =IF(FN50>0,FN50,0) -> 0 | FR50: 11.25 | FS50: 15 | FT50: 22.5 | FU50: =IF(FK50=20,$FF$2*FO50,IF(FK50=40,$FF$3*FO50,"wrong size")) -> wrong size | FV50: =IF(FK50=20,$FG$2*FP50,IF(FK50=40,$FG$3*FP50,"wrong size")) -> wrong size | FW50: =IF(FK50=20,$FH$2*FQ50,IF(FK50=40,$FH$3*FQ50,"wrong size")) -> wrong size | FX50: =SUM(FU50:FW50) -> 0 | FY50: =IF(FK50=40,FX50*2,IF(FK50=20,FX50)) -> FALSE | GF50: =L56 -> 0 | GG50: =S56 -> 0 | GH50: =GF50+GG50 -> 0 | GI50: =GH50 -> 0 | GJ50: =D56 -> 0 | GK50: =GJ50-GI50+1 -> 1 | GL50: =H56 -> 0 | GM50: =IF(GK50<7,GK50,7) -> 1 | GN50: =IF(GK50>14,7,GK50-7) -> -6 | GO50: =IF(GK50>21,7,GK50-14) -> -13 | GP50: =GK50-21 -> -20 | GQ50: =IF(GM50>0,GM50,0) -> 1 | GR50: =IF(GN50>0,GN50,0) -> 0 | GS50: =IF(GO50>0,GO50,0) -> 0 | GT50: =IF(GP50>0,GP50,0) -> 0 | GU50: 75 | GV50: 106 | GW50: 144 | GX50: 144 | GY50: =GQ50*GU50 -> 75 | GZ50: =GR50*GV50 -> 0 | HA50: =GS50*GW50 -> 0 | HB50: =GT50*GX50 -> 0 | HC50: =SUM(GY50:HB50) -> 75 | HD50: =IF(GL50=40,HC50*2,IF(GL50=20,HC50)) -> FALSE | HM50: |* | HO50: | | HP50: =IF(HS50="D",0,1) -> 1 | HQ50: | | HS50: =T(D50:D50) | HU50: | | HV50: =(+F55-D55-1)*3 -> -3 | HW50: | | HX50: =IF(E55<TIME(7,0,0),4,IF(AND(E55>=TIME(7,0,0),+E55<TIME(15,0,0)),3,IF(AND(E55>=TIME(15,0,0),+E55<TIME(23,0,0)),2,1))) -> 4 | HY50: | | HZ50: =IF(G55<=TIME(7,0,0),0,IF(AND(G55>TIME(7,0,0),+G55<=TIME(15,0,0)),1,IF(AND(G55>TIME(15,0,0),+G55<=TIME(23,0,0)),2,3))) -> 0 | IA50: | | IJ50: | | IK50: =DATE(97,2,28) -> 35489 | IL50: |
A51: 1 | J51: =IF(HP46=0,0,+HV46+HX46+HZ46) -> 1 | M51: =IF(H51<>40,$GZ$2*J51,(($HA$2*1)*J51))*1 -> 18.35 | N51: =IF(H51=20,U51,V51) -> 0 | O51: =HD45 -> FALSE | P51: =B51 -> 0 | U51: =IF(K51<10,K51*11.88,IF(K51<16,(10*11.88)+(K51-10)*15.77,((10*11.88)+(5*15.77)+(K51-15)*23.87))) -> 0 | V51: =IF(K51<10,K51*23.87,IF(K51<16,(10*23.87)+(K51-10)*31.75,((10*23.87)+(5*31.75)+(K51-15)*47.52))) -> 0 | FE51: =D57 -> 0 | FF51: 0 | FG51: =FE51+FF51 -> 0 | FH51: =FG51 -> 0 | FI51: =F57 -> 0 | FJ51: =FI51-FH51 -> 0 | FK51: =H57 -> 0 | FL51: =IF(FJ51<7,FJ51,10) -> 0 | FM51: =IF(FJ51>15,5,FJ51-10) -> -10 | FN51: =FJ51-15 -> -15 | FO51: =IF(FL51>0,FL51,0) -> 0 | FP51: =IF(FM51>0,FM51,0) -> 0 | FQ51: =IF(FN51>0,FN51,0) -> 0 | FR51: 11.25 | FS51: 15 | FT51: 22.5 | FU51: =IF(FK51=20,$FF$2*FO51,IF(FK51=40,$FF$3*FO51,"wrong size")) -> wrong size | FV51: =IF(FK51=20,$FG$2*FP51,IF(FK51=40,$FG$3*FP51,"wrong size")) -> wrong size | FW51: =IF(FK51=20,$FH$2*FQ51,IF(FK51=40,$FH$3*FQ51,"wrong size")) -> wrong size | FX51: =SUM(FU51:FW51) -> 0 | FY51: =IF(FK51=40,FX51*2,IF(FK51=20,FX51)) -> FALSE | GF51: =L57 -> 0 | GG51: =S57 -> 0 | GH51: =GF51+GG51 -> 0 | GI51: =GH51 -> 0 | GJ51: =D57 -> 0 | GK51: =GJ51-GI51+1 -> 1 | GL51: =H57 -> 0 | GM51: =IF(GK51<7,GK51,7) -> 1 | GN51: =IF(GK51>14,7,GK51-7) -> -6 | GO51: =IF(GK51>21,7,GK51-14) -> -13 | GP51: =GK51-21 -> -20 | GQ51: =IF(GM51>0,GM51,0) -> 1 | GR51: =IF(GN51>0,GN51,0) -> 0 | GS51: =IF(GO51>0,GO51,0) -> 0 | GT51: =IF(GP51>0,GP51,0) -> 0 | GU51: 75 | GV51: 106 | GW51: 144 | GX51: 144 | GY51: =GQ51*GU51 -> 75 | GZ51: =GR51*GV51 -> 0 | HA51: =GS51*GW51 -> 0 | HB51: =GT51*GX51 -> 0 | HC51: =SUM(GY51:HB51) -> 75 | HD51: =IF(GL51=40,HC51*2,IF(GL51=20,HC51)) -> FALSE | HM51: |* | HO51: | | HP51: =IF(HS51="D",0,1) -> 1 | HQ51: | | HS51: =T(D51:D51) | HU51: | | HV51: =(+F56-D56-1)*3 -> -3 | HW51: | | HX51: =IF(E56<TIME(7,0,0),4,IF(AND(E56>=TIME(7,0,0),+E56<TIME(15,0,0)),3,IF(AND(E56>=TIME(15,0,0),+E56<TIME(23,0,0)),2,1))) -> 4 | HY51: | | HZ51: =IF(G56<=TIME(7,0,0),0,IF(AND(G56>TIME(7,0,0),+G56<=TIME(15,0,0)),1,IF(AND(G56>TIME(15,0,0),+G56<=TIME(23,0,0)),2,3))) -> 0 | IA51: | | IJ51: | | IK51: =DATE(97,2,28) -> 35489 | IL51: |
A52: 1 | J52: =IF(HP47=0,0,+HV47+HX47+HZ47) -> 1 | M52: =IF(H52<>40,$GZ$2*J52,(($HA$2*1)*J52))*1 -> 18.35 | N52: =IF(H52=20,U52,V52) -> 0 | O52: =HD46 -> FALSE | P52: =B52 -> 0 | U52: =IF(K52<10,K52*11.88,IF(K52<16,(10*11.88)+(K52-10)*15.77,((10*11.88)+(5*15.77)+(K52-15)*23.87))) -> 0 | V52: =IF(K52<10,K52*23.87,IF(K52<16,(10*23.87)+(K52-10)*31.75,((10*23.87)+(5*31.75)+(K52-15)*47.52))) -> 0 | FE52: =D58 -> 0 | FF52: 0 | FG52: =FE52+FF52 -> 0 | FH52: =FG52 -> 0 | FI52: =F58 -> 0 | FJ52: =FI52-FH52 -> 0 | FK52: =H58 -> 0 | FL52: =IF(FJ52<7,FJ52,10) -> 0 | FM52: =IF(FJ52>15,5,FJ52-10) -> -10 | FN52: =FJ52-15 -> -15 | FO52: =IF(FL52>0,FL52,0) -> 0 | FP52: =IF(FM52>0,FM52,0) -> 0 | FQ52: =IF(FN52>0,FN52,0) -> 0 | FR52: 11.25 | FS52: 15 | FT52: 22.5 | FU52: =IF(FK52=20,$FF$2*FO52,IF(FK52=40,$FF$3*FO52,"wrong size")) -> wrong size | FV52: =IF(FK52=20,$FG$2*FP52,IF(FK52=40,$FG$3*FP52,"wrong size")) -> wrong size | FW52: =IF(FK52=20,$FH$2*FQ52,IF(FK52=40,$FH$3*FQ52,"wrong size")) -> wrong size | FX52: =SUM(FU52:FW52) -> 0 | FY52: =IF(FK52=40,FX52*2,IF(FK52=20,FX52)) -> FALSE | GF52: =L58 -> 0 | GG52: =S58 -> 0 | GH52: =GF52+GG52 -> 0 | GI52: =GH52 -> 0 | GJ52: =D58 -> 0 | GK52: =GJ52-GI52+1 -> 1 | GL52: =H58 -> 0 | GM52: =IF(GK52<7,GK52,7) -> 1 | GN52: =IF(GK52>14,7,GK52-7) -> -6 | GO52: =IF(GK52>21,7,GK52-14) -> -13 | GP52: =GK52-21 -> -20 | GQ52: =IF(GM52>0,GM52,0) -> 1 | GR52: =IF(GN52>0,GN52,0) -> 0 | GS52: =IF(GO52>0,GO52,0) -> 0 | GT52: =IF(GP52>0,GP52,0) -> 0 | GU52: 75 | GV52: 106 | GW52: 144 | GX52: 144 | GY52: =GQ52*GU52 -> 75 | GZ52: =GR52*GV52 -> 0 | HA52: =GS52*GW52 -> 0 | HB52: =GT52*GX52 -> 0 | HC52: =SUM(GY52:HB52) -> 75 | HD52: =IF(GL52=40,HC52*2,IF(GL52=20,HC52)) -> FALSE | HM52: |* | HO52: | | HP52: =IF(HS52="D",0,1) -> 1 | HQ52: | | HS52: =T(D52:D52) | HU52: | | HV52: =(+F57-D57-1)*3 -> -3 | HW52: | | HX52: =IF(E57<TIME(7,0,0),4,IF(AND(E57>=TIME(7,0,0),+E57<TIME(15,0,0)),3,IF(AND(E57>=TIME(15,0,0),+E57<TIME(23,0,0)),2,1))) -> 4 | HY52: | | HZ52: =IF(G57<=TIME(7,0,0),0,IF(AND(G57>TIME(7,0,0),+G57<=TIME(15,0,0)),1,IF(AND(G57>TIME(15,0,0),+G57<=TIME(23,0,0)),2,3))) -> 0 | IA52: | | IJ52: | | IK52: =DATE(97,2,28) -> 35489 | IL52: |
A53: 1 | J53: =IF(HP48=0,0,+HV48+HX48+HZ48) -> 1 | M53: =IF(H53<>40,$GZ$2*J53,(($HA$2*1)*J53))*1 -> 18.35 | N53: =IF(H53=20,U53,V53) -> 0 | O53: =HD47 -> FALSE | P53: =B53 -> 0 | U53: =IF(K53<10,K53*11.88,IF(K53<16,(10*11.88)+(K53-10)*15.77,((10*11.88)+(5*15.77)+(K53-15)*23.87))) -> 0 | V53: =IF(K53<10,K53*23.87,IF(K53<16,(10*23.87)+(K53-10)*31.75,((10*23.87)+(5*31.75)+(K53-15)*47.52))) -> 0 | FE53: =D59 -> 0 | FF53: 0 | FG53: =FE53+FF53 -> 0 | FH53: =FG53 -> 0 | FI53: =F59 -> 0 | FJ53: =FI53-FH53 -> 0 | FK53: =H59 -> 0 | FL53: =IF(FJ53<7,FJ53,10) -> 0 | FM53: =IF(FJ53>15,5,FJ53-10) -> -10 | FN53: =FJ53-15 -> -15 | FO53: =IF(FL53>0,FL53,0) -> 0 | FP53: =IF(FM53>0,FM53,0) -> 0 | FQ53: =IF(FN53>0,FN53,0) -> 0 | FR53: 11.25 | FS53: 15 | FT53: 22.5 | FU53: =IF(FK53=20,$FF$2*FO53,IF(FK53=40,$FF$3*FO53,"wrong size")) -> wrong size | FV53: =IF(FK53=20,$FG$2*FP53,IF(FK53=40,$FG$3*FP53,"wrong size")) -> wrong size | FW53: =IF(FK53=20,$FH$2*FQ53,IF(FK53=40,$FH$3*FQ53,"wrong size")) -> wrong size | FX53: =SUM(FU53:FW53) -> 0 | FY53: =IF(FK53=40,FX53*2,IF(FK53=20,FX53)) -> FALSE | GF53: =L59 -> 0 | GG53: =S59 -> 0 | GH53: =GF53+GG53 -> 0 | GI53: =GH53 -> 0 | GJ53: =D59 -> 0 | GK53: =GJ53-GI53+1 -> 1 | GL53: =H59 -> 0 | GM53: =IF(GK53<7,GK53,7) -> 1 | GN53: =IF(GK53>14,7,GK53-7) -> -6 | GO53: =IF(GK53>21,7,GK53-14) -> -13 | GP53: =GK53-21 -> -20 | GQ53: =IF(GM53>0,GM53,0) -> 1 | GR53: =IF(GN53>0,GN53,0) -> 0 | GS53: =IF(GO53>0,GO53,0) -> 0 | GT53: =IF(GP53>0,GP53,0) -> 0 | GU53: 75 | GV53: 106 | GW53: 144 | GX53: 144 | GY53: =GQ53*GU53 -> 75 | GZ53: =GR53*GV53 -> 0 | HA53: =GS53*GW53 -> 0 | HB53: =GT53*GX53 -> 0 | HC53: =SUM(GY53:HB53) -> 75 | HD53: =IF(GL53=40,HC53*2,IF(GL53=20,HC53)) -> FALSE | HM53: |* | HO53: | | HP53: =IF(HS53="D",0,1) -> 1 | HQ53: | | HS53: =T(D53:D53) | HU53: | | HV53: =(+F58-D58-1)*3 -> -3 | HW53: | | HX53: =IF(E58<TIME(7,0,0),4,IF(AND(E58>=TIME(7,0,0),+E58<TIME(15,0,0)),3,IF(AND(E58>=TIME(15,0,0),+E58<TIME(23,0,0)),2,1))) -> 4 | HY53: | | HZ53: =IF(G58<=TIME(7,0,0),0,IF(AND(G58>TIME(7,0,0),+G58<=TIME(15,0,0)),1,IF(AND(G58>TIME(15,0,0),+G58<=TIME(23,0,0)),2,3))) -> 0 | IA53: | | IJ53: | | IK53: =DATE(97,2,28) -> 35489 | IL53: |
A54: 1 | J54: =IF(HP49=0,0,+HV49+HX49+HZ49) -> 1 | M54: =IF(H54<>40,$GZ$2*J54,(($HA$2*1)*J54))*1 -> 18.35 | N54: =IF(H54=20,U54,V54) -> 0 | O54: =HD48 -> FALSE | P54: =B54 -> 0 | U54: =IF(K54<10,K54*11.88,IF(K54<16,(10*11.88)+(K54-10)*15.77,((10*11.88)+(5*15.77)+(K54-15)*23.87))) -> 0 | V54: =IF(K54<10,K54*23.87,IF(K54<16,(10*23.87)+(K54-10)*31.75,((10*23.87)+(5*31.75)+(K54-15)*47.52))) -> 0 | FE54: =D60 -> 0 | FF54: 0 | FG54: =FE54+FF54 -> 0 | FH54: =FG54 -> 0 | FI54: =F60 -> 0 | FJ54: =FI54-FH54 -> 0 | FK54: =H60 -> 0 | FL54: =IF(FJ54<7,FJ54,10) -> 0 | FM54: =IF(FJ54>15,5,FJ54-10) -> -10 | FN54: =FJ54-15 -> -15 | FO54: =IF(FL54>0,FL54,0) -> 0 | FP54: =IF(FM54>0,FM54,0) -> 0 | FQ54: =IF(FN54>0,FN54,0) -> 0 | FR54: 11.25 | FS54: 15 | FT54: 22.5 | FU54: =IF(FK54=20,$FF$2*FO54,IF(FK54=40,$FF$3*FO54,"wrong size")) -> wrong size | FV54: =IF(FK54=20,$FG$2*FP54,IF(FK54=40,$FG$3*FP54,"wrong size")) -> wrong size | FW54: =IF(FK54=20,$FH$2*FQ54,IF(FK54=40,$FH$3*FQ54,"wrong size")) -> wrong size | FX54: =SUM(FU54:FW54) -> 0 | FY54: =IF(FK54=40,FX54*2,IF(FK54=20,FX54)) -> FALSE | GF54: =L60 -> 0 | GG54: =S60 -> 0 | GH54: =GF54+GG54 -> 0 | GI54: =GH54 -> 0 | GJ54: =D60 -> 0 | GK54: =GJ54-GI54+1 -> 1 | GL54: =H60 -> 0 | GM54: =IF(GK54<7,GK54,7) -> 1 | GN54: =IF(GK54>14,7,GK54-7) -> -6 | GO54: =IF(GK54>21,7,GK54-14) -> -13 | GP54: =GK54-21 -> -20 | GQ54: =IF(GM54>0,GM54,0) -> 1 | GR54: =IF(GN54>0,GN54,0) -> 0 | GS54: =IF(GO54>0,GO54,0) -> 0 | GT54: =IF(GP54>0,GP54,0) -> 0 | GU54: 75 | GV54: 106 | GW54: 144 | GX54: 144 | GY54: =GQ54*GU54 -> 75 | GZ54: =GR54*GV54 -> 0 | HA54: =GS54*GW54 -> 0 | HB54: =GT54*GX54 -> 0 | HC54: =SUM(GY54:HB54) -> 75 | HD54: =IF(GL54=40,HC54*2,IF(GL54=20,HC54)) -> FALSE | HM54: |* | HO54: | | HP54: =IF(HS54="D",0,1) -> 1 | HQ54: | | HS54: =T(D54:D54) | HU54: | | HV54: =(+F59-D59-1)*3 -> -3 | HW54: | | HX54: =IF(E59<TIME(7,0,0),4,IF(AND(E59>=TIME(7,0,0),+E59<TIME(15,0,0)),3,IF(AND(E59>=TIME(15,0,0),+E59<TIME(23,0,0)),2,1))) -> 4 | HY54: | | HZ54: =IF(G59<=TIME(7,0,0),0,IF(AND(G59>TIME(7,0,0),+G59<=TIME(15,0,0)),1,IF(AND(G59>TIME(15,0,0),+G59<=TIME(23,0,0)),2,3))) -> 0 | IA54: | | IJ54: | | IK54: =DATE(97,2,28) -> 35489 | IL54: |
A55: 1 | J55: =IF(HP50=0,0,+HV50+HX50+HZ50) -> 1 | M55: =IF(H55<>40,$GZ$2*J55,(($HA$2*1)*J55))*1 -> 18.35 | N55: =IF(H55=20,U55,V55) -> 0 | O55: =HD49 -> FALSE | P55: =B55 -> 0 | U55: =IF(K55<10,K55*11.88,IF(K55<16,(10*11.88)+(K55-10)*15.77,((10*11.88)+(5*15.77)+(K55-15)*23.87))) -> 0 | V55: =IF(K55<10,K55*23.87,IF(K55<16,(10*23.87)+(K55-10)*31.75,((10*23.87)+(5*31.75)+(K55-15)*47.52))) -> 0 | FE55: =D61 -> 0 | FF55: 0 | FG55: =FE55+FF55 -> 0 | FH55: =FG55 -> 0 | FI55: =F61 -> 0 | FJ55: =FI55-FH55 -> 0 | FK55: =H61 -> 0 | FL55: =IF(FJ55<7,FJ55,10) -> 0 | FM55: =IF(FJ55>15,5,FJ55-10) -> -10 | FN55: =FJ55-15 -> -15 | FO55: =IF(FL55>0,FL55,0) -> 0 | FP55: =IF(FM55>0,FM55,0) -> 0 | FQ55: =IF(FN55>0,FN55,0) -> 0 | FR55: 11.25 | FS55: 15 | FT55: 22.5 | FU55: =IF(FK55=20,$FF$2*FO55,IF(FK55=40,$FF$3*FO55,"wrong size")) -> wrong size | FV55: =IF(FK55=20,$FG$2*FP55,IF(FK55=40,$FG$3*FP55,"wrong size")) -> wrong size | FW55: =IF(FK55=20,$FH$2*FQ55,IF(FK55=40,$FH$3*FQ55,"wrong size")) -> wrong size | FX55: =SUM(FU55:FW55) -> 0 | FY55: =IF(FK55=40,FX55*2,IF(FK55=20,FX55)) -> FALSE | GF55: =L61 -> 0 | GG55: =S61 -> 0 | GH55: =GF55+GG55 -> 0 | GI55: =GH55 -> 0 | GJ55: =D61 -> 0 | GK55: =GJ55-GI55+1 -> 1 | GL55: =H61 -> 0 | GM55: =IF(GK55<7,GK55,7) -> 1 | GN55: =IF(GK55>14,7,GK55-7) -> -6 | GO55: =IF(GK55>21,7,GK55-14) -> -13 | GP55: =GK55-21 -> -20 | GQ55: =IF(GM55>0,GM55,0) -> 1 | GR55: =IF(GN55>0,GN55,0) -> 0 | GS55: =IF(GO55>0,GO55,0) -> 0 | GT55: =IF(GP55>0,GP55,0) -> 0 | GU55: 75 | GV55: 106 | GW55: 144 | GX55: 144 | GY55: =GQ55*GU55 -> 75 | GZ55: =GR55*GV55 -> 0 | HA55: =GS55*GW55 -> 0 | HB55: =GT55*GX55 -> 0 | HC55: =SUM(GY55:HB55) -> 75 | HD55: =IF(GL55=40,HC55*2,IF(GL55=20,HC55)) -> FALSE | HM55: |* | HO55: | | HP55: =IF(HS55="D",0,1) -> 1 | HQ55: | | HS55: =T(D55:D55) | HU55: | | HV55: =(+F60-D60-1)*3 -> -3 | HW55: | | HX55: =IF(E60<TIME(7,0,0),4,IF(AND(E60>=TIME(7,0,0),+E60<TIME(15,0,0)),3,IF(AND(E60>=TIME(15,0,0),+E60<TIME(23,0,0)),2,1))) -> 4 | HY55: | | HZ55: =IF(G60<=TIME(7,0,0),0,IF(AND(G60>TIME(7,0,0),+G60<=TIME(15,0,0)),1,IF(AND(G60>TIME(15,0,0),+G60<=TIME(23,0,0)),2,3))) -> 0 | IA55: | | IJ55: | | IK55: =DATE(97,2,28) -> 35489 | IL55: |
A56: 1 | J56: =IF(HP51=0,0,+HV51+HX51+HZ51) -> 1 | M56: =IF(H56<>40,$GZ$2*J56,(($HA$2*1)*J56))*1 -> 18.35 | N56: =IF(H56=20,U56,V56) -> 0 | O56: =HD50 -> FALSE | P56: =B56 -> 0 | U56: =IF(K56<10,K56*11.88,IF(K56<16,(10*11.88)+(K56-10)*15.77,((10*11.88)+(5*15.77)+(K56-15)*23.87))) -> 0 | V56: =IF(K56<10,K56*23.87,IF(K56<16,(10*23.87)+(K56-10)*31.75,((10*23.87)+(5*31.75)+(K56-15)*47.52))) -> 0 | FE56: =D62 -> 0 | FF56: 0 | FG56: =FE56+FF56 -> 0 | FH56: =FG56 -> 0 | FI56: =F62 -> 0 | FJ56: =FI56-FH56 -> 0 | FK56: =H62 -> 0 | FL56: =IF(FJ56<7,FJ56,10) -> 0 | FM56: =IF(FJ56>15,5,FJ56-10) -> -10 | FN56: =FJ56-15 -> -15 | FO56: =IF(FL56>0,FL56,0) -> 0 | FP56: =IF(FM56>0,FM56,0) -> 0 | FQ56: =IF(FN56>0,FN56,0) -> 0 | FR56: 11.25 | FS56: 15 | FT56: 22.5 | FU56: =IF(FK56=20,$FF$2*FO56,IF(FK56=40,$FF$3*FO56,"wrong size")) -> wrong size | FV56: =IF(FK56=20,$FG$2*FP56,IF(FK56=40,$FG$3*FP56,"wrong size")) -> wrong size | FW56: =IF(FK56=20,$FH$2*FQ56,IF(FK56=40,$FH$3*FQ56,"wrong size")) -> wrong size | FX56: =SUM(FU56:FW56) -> 0 | FY56: =IF(FK56=40,FX56*2,IF(FK56=20,FX56)) -> FALSE | GF56: =L62 -> 0 | GG56: =S62 -> 0 | GH56: =GF56+GG56 -> 0 | GI56: =GH56 -> 0 | GJ56: =D62 -> 0 | GK56: =GJ56-GI56+1 -> 1 | GL56: =H62 -> 0 | GM56: =IF(GK56<7,GK56,7) -> 1 | GN56: =IF(GK56>14,7,GK56-7) -> -6 | GO56: =IF(GK56>21,7,GK56-14) -> -13 | GP56: =GK56-21 -> -20 | GQ56: =IF(GM56>0,GM56,0) -> 1 | GR56: =IF(GN56>0,GN56,0) -> 0 | GS56: =IF(GO56>0,GO56,0) -> 0 | GT56: =IF(GP56>0,GP56,0) -> 0 | GU56: 75 | GV56: 106 | GW56: 144 | GX56: 144 | GY56: =GQ56*GU56 -> 75 | GZ56: =GR56*GV56 -> 0 | HA56: =GS56*GW56 -> 0 | HB56: =GT56*GX56 -> 0 | HC56: =SUM(GY56:HB56) -> 75 | HD56: =IF(GL56=40,HC56*2,IF(GL56=20,HC56)) -> FALSE | HM56: |* | HO56: | | HP56: =IF(HS56="D",0,1) -> 1 | HQ56: | | HS56: =T(D56:D56) | HU56: | | HV56: =(+F61-D61-1)*3 -> -3 | HW56: | | HX56: =IF(E61<TIME(7,0,0),4,IF(AND(E61>=TIME(7,0,0),+E61<TIME(15,0,0)),3,IF(AND(E61>=TIME(15,0,0),+E61<TIME(23,0,0)),2,1))) -> 4 | HY56: | | HZ56: =IF(G61<=TIME(7,0,0),0,IF(AND(G61>TIME(7,0,0),+G61<=TIME(15,0,0)),1,IF(AND(G61>TIME(15,0,0),+G61<=TIME(23,0,0)),2,3))) -> 0 | IA56: | | IJ56: | | IK56: =DATE(97,2,28) -> 35489 | IL56: |
A57: 1 | J57: =IF(HP52=0,0,+HV52+HX52+HZ52) -> 1 | M57: =IF(H57<>40,$GZ$2*J57,(($HA$2*1)*J57))*1 -> 18.35 | N57: =IF(H57=20,U57,V57) -> 0 | O57: =HD51 -> FALSE | P57: =B57 -> 0 | U57: =IF(K57<10,K57*11.88,IF(K57<16,(10*11.88)+(K57-10)*15.77,((10*11.88)+(5*15.77)+(K57-15)*23.87))) -> 0 | V57: =IF(K57<10,K57*23.87,IF(K57<16,(10*23.87)+(K57-10)*31.75,((10*23.87)+(5*31.75)+(K57-15)*47.52))) -> 0 | FE57: =D63 -> 0 | FF57: 0 | FG57: =FE57+FF57 -> 0 | FH57: =FG57 -> 0 | FI57: =F63 -> 0 | FJ57: =FI57-FH57 -> 0 | FK57: =H63 -> 0 | FL57: =IF(FJ57<7,FJ57,10) -> 0 | FM57: =IF(FJ57>15,5,FJ57-10) -> -10 | FN57: =FJ57-15 -> -15 | FO57: =IF(FL57>0,FL57,0) -> 0 | FP57: =IF(FM57>0,FM57,0) -> 0 | FQ57: =IF(FN57>0,FN57,0) -> 0 | FR57: 11.25 | FS57: 15 | FT57: 22.5 | FU57: =IF(FK57=20,$FF$2*FO57,IF(FK57=40,$FF$3*FO57,"wrong size")) -> wrong size | FV57: =IF(FK57=20,$FG$2*FP57,IF(FK57=40,$FG$3*FP57,"wrong size")) -> wrong size | FW57: =IF(FK57=20,$FH$2*FQ57,IF(FK57=40,$FH$3*FQ57,"wrong size")) -> wrong size | FX57: =SUM(FU57:FW57) -> 0 | FY57: =IF(FK57=40,FX57*2,IF(FK57=20,FX57)) -> FALSE | GF57: =L63 -> 0 | GG57: =S63 -> 0 | GH57: =GF57+GG57 -> 0 | GI57: =GH57 -> 0 | GJ57: =D63 -> 0 | GK57: =GJ57-GI57+1 -> 1 | GL57: =H63 -> 0 | GM57: =IF(GK57<7,GK57,7) -> 1 | GN57: =IF(GK57>14,7,GK57-7) -> -6 | GO57: =IF(GK57>21,7,GK57-14) -> -13 | GP57: =GK57-21 -> -20 | GQ57: =IF(GM57>0,GM57,0) -> 1 | GR57: =IF(GN57>0,GN57,0) -> 0 | GS57: =IF(GO57>0,GO57,0) -> 0 | GT57: =IF(GP57>0,GP57,0) -> 0 | GU57: 75 | GV57: 106 | GW57: 144 | GX57: 144 | GY57: =GQ57*GU57 -> 75 | GZ57: =GR57*GV57 -> 0 | HA57: =GS57*GW57 -> 0 | HB57: =GT57*GX57 -> 0 | HC57: =SUM(GY57:HB57) -> 75 | HD57: =IF(GL57=40,HC57*2,IF(GL57=20,HC57)) -> FALSE | HM57: |* | HO57: | | HP57: =IF(HS57="D",0,1) -> 1 | HQ57: | | HS57: =T(D57:D57) | HU57: | | HV57: =(+F62-D62-1)*3 -> -3 | HW57: | | HX57: =IF(E62<TIME(7,0,0),4,IF(AND(E62>=TIME(7,0,0),+E62<TIME(15,0,0)),3,IF(AND(E62>=TIME(15,0,0),+E62<TIME(23,0,0)),2,1))) -> 4 | HY57: | | HZ57: =IF(G62<=TIME(7,0,0),0,IF(AND(G62>TIME(7,0,0),+G62<=TIME(15,0,0)),1,IF(AND(G62>TIME(15,0,0),+G62<=TIME(23,0,0)),2,3))) -> 0 | IA57: | | IJ57: | | IK57: =DATE(97,2,28) -> 35489 | IL57: |
A58: 1 | J58: =IF(HP53=0,0,+HV53+HX53+HZ53) -> 1 | M58: =IF(H58<>40,$GZ$2*J58,(($HA$2*1)*J58))*1 -> 18.35 | N58: =IF(H58=20,U58,V58) -> 0 | O58: =HD52 -> FALSE | P58: =B58 -> 0 | U58: =IF(K58<10,K58*11.88,IF(K58<16,(10*11.88)+(K58-10)*15.77,((10*11.88)+(5*15.77)+(K58-15)*23.87))) -> 0 | V58: =IF(K58<10,K58*23.87,IF(K58<16,(10*23.87)+(K58-10)*31.75,((10*23.87)+(5*31.75)+(K58-15)*47.52))) -> 0 | FE58: =D64 -> 0 | FF58: 0 | FG58: =FE58+FF58 -> 0 | FH58: =FG58 -> 0 | FI58: =F64 -> 0 | FJ58: =FI58-FH58 -> 0 | FK58: =H64 -> 0 | FL58: =IF(FJ58<7,FJ58,10) -> 0 | FM58: =IF(FJ58>15,5,FJ58-10) -> -10 | FN58: =FJ58-15 -> -15 | FO58: =IF(FL58>0,FL58,0) -> 0 | FP58: =IF(FM58>0,FM58,0) -> 0 | FQ58: =IF(FN58>0,FN58,0) -> 0 | FR58: 11.25 | FS58: 15 | FT58: 22.5 | FU58: =IF(FK58=20,$FF$2*FO58,IF(FK58=40,$FF$3*FO58,"wrong size")) -> wrong size | FV58: =IF(FK58=20,$FG$2*FP58,IF(FK58=40,$FG$3*FP58,"wrong size")) -> wrong size | FW58: =IF(FK58=20,$FH$2*FQ58,IF(FK58=40,$FH$3*FQ58,"wrong size")) -> wrong size | FX58: =SUM(FU58:FW58) -> 0 | FY58: =IF(FK58=40,FX58*2,IF(FK58=20,FX58)) -> FALSE | GF58: =L64 -> 0 | GG58: =S64 -> 0 | GH58: =GF58+GG58 -> 0 | GI58: =GH58 -> 0 | GJ58: =D64 -> 0 | GK58: =GJ58-GI58+1 -> 1 | GL58: =H64 -> 0 | GM58: =IF(GK58<7,GK58,7) -> 1 | GN58: =IF(GK58>14,7,GK58-7) -> -6 | GO58: =IF(GK58>21,7,GK58-14) -> -13 | GP58: =GK58-21 -> -20 | GQ58: =IF(GM58>0,GM58,0) -> 1 | GR58: =IF(GN58>0,GN58,0) -> 0 | GS58: =IF(GO58>0,GO58,0) -> 0 | GT58: =IF(GP58>0,GP58,0) -> 0 | GU58: 75 | GV58: 106 | GW58: 144 | GX58: 144 | GY58: =GQ58*GU58 -> 75 | GZ58: =GR58*GV58 -> 0 | HA58: =GS58*GW58 -> 0 | HB58: =GT58*GX58 -> 0 | HC58: =SUM(GY58:HB58) -> 75 | HD58: =IF(GL58=40,HC58*2,IF(GL58=20,HC58)) -> FALSE | HM58: |* | HO58: | | HP58: =IF(HS58="D",0,1) -> 1 | HQ58: | | HS58: =T(D58:D58) | HU58: | | HV58: =(+F63-D63-1)*3 -> -3 | HW58: | | HX58: =IF(E63<TIME(7,0,0),4,IF(AND(E63>=TIME(7,0,0),+E63<TIME(15,0,0)),3,IF(AND(E63>=TIME(15,0,0),+E63<TIME(23,0,0)),2,1))) -> 4 | HY58: | | HZ58: =IF(G63<=TIME(7,0,0),0,IF(AND(G63>TIME(7,0,0),+G63<=TIME(15,0,0)),1,IF(AND(G63>TIME(15,0,0),+G63<=TIME(23,0,0)),2,3))) -> 0 | IA58: | | IJ58: | | IK58: =DATE(97,2,28) -> 35489 | IL58: |
... A115: 1 | J115: =IF(HP110=0,0,+HV110+HX110+HZ110) -> 1 | M115: =IF(H115<>40,$GZ$2*J115,(($HA$2*1)*J115))*1 -> 18.35 | N115: =IF(H115=20,U115,V115) -> 0 | O115: =HD109 -> FALSE | P115: =B115 -> 0 | U115: =IF(K115<10,K115*11.88,IF(K115<16,(10*11.88)+(K115-10)*15.77,((10*11.88)+(5*15.77)+(K115-15)*23.87))) -> 0 | V115: =IF(K115<10,K115*23.87,IF(K115<16,(10*23.87)+(K115-10)*31.75,((10*23.87)+(5*31.75)+(K115-15)*47.52))) -> 0 | FE115: =D121 -> 0 | FF115: 0 | FG115: =FE115+FF115 -> 0 | FH115: =FG115 -> 0 | FI115: =F121 -> 0 | FJ115: =FI115-FH115 -> 0 | FK115: =H121 -> 0 | FL115: =IF(FJ115<7,FJ115,10) -> 0 | FM115: =IF(FJ115>15,5,FJ115-10) -> -10 | FN115: =FJ115-15 -> -15 | FO115: =IF(FL115>0,FL115,0) -> 0 | FP115: =IF(FM115>0,FM115,0) -> 0 | FQ115: =IF(FN115>0,FN115,0) -> 0 | FR115: 11.25 | FS115: 15 | FT115: 22.5 | FU115: =IF(FK115=20,$FF$2*FO115,IF(FK115=40,$FF$3*FO115,"wrong size")) -> wrong size | FV115: =IF(FK115=20,$FG$2*FP115,IF(FK115=40,$FG$3*FP115,"wrong size")) -> wrong size | FW115: =IF(FK115=20,$FH$2*FQ115,IF(FK115=40,$FH$3*FQ115,"wrong size")) -> wrong size | FX115: =SUM(FU115:FW115) -> 0 | FY115: =IF(FK115=40,FX115*2,IF(FK115=20,FX115)) -> FALSE | GF115: =L121 -> 0 | GG115: =S121 -> 0 | GH115: =GF115+GG115 -> 0 | GI115: =GH115 -> 0 | GJ115: =D121 -> 0 | GK115: =GJ115-GI115+1 -> 1 | GL115: =H121 -> 0 | GM115: =IF(GK115<7,GK115,7) -> 1 | GN115: =IF(GK115>14,7,GK115-7) -> -6 | GO115: =IF(GK115>21,7,GK115-14) -> -13 | GP115: =GK115-21 -> -20 | GQ115: =IF(GM115>0,GM115,0) -> 1 | GR115: =IF(GN115>0,GN115,0) -> 0 | GS115: =IF(GO115>0,GO115,0) -> 0 | GT115: =IF(GP115>0,GP115,0) -> 0 | GU115: 75 | GV115: 106 | GW115: 144 | GX115: 144 | GY115: =GQ115*GU115 -> 75 | GZ115: =GR115*GV115 -> 0 | HA115: =GS115*GW115 -> 0 | HB115: =GT115*GX115 -> 0 | HC115: =SUM(GY115:HB115) -> 75 | HD115: =IF(GL115=40,HC115*2,IF(GL115=20,HC115)) -> FALSE | HM115: |* | HO115: | | HP115: =IF(HS115="D",0,1) -> 1 | HQ115: | | HS115: =T(D115:D115) | HU115: | | HV115: =(+F120-D120-1)*3 -> -3 | HW115: | | HX115: =IF(E120<TIME(7,0,0),4,IF(AND(E120>=TIME(7,0,0),+E120<TIME(15,0,0)),3,IF(AND(E120>=TIME(15,0,0),+E120<TIME(23,0,0)),2,1))) -> 4 | HY115: | | HZ115: =IF(G120<=TIME(7,0,0),0,IF(AND(G120>TIME(7,0,0),+G120<=TIME(15,0,0)),1,IF(AND(G120>TIME(15,0,0),+G120<=TIME(23,0,0)),2,3))) -> 0 | IA115: | | IJ115: | | IK115: =DATE(97,2,28) -> 35489 | IL115: |

Sheet EXPORT
P1: days | Q1: tariff | R1: total | HF1: 20ft | HG1: 40ft
C2: SUMMARY EXPORT (MSK) | O2: reefer | P2: 13 | Q2: 36.7 | R2: =P2*Q2 -> 477.1 | FK2: STORAGE rate (reefer) per 20ft | FL2: 11.88 | FM2: 15.77 | FN2: 23.87 | GL2: Dem/det rate (dry) per 20ft | GM2: 22 | GN2: 32 | GO2: 47 | GP2: 55 | HE2: ELECTRICITY | HF2: 18.35 | HG2: 36.7 | HS2: |* | HU2: * | HV2: * | HW2: * | HX2: * | HY2: * | HZ2: * | IA2: * | IB2: * | IC2: * | ID2: * | IE2: * | IF2: * | IG2: * | IH2: * | II2: * | IJ2: * | IK2: * | IL2: * | IM2: *
L3: 7-15 | O3: storage | P3: 4 | Q3: 23.87 | R3: =P3*Q3 -> 95.48 | FL3: 23.87 | FM3: 31.75 | FN3: 47.52 | GL3: Dem/det rate (reef) per 20ft | GM3: 100 | GN3: 125 | GO3: 150 | HS3: |* | HU3: * | HX3: *FOR CALCULATION PURPOSES* | IM3: *
B4: SHIP NAME/VOYAGE NO | D4: : | L4: 15-23 | HS4: |* | HU4: * | HV4: - | HW4: * | HX4: - | HY4: - | HZ4: - | IA4: * | IB4: - | IC4: * | ID4: - | IE4: * | IF4: - | IG4: * | IH4: - | II4: * | IJ4: - | IK4: * | IL4: - | IM4: *
B5: DATE | D5: : | L5: 23-7 | Q5: =95.5/5 -> 19.1 | FK5: plug in date | FL5: freetime | FM5: freetime ends | FN5: detention from | FO5: plug out date | FP5: Number of detention days | FQ5: Equipment size | FR5: calculation formula | FU5: days breakdown | FX5: det tariff per teu | GA5: amt det accrued per scale tariff per teu | GL5: Gate out exp date | GM5: freetime | GN5: freetime ends | GO5: detention from | GP5: gate in exp date | GQ5: Number of detention days | GR5: Equipment size | GS5: calculation formula | GW5: days breakdown | HA5: det tariff per teu | HE5: amt det accrued per scale tariff per teu | HS5: |* | HU5: | | HV5: Val | HW5: | | HX5: D | HY5: e | HZ5: l | IA5: | | IB5: Period 1 | IC5: | | ID5: Period 2 | IE5: | | IF5: Period 3 | IG5: | | II5: | | IJ5: CL I/F | IK5: | | IL5: DATE CL | IM5: |
B6: COMMODITY | D6: : | FK6: =D12 -> 43248 | FL6: 0 | FM6: =FK6+FL6 -> 43248 | FN6: =FM6 -> 43248 | FO6: =F12 -> 43250 | FP6: =FO6-FN6 -> 2 | FQ6: =H12 -> 40 | FR6: =IF(FP6<7,FP6,10) -> 2 | FS6: =IF(FP6>15,5,FP6-10) -> -8 | FT6: =FP6-15 -> -13 | FU6: =IF(FR6>0,FR6,0) -> 2 | FV6: =IF(FS6>0,FS6,0) -> 0 | FW6: =IF(FT6>0,FT6,0) -> 0 | FX6: 11.25 | FY6: 15 | FZ6: 22.5 | GA6: =IF(FQ6=20,$FL$2*FU6,IF(FQ6=40,$FL$3*FU6,"wrong size")) -> 47.74 | GB6: =IF(FQ6=20,$FM$2*FV6,IF(FQ6=40,$FM$3*FV6,"wrong size")) -> 0 | GC6: =IF(FQ6=20,$FN$2*FW6,IF(FQ6=40,$FN$3*FW6,"wrong size")) -> 0 | GD6: =SUM(GA6:GC6) -> 47.74 | GE6: =IF(FQ6=40,GD6*2,IF(FQ6=20,GD6)) -> 95.48 | GL6: =K12 -> 43243 | GM6: =R12 -> 0 | GN6: =GL6+GM6 -> 43243 | GO6: =GN6 -> 43243 | GP6: =D12 -> 43248 | GQ6: =GP6-GO6+1 -> 6 | GR6: =H12 -> 40 | GS6: =IF(GQ6<7,GQ6,7) -> 6 | GT6: =IF(GQ6>14,7,GQ6-7) -> -1 | GU6: =IF(GQ6>21,7,GQ6-14) -> -8 | GV6: =GQ6-21 -> -15 | GW6: =IF(GS6>0,GS6,0) -> 6 | GX6: =IF(GT6>0,GT6,0) -> 0 | GY6: =IF(GU6>0,GU6,0) -> 0 | GZ6: =IF(GV6>0,GV6,0) -> 0 | HA6: 75 | HB6: 106 | HC6: 144 | HD6: 144 | HE6: =GW6*HA6 -> 450 | HF6: =GX6*HB6 -> 0 | HG6: =GY6*HC6 -> 0 | HH6: =GZ6*HD6 -> 0 | HI6: =SUM(HE6:HH6) -> 450 | HJ6: =IF(GR6=40,HI6*2,IF(GR6=20,HI6)) -> 900 | HS6: |* | HU6: * | HV6: - | HW6: * | HX6: - | HY6: - | HZ6: - | IA6: * | IB6: - | IC6: * | ID6: - | IE6: * | IF6: - | IG6: * | IH6: - | II6: * | IJ6: - | IK6: * | IL6: - | IM6: *
B7: QTY OF REEFERS SURVEYED | D7: : | FK7: =D13 -> 43733 | FL7: 0 | FM7: =FK7+FL7 -> 43733 | FN7: =FM7 -> 43733 | FO7: =F13 -> 43739 | FP7: =FO7-FN7 -> 6 | FQ7: =H13 -> 20 | FR7: =IF(FP7<7,FP7,10) -> 6 | FS7: =IF(FP7>15,5,FP7-10) -> -4 | FT7: =FP7-15 -> -9 | FU7: =IF(FR7>0,FR7,0) -> 6 | FV7: =IF(FS7>0,FS7,0) -> 0 | FW7: =IF(FT7>0,FT7,0) -> 0 | FX7: 11.25 | FY7: 15 | FZ7: 22.5 | GA7: =IF(FQ7=20,$FL$2*FU7,IF(FQ7=40,$FL$3*FU7,"wrong size")) -> 71.28 | GB7: =IF(FQ7=20,$FM$2*FV7,IF(FQ7=40,$FM$3*FV7,"wrong size")) -> 0 | GC7: =IF(FQ7=20,$FN$2*FW7,IF(FQ7=40,$FN$3*FW7,"wrong size")) -> 0 | GD7: =SUM(GA7:GC7) -> 71.28 | GE7: =IF(FQ7=40,GD7*2,IF(FQ7=20,GD7)) -> 71.28 | GL7: =K13 -> 43733 | GM7: =R13 -> 0 | GN7: =GL7+GM7 -> 43733 | GO7: =GN7 -> 43733 | GP7: =D13 -> 43733 | GQ7: =GP7-GO7+1 -> 1 | GR7: =H13 -> 20 | GS7: =IF(GQ7<7,GQ7,7) -> 1 | GT7: =IF(GQ7>14,7,GQ7-7) -> -6 | GU7: =IF(GQ7>21,7,GQ7-14) -> -13 | GV7: =GQ7-21 -> -20 | GW7: =IF(GS7>0,GS7,0) -> 1 | GX7: =IF(GT7>0,GT7,0) -> 0 | GY7: =IF(GU7>0,GU7,0) -> 0 | GZ7: =IF(GV7>0,GV7,0) -> 0 | HA7: 75 | HB7: 106 | HC7: 144 | HD7: 144 | HE7: =GW7*HA7 -> 75 | HF7: =GX7*HB7 -> 0 | HG7: =GY7*HC7 -> 0 | HH7: =GZ7*HD7 -> 0 | HI7: =SUM(HE7:HH7) -> 75 | HJ7: =IF(GR7=40,HI7*2,IF(GR7=20,HI7)) -> 75 | HS7: |* | HU7: | | HV7: =IF(HY7="D",0,1) -> 1 | HW7: | | HY7: =T(E7:E7) | IA7: | | IB7: =(+F12-D12-1)*3 -> 3 | IC7: | | ID7: =IF(E12<TIME(7,0,0),4,IF(AND(E12>=TIME(7,0,0),+E12<TIME(15,0,0)),3,IF(AND(E12>=TIME(15,0,0),+E12<TIME(23,0,0)),2,1))) -> 3 | IE7: | | IF7: =IF(G12<=TIME(7,0,0),0,IF(AND(G12>TIME(7,0,0),+G12<=TIME(15,0,0)),1,IF(AND(G12>TIME(15,0,0),+G12<=TIME(23,0,0)),2,3))) -> 2 | IG7: | | IP7: | | IQ7: =DATE(97,2,28) -> 35489 | IR7: |
B8: ROE | D8: : | FK8: =D14 -> 43732 | FL8: 0 | FM8: =FK8+FL8 -> 43732 | FN8: =FM8 -> 43732 | FO8: =F14 -> 43739 | FP8: =FO8-FN8 -> 7 | FQ8: =H14 -> 40 | FR8: =IF(FP8<7,FP8,10) -> 10 | FS8: =IF(FP8>15,5,FP8-10) -> -3 | FT8: =FP8-15 -> -8 | FU8: =IF(FR8>0,FR8,0) -> 10 | FV8: =IF(FS8>0,FS8,0) -> 0 | FW8: =IF(FT8>0,FT8,0) -> 0 | FX8: 11.25 | FY8: 15 | FZ8: 22.5 | GA8: =IF(FQ8=20,$FL$2*FU8,IF(FQ8=40,$FL$3*FU8,"wrong size")) -> 238.7 | GB8: =IF(FQ8=20,$FM$2*FV8,IF(FQ8=40,$FM$3*FV8,"wrong size")) -> 0 | GC8: =IF(FQ8=20,$FN$2*FW8,IF(FQ8=40,$FN$3*FW8,"wrong size")) -> 0 | GD8: =SUM(GA8:GC8) -> 238.7 | GE8: =IF(FQ8=40,GD8*2,IF(FQ8=20,GD8)) -> 477.4 | GL8: =K14 -> 43726 | GM8: =R14 -> 0 | GN8: =GL8+GM8 -> 43726 | GO8: =GN8 -> 43726 | GP8: =D14 -> 43732 | GQ8: =GP8-GO8+1 -> 7 | GR8: =H14 -> 40 | GS8: =IF(GQ8<7,GQ8,7) -> 7 | GT8: =IF(GQ8>14,7,GQ8-7) -> 0 | GU8: =IF(GQ8>21,7,GQ8-14) -> -7 | GV8: =GQ8-21 -> -14 | GW8: =IF(GS8>0,GS8,0) -> 7 | GX8: =IF(GT8>0,GT8,0) -> 0 | GY8: =IF(GU8>0,GU8,0) -> 0 | GZ8: =IF(GV8>0,GV8,0) -> 0 | HA8: 75 | HB8: 106 | HC8: 144 | HD8: 144 | HE8: =GW8*HA8 -> 525 | HF8: =GX8*HB8 -> 0 | HG8: =GY8*HC8 -> 0 | HH8: =GZ8*HD8 -> 0 | HI8: =SUM(HE8:HH8) -> 525 | HJ8: =IF(GR8=40,HI8*2,IF(GR8=20,HI8)) -> 1050 | HS8: |* | HU8: | | HV8: =IF(HY8="D",0,1) -> 1 | HW8: | | HY8: =T(E8:E8) | IA8: | | IB8: =(+F13-D13-1)*3 -> 15 | IC8: | | ID8: =IF(E13<TIME(7,0,0),4,IF(AND(E13>=TIME(7,0,0),+E13<TIME(15,0,0)),3,IF(AND(E13>=TIME(15,0,0),+E13<TIME(23,0,0)),2,1))) -> 2 | IE8: | | IF8: =IF(G13<=TIME(7,0,0),0,IF(AND(G13>TIME(7,0,0),+G13<=TIME(15,0,0)),1,IF(AND(G13>TIME(15,0,0),+G13<=TIME(23,0,0)),2,3))) -> 2 | IG8: | | IP8: | | IQ8: =DATE(97,2,28) -> 35489 | IR8: |
D9: GATE-IN EXP F (Shift +F4) | F9: LOAD (Shift +F4) | FK9: =D15 -> 43953 | FL9: 0 | FM9: =FK9+FL9 -> 43953 | FN9: =FM9 -> 43953 | FO9: =F15 -> 43957 | FP9: =FO9-FN9 -> 4 | FQ9: =H15 -> 40 | FR9: =IF(FP9<7,FP9,10) -> 4 | FS9: =IF(FP9>15,5,FP9-10) -> -6 | FT9: =FP9-15 -> -11 | FU9: =IF(FR9>0,FR9,0) -> 4 | FV9: =IF(FS9>0,FS9,0) -> 0 | FW9: =IF(FT9>0,FT9,0) -> 0 | FX9: 11.25 | FY9: 15 | FZ9: 22.5 | GA9: =IF(FQ9=20,$FL$2*FU9,IF(FQ9=40,$FL$3*FU9,"wrong size")) -> 95.48 | GB9: =IF(FQ9=20,$FM$2*FV9,IF(FQ9=40,$FM$3*FV9,"wrong size")) -> 0 | GC9: =IF(FQ9=20,$FN$2*FW9,IF(FQ9=40,$FN$3*FW9,"wrong size")) -> 0 | GD9: =SUM(GA9:GC9) -> 95.48 | GE9: =IF(FQ9=40,GD9*2,IF(FQ9=20,GD9)) -> 190.96 | GL9: =K15 -> 43936 | GM9: =R15 -> 0 | GN9: =GL9+GM9 -> 43936 | GO9: =GN9 -> 43936 | GP9: =D15 -> 43953 | GQ9: =GP9-GO9+1 -> 18 | GR9: =H15 -> 40 | GS9: =IF(GQ9<7,GQ9,7) -> 7 | GT9: =IF(GQ9>14,7,GQ9-7) -> 7 | GU9: =IF(GQ9>21,7,GQ9-14) -> 4 | GV9: =GQ9-21 -> -3 | GW9: =IF(GS9>0,GS9,0) -> 7 | GX9: =IF(GT9>0,GT9,0) -> 7 | GY9: =IF(GU9>0,GU9,0) -> 4 | GZ9: =IF(GV9>0,GV9,0) -> 0 | HA9: 75 | HB9: 106 | HC9: 144 | HD9: 144 | HE9: =GW9*HA9 -> 525 | HF9: =GX9*HB9 -> 742 | HG9: =GY9*HC9 -> 576 | HH9: =GZ9*HD9 -> 0 | HI9: =SUM(HE9:HH9) -> 1843 | HJ9: =IF(GR9=40,HI9*2,IF(GR9=20,HI9)) -> 3686 | HS9: |* | HU9: | | HV9: =IF(HY9="D",0,1) -> 1 | HW9: | | HY9: =T(E9:E9) | IA9: | | IB9: =(+F14-D14-1)*3 -> 18 | IC9: | | ID9: =IF(E14<TIME(7,0,0),4,IF(AND(E14>=TIME(7,0,0),+E14<TIME(15,0,0)),3,IF(AND(E14>=TIME(15,0,0),+E14<TIME(23,0,0)),2,1))) -> 3 | IE9: | | IF9: =IF(G14<=TIME(7,0,0),0,IF(AND(G14>TIME(7,0,0),+G14<=TIME(15,0,0)),1,IF(AND(G14>TIME(15,0,0),+G14<=TIME(23,0,0)),2,3))) -> 2 | IG9: | | IP9: | | IQ9: =DATE(97,2,28) -> 35489 | IR9: |
A10: NO | B10: REEFER NO. | C10: Seal Nos | D10: Plug-in | F10: Plug-out | H10: Sz | I10: Set | J10: Number of units of electricity | K10: Gate out - EXP | L10: Reefer charges | M10: Storage charge | N10: Detention Charge | O10: Container number | P10: Bill of Lading | Q10: Customer Name | R10: Agreed freetime | FK10: =D16 -> 43953 | FL10: 0 | FM10: =FK10+FL10 -> 43953 | FN10: =FM10 -> 43953 | FO10: =F16 -> 43957 | FP10: =FO10-FN10 -> 4 | FQ10: =H16 -> 40 | FR10: =IF(FP10<7,FP10,10) -> 4 | FS10: =IF(FP10>15,5,FP10-10) -> -6 | FT10: =FP10-15 -> -11 | FU10: =IF(FR10>0,FR10,0) -> 4 | FV10: =IF(FS10>0,FS10,0) -> 0 | FW10: =IF(FT10>0,FT10,0) -> 0 | FX10: 11.25 | FY10: 15 | FZ10: 22.5 | GA10: =IF(FQ10=20,$FL$2*FU10,IF(FQ10=40,$FL$3*FU10,"wrong size")) -> 95.48 | GB10: =IF(FQ10=20,$FM$2*FV10,IF(FQ10=40,$FM$3*FV10,"wrong size")) -> 0 | GC10: =IF(FQ10=20,$FN$2*FW10,IF(FQ10=40,$FN$3*FW10,"wrong size")) -> 0 | GD10: =SUM(GA10:GC10) -> 95.48 | GE10: =IF(FQ10=40,GD10*2,IF(FQ10=20,GD10)) -> 190.96 | GL10: =K16 -> 43936 | GM10: =R16 -> 0 | GN10: =GL10+GM10 -> 43936 | GO10: =GN10 -> 43936 | GP10: =D16 -> 43953 | GQ10: =GP10-GO10+1 -> 18 | GR10: =H16 -> 40 | GS10: =IF(GQ10<7,GQ10,7) -> 7 | GT10: =IF(GQ10>14,7,GQ10-7) -> 7 | GU10: =IF(GQ10>21,7,GQ10-14) -> 4 | GV10: =GQ10-21 -> -3 | GW10: =IF(GS10>0,GS10,0) -> 7 | GX10: =IF(GT10>0,GT10,0) -> 7 | GY10: =IF(GU10>0,GU10,0) -> 4 | GZ10: =IF(GV10>0,GV10,0) -> 0 | HA10: 75 | HB10: 106 | HC10: 144 | HD10: 144 | HE10: =GW10*HA10 -> 525 | HF10: =GX10*HB10 -> 742 | HG10: =GY10*HC10 -> 576 | HH10: =GZ10*HD10 -> 0 | HI10: =SUM(HE10:HH10) -> 1843 | HJ10: =IF(GR10=40,HI10*2,IF(GR10=20,HI10)) -> 3686 | HS10: |* | HU10: | | HV10: =IF(HY10="D",0,1) -> 1 | HW10: | | HY10: =T(D10:D10) -> Plug-in | IA10: | | IB10: =(+F15-D15-1)*3 -> 9 | IC10: | | ID10: =IF(E15<TIME(7,0,0),4,IF(AND(E15>=TIME(7,0,0),+E15<TIME(15,0,0)),3,IF(AND(E15>=TIME(15,0,0),+E15<TIME(23,0,0)),2,1))) -> 3 | IE10: | | IF10: =IF(G15<=TIME(7,0,0),0,IF(AND(G15>TIME(7,0,0),+G15<=TIME(15,0,0)),1,IF(AND(G15>TIME(15,0,0),+G15<=TIME(23,0,0)),2,3))) -> 1 | IG10: | | IP10: | | IQ10: =DATE(97,2,28) -> 35489 | IR10: |
D11: Date | E11: Time | F11: Date | G11: Time | I11: C | K11: Date | L11: USD | M11: USD | N11: USD | FK11: =D17 -> 43953 | FL11: 0 | FM11: =FK11+FL11 -> 43953 | FN11: =FM11 -> 43953 | FO11: =F17 -> 43957 | FP11: =FO11-FN11 -> 4 | FQ11: =H17 -> 40 | FR11: =IF(FP11<7,FP11,10) -> 4 | FS11: =IF(FP11>15,5,FP11-10) -> -6 | FT11: =FP11-15 -> -11 | FU11: =IF(FR11>0,FR11,0) -> 4 | FV11: =IF(FS11>0,FS11,0) -> 0 | FW11: =IF(FT11>0,FT11,0) -> 0 | FX11: 11.25 | FY11: 15 | FZ11: 22.5 | GA11: =IF(FQ11=20,$FL$2*FU11,IF(FQ11=40,$FL$3*FU11,"wrong size")) -> 95.48 | GB11: =IF(FQ11=20,$FM$2*FV11,IF(FQ11=40,$FM$3*FV11,"wrong size")) -> 0 | GC11: =IF(FQ11=20,$FN$2*FW11,IF(FQ11=40,$FN$3*FW11,"wrong size")) -> 0 | GD11: =SUM(GA11:GC11) -> 95.48 | GE11: =IF(FQ11=40,GD11*2,IF(FQ11=20,GD11)) -> 190.96 | GL11: =K17 -> 43936 | GM11: =R17 -> 0 | GN11: =GL11+GM11 -> 43936 | GO11: =GN11 -> 43936 | GP11: =D17 -> 43953 | GQ11: =GP11-GO11+1 -> 18 | GR11: =H17 -> 40 | GS11: =IF(GQ11<7,GQ11,7) -> 7 | GT11: =IF(GQ11>14,7,GQ11-7) -> 7 | GU11: =IF(GQ11>21,7,GQ11-14) -> 4 | GV11: =GQ11-21 -> -3 | GW11: =IF(GS11>0,GS11,0) -> 7 | GX11: =IF(GT11>0,GT11,0) -> 7 | GY11: =IF(GU11>0,GU11,0) -> 4 | GZ11: =IF(GV11>0,GV11,0) -> 0 | HA11: 75 | HB11: 106 | HC11: 144 | HD11: 144 | HE11: =GW11*HA11 -> 525 | HF11: =GX11*HB11 -> 742 | HG11: =GY11*HC11 -> 576 | HH11: =GZ11*HD11 -> 0 | HI11: =SUM(HE11:HH11) -> 1843 | HJ11: =IF(GR11=40,HI11*2,IF(GR11=20,HI11)) -> 3686 | HS11: |* | HU11: | | HV11: =IF(HY11="D",0,1) -> 1 | HW11: | | HY11: =T(D11:D11) -> Date | IA11: | | IB11: =(+F16-D16-1)*3 -> 9 | IC11: | | ID11: =IF(E16<TIME(7,0,0),4,IF(AND(E16>=TIME(7,0,0),+E16<TIME(15,0,0)),3,IF(AND(E16>=TIME(15,0,0),+E16<TIME(23,0,0)),2,1))) -> 3 | IE11: | | IF11: =IF(G16<=TIME(7,0,0),0,IF(AND(G16>TIME(7,0,0),+G16<=TIME(15,0,0)),1,IF(AND(G16>TIME(15,0,0),+G16<=TIME(23,0,0)),2,3))) -> 1 | IG11: | | IP11: | | IQ11: =DATE(97,2,28) -> 35489 | IR11: |
B12: MWMU6429831 | D12: 43248 | E12: 0.57708333 | F12: 43250 | G12: 0.875 | H12: 40 | J12: =IF(HV7=0,0,+IB7+ID7+IF7) -> 8 | K12: 43243 | L12: =IF(H12<>40,(15*1)*J12,((15*1)*J12)*2)*1 -> 240 | M12: =GD6 -> 47.74 | N12: =HJ6 -> 900 | O12: =B12 -> MWMU6429831 | P12: 965064887 | Q12: SAPMER PREMIUM SEAPRODUCTS | FK12: =D18 -> 43953 | FL12: 0 | FM12: =FK12+FL12 -> 43953 | FN12: =FM12 -> 43953 | FO12: =F18 -> 43957 | FP12: =FO12-FN12 -> 4 | FQ12: =H18 -> 40 | FR12: =IF(FP12<7,FP12,10) -> 4 | FS12: =IF(FP12>15,5,FP12-10) -> -6 | FT12: =FP12-15 -> -11 | FU12: =IF(FR12>0,FR12,0) -> 4 | FV12: =IF(FS12>0,FS12,0) -> 0 | FW12: =IF(FT12>0,FT12,0) -> 0 | FX12: 11.25 | FY12: 15 | FZ12: 22.5 | GA12: =IF(FQ12=20,$FL$2*FU12,IF(FQ12=40,$FL$3*FU12,"wrong size")) -> 95.48 | GB12: =IF(FQ12=20,$FM$2*FV12,IF(FQ12=40,$FM$3*FV12,"wrong size")) -> 0 | GC12: =IF(FQ12=20,$FN$2*FW12,IF(FQ12=40,$FN$3*FW12,"wrong size")) -> 0 | GD12: =SUM(GA12:GC12) -> 95.48 | GE12: =IF(FQ12=40,GD12*2,IF(FQ12=20,GD12)) -> 190.96 | GL12: =K18 -> 43945 | GM12: =R18 -> 0 | GN12: =GL12+GM12 -> 43945 | GO12: =GN12 -> 43945 | GP12: =D18 -> 43953 | GQ12: =GP12-GO12+1 -> 9 | GR12: =H18 -> 40 | GS12: =IF(GQ12<7,GQ12,7) -> 7 | GT12: =IF(GQ12>14,7,GQ12-7) -> 2 | GU12: =IF(GQ12>21,7,GQ12-14) -> -5 | GV12: =GQ12-21 -> -12 | GW12: =IF(GS12>0,GS12,0) -> 7 | GX12: =IF(GT12>0,GT12,0) -> 2 | GY12: =IF(GU12>0,GU12,0) -> 0 | GZ12: =IF(GV12>0,GV12,0) -> 0 | HA12: 75 | HB12: 106 | HC12: 144 | HD12: 144 | HE12: =GW12*HA12 -> 525 | HF12: =GX12*HB12 -> 212 | HG12: =GY12*HC12 -> 0 | HH12: =GZ12*HD12 -> 0 | HI12: =SUM(HE12:HH12) -> 737 | HJ12: =IF(GR12=40,HI12*2,IF(GR12=20,HI12)) -> 1474 | HS12: |* | HU12: | | HV12: =IF(HY12="D",0,1) -> 1 | HW12: | | HY12: =T(D12:D12) | IA12: | | IB12: =(+F17-D17-1)*3 -> 9 | IC12: | | ID12: =IF(E17<TIME(7,0,0),4,IF(AND(E17>=TIME(7,0,0),+E17<TIME(15,0,0)),3,IF(AND(E17>=TIME(15,0,0),+E17<TIME(23,0,0)),2,1))) -> 3 | IE12: | | IF12: =IF(G17<=TIME(7,0,0),0,IF(AND(G17>TIME(7,0,0),+G17<=TIME(15,0,0)),1,IF(AND(G17>TIME(15,0,0),+G17<=TIME(23,0,0)),2,3))) -> 1 | IG12: | | IP12: | | IQ12: =DATE(97,2,28) -> 35489 | IR12: |
B13: MWCU5725090 | D13: 43733 | E13: 0.66180556 | F13: 43739 | G13: 0.80763889 | H13: 20 | J13: =IF(HV8=0,0,+IB8+ID8+IF8) -> 19 | K13: 43733 | L13: =IF(H13<>40,$HF$2*J13,(($HG$2*1)*J13))*1 -> 348.65 | M13: =GD7 -> 71.28 | N13: =HJ7 -> 75 | O13: =B13 -> MWCU5725090 | P13: 969599035 | Q13: LUTTICK AUSTRALIA PTY LTD | FK13: =D19 -> 0 | FL13: 0 | FM13: =FK13+FL13 -> 0 | FN13: =FM13 -> 0 | FO13: =F19 -> 0 | FP13: =FO13-FN13 -> 0 | FQ13: =H19 -> 0 | FR13: =IF(FP13<7,FP13,10) -> 0 | FS13: =IF(FP13>15,5,FP13-10) -> -10 | FT13: =FP13-15 -> -15 | FU13: =IF(FR13>0,FR13,0) -> 0 | FV13: =IF(FS13>0,FS13,0) -> 0 | FW13: =IF(FT13>0,FT13,0) -> 0 | FX13: 11.25 | FY13: 15 | FZ13: 22.5 | GA13: =IF(FQ13=20,$FL$2*FU13,IF(FQ13=40,$FL$3*FU13,"wrong size")) -> wrong size | GB13: =IF(FQ13=20,$FM$2*FV13,IF(FQ13=40,$FM$3*FV13,"wrong size")) -> wrong size | GC13: =IF(FQ13=20,$FN$2*FW13,IF(FQ13=40,$FN$3*FW13,"wrong size")) -> wrong size | GD13: =SUM(GA13:GC13) -> 0 | GE13: =IF(FQ13=40,GD13*2,IF(FQ13=20,GD13)) -> FALSE | GL13: =K19 -> 0 | GM13: =R19 -> 0 | GN13: =GL13+GM13 -> 0 | GO13: =GN13 -> 0 | GP13: =D19 -> 0 | GQ13: =GP13-GO13+1 -> 1 | GR13: =H19 -> 0 | GS13: =IF(GQ13<7,GQ13,7) -> 1 | GT13: =IF(GQ13>14,7,GQ13-7) -> -6 | GU13: =IF(GQ13>21,7,GQ13-14) -> -13 | GV13: =GQ13-21 -> -20 | GW13: =IF(GS13>0,GS13,0) -> 1 | GX13: =IF(GT13>0,GT13,0) -> 0 | GY13: =IF(GU13>0,GU13,0) -> 0 | GZ13: =IF(GV13>0,GV13,0) -> 0 | HA13: 75 | HB13: 106 | HC13: 144 | HD13: 144 | HE13: =GW13*HA13 -> 75 | HF13: =GX13*HB13 -> 0 | HG13: =GY13*HC13 -> 0 | HH13: =GZ13*HD13 -> 0 | HI13: =SUM(HE13:HH13) -> 75 | HJ13: =IF(GR13=40,HI13*2,IF(GR13=20,HI13)) -> FALSE | HS13: |* | HU13: | | HV13: =IF(HY13="D",0,1) -> 1 | HW13: | | HY13: =T(D13:D13) | IA13: | | IB13: =(+F18-D18-1)*3 -> 9 | IC13: | | ID13: =IF(E18<TIME(7,0,0),4,IF(AND(E18>=TIME(7,0,0),+E18<TIME(15,0,0)),3,IF(AND(E18>=TIME(15,0,0),+E18<TIME(23,0,0)),2,1))) -> 3 | IE13: | | IF13: =IF(G18<=TIME(7,0,0),0,IF(AND(G18>TIME(7,0,0),+G18<=TIME(15,0,0)),1,IF(AND(G18>TIME(15,0,0),+G18<=TIME(23,0,0)),2,3))) -> 1 | IG13: | | IP13: | | IQ13: =DATE(97,2,28) -> 35489 | IR13: |
B14: MNBU4044973 | D14: 43732 | E14: 0.41388889 | F14: 43739 | G14: 0.83125 | H14: 40 | J14: =IF(HV9=0,0,+IB9+ID9+IF9) -> 23 | K14: 43726 | L14: =IF(H14<>40,$HF$2*J14,(($HG$2*1)*J14))*1 -> 844.1 | M14: =GD8 -> 238.7 | N14: =HJ8 -> 1050 | O14: =B14 -> MNBU4044973 | P14: 969611639 | Q14: LUTTICK AUSTRALIA PTY LTD | FK14: =D20 -> 0 | FL14: 0 | FM14: =FK14+FL14 -> 0 | FN14: =FM14 -> 0 | FO14: =F20 -> 0 | FP14: =FO14-FN14 -> 0 | FQ14: =H20 -> 0 | FR14: =IF(FP14<7,FP14,10) -> 0 | FS14: =IF(FP14>15,5,FP14-10) -> -10 | FT14: =FP14-15 -> -15 | FU14: =IF(FR14>0,FR14,0) -> 0 | FV14: =IF(FS14>0,FS14,0) -> 0 | FW14: =IF(FT14>0,FT14,0) -> 0 | FX14: 11.25 | FY14: 15 | FZ14: 22.5 | GA14: =IF(FQ14=20,$FL$2*FU14,IF(FQ14=40,$FL$3*FU14,"wrong size")) -> wrong size | GB14: =IF(FQ14=20,$FM$2*FV14,IF(FQ14=40,$FM$3*FV14,"wrong size")) -> wrong size | GC14: =IF(FQ14=20,$FN$2*FW14,IF(FQ14=40,$FN$3*FW14,"wrong size")) -> wrong size | GD14: =SUM(GA14:GC14) -> 0 | GE14: =IF(FQ14=40,GD14*2,IF(FQ14=20,GD14)) -> FALSE | GL14: =K20 -> 0 | GM14: =R20 -> 0 | GN14: =GL14+GM14 -> 0 | GO14: =GN14 -> 0 | GP14: =D20 -> 0 | GQ14: =GP14-GO14+1 -> 1 | GR14: =H20 -> 0 | GS14: =IF(GQ14<7,GQ14,7) -> 1 | GT14: =IF(GQ14>14,7,GQ14-7) -> -6 | GU14: =IF(GQ14>21,7,GQ14-14) -> -13 | GV14: =GQ14-21 -> -20 | GW14: =IF(GS14>0,GS14,0) -> 1 | GX14: =IF(GT14>0,GT14,0) -> 0 | GY14: =IF(GU14>0,GU14,0) -> 0 | GZ14: =IF(GV14>0,GV14,0) -> 0 | HA14: 75 | HB14: 106 | HC14: 144 | HD14: 144 | HE14: =GW14*HA14 -> 75 | HF14: =GX14*HB14 -> 0 | HG14: =GY14*HC14 -> 0 | HH14: =GZ14*HD14 -> 0 | HI14: =SUM(HE14:HH14) -> 75 | HJ14: =IF(GR14=40,HI14*2,IF(GR14=20,HI14)) -> FALSE | HS14: |* | HU14: | | HV14: =IF(HY14="D",0,1) -> 1 | HW14: | | HY14: =T(D14:D14) | IA14: | | IB14: =(+F19-D19-1)*3 -> -3 | IC14: | | ID14: =IF(E19<TIME(7,0,0),4,IF(AND(E19>=TIME(7,0,0),+E19<TIME(15,0,0)),3,IF(AND(E19>=TIME(15,0,0),+E19<TIME(23,0,0)),2,1))) -> 4 | IE14: | | IF14: =IF(G19<=TIME(7,0,0),0,IF(AND(G19>TIME(7,0,0),+G19<=TIME(15,0,0)),1,IF(AND(G19>TIME(15,0,0),+G19<=TIME(23,0,0)),2,3))) -> 0 | IG14: | | IP14: | | IQ14: =DATE(97,2,28) -> 35489 | IR14: |
B15: MSFU8620448 | D15: 43953 | E15: 0.37569444 | F15: 43957 | G15: 0.59097222 | H15: 40 | J15: =IF(HV10=0,0,+IB10+ID10+IF10) -> 13 | K15: 43936 | L15: =IF(H15<>40,$HF$2*J15,(($HG$2*1)*J15))*1 -> 477.1 | M15: =GD9 -> 95.48 | N15: =HJ9 -> 3686 | O15: =B15 -> MSFU8620448 | P15: 910573898 | Q15: TRANSFROID LTD | FK15: =D21 -> 0 | FL15: 0 | FM15: =FK15+FL15 -> 0 | FN15: =FM15 -> 0 | FO15: =F21 -> 0 | FP15: =FO15-FN15 -> 0 | FQ15: =H21 -> 0 | FR15: =IF(FP15<7,FP15,10) -> 0 | FS15: =IF(FP15>15,5,FP15-10) -> -10 | FT15: =FP15-15 -> -15 | FU15: =IF(FR15>0,FR15,0) -> 0 | FV15: =IF(FS15>0,FS15,0) -> 0 | FW15: =IF(FT15>0,FT15,0) -> 0 | FX15: 11.25 | FY15: 15 | FZ15: 22.5 | GA15: =IF(FQ15=20,$FL$2*FU15,IF(FQ15=40,$FL$3*FU15,"wrong size")) -> wrong size | GB15: =IF(FQ15=20,$FM$2*FV15,IF(FQ15=40,$FM$3*FV15,"wrong size")) -> wrong size | GC15: =IF(FQ15=20,$FN$2*FW15,IF(FQ15=40,$FN$3*FW15,"wrong size")) -> wrong size | GD15: =SUM(GA15:GC15) -> 0 | GE15: =IF(FQ15=40,GD15*2,IF(FQ15=20,GD15)) -> FALSE | GL15: =K21 -> 0 | GM15: =R21 -> 0 | GN15: =GL15+GM15 -> 0 | GO15: =GN15 -> 0 | GP15: =D21 -> 0 | GQ15: =GP15-GO15+1 -> 1 | GR15: =H21 -> 0 | GS15: =IF(GQ15<7,GQ15,7) -> 1 | GT15: =IF(GQ15>14,7,GQ15-7) -> -6 | GU15: =IF(GQ15>21,7,GQ15-14) -> -13 | GV15: =GQ15-21 -> -20 | GW15: =IF(GS15>0,GS15,0) -> 1 | GX15: =IF(GT15>0,GT15,0) -> 0 | GY15: =IF(GU15>0,GU15,0) -> 0 | GZ15: =IF(GV15>0,GV15,0) -> 0 | HA15: 75 | HB15: 106 | HC15: 144 | HD15: 144 | HE15: =GW15*HA15 -> 75 | HF15: =GX15*HB15 -> 0 | HG15: =GY15*HC15 -> 0 | HH15: =GZ15*HD15 -> 0 | HI15: =SUM(HE15:HH15) -> 75 | HJ15: =IF(GR15=40,HI15*2,IF(GR15=20,HI15)) -> FALSE | HS15: |* | HU15: | | HV15: =IF(HY15="D",0,1) -> 1 | HW15: | | HY15: =T(D15:D15) | IA15: | | IB15: =(+F20-D20-1)*3 -> -3 | IC15: | | ID15: =IF(E20<TIME(7,0,0),4,IF(AND(E20>=TIME(7,0,0),+E20<TIME(15,0,0)),3,IF(AND(E20>=TIME(15,0,0),+E20<TIME(23,0,0)),2,1))) -> 4 | IE15: | | IF15: =IF(G20<=TIME(7,0,0),0,IF(AND(G20>TIME(7,0,0),+G20<=TIME(15,0,0)),1,IF(AND(G20>TIME(15,0,0),+G20<=TIME(23,0,0)),2,3))) -> 0 | IG15: | | IP15: | | IQ15: =DATE(97,2,28) -> 35489 | IR15: |
B16: MSFU8624802 | D16: 43953 | E16: 0.39375 | F16: 43957 | G16: 0.59236111 | H16: 40 | J16: =IF(HV11=0,0,+IB11+ID11+IF11) -> 13 | K16: 43936 | L16: =IF(H16<>40,$HF$2*J16,(($HG$2*1)*J16))*1 -> 477.1 | M16: =GD10 -> 95.48 | N16: =HJ10 -> 3686 | O16: =B16 -> MSFU8624802 | P16: 910573898 | Q16: TRANSFROID LTD | FK16: =D22 -> 0 | FL16: 0 | FM16: =FK16+FL16 -> 0 | FN16: =FM16 -> 0 | FO16: =F22 -> 0 | FP16: =FO16-FN16 -> 0 | FQ16: =H22 -> 0 | FR16: =IF(FP16<7,FP16,10) -> 0 | FS16: =IF(FP16>15,5,FP16-10) -> -10 | FT16: =FP16-15 -> -15 | FU16: =IF(FR16>0,FR16,0) -> 0 | FV16: =IF(FS16>0,FS16,0) -> 0 | FW16: =IF(FT16>0,FT16,0) -> 0 | FX16: 11.25 | FY16: 15 | FZ16: 22.5 | GA16: =IF(FQ16=20,$FL$2*FU16,IF(FQ16=40,$FL$3*FU16,"wrong size")) -> wrong size | GB16: =IF(FQ16=20,$FM$2*FV16,IF(FQ16=40,$FM$3*FV16,"wrong size")) -> wrong size | GC16: =IF(FQ16=20,$FN$2*FW16,IF(FQ16=40,$FN$3*FW16,"wrong size")) -> wrong size | GD16: =SUM(GA16:GC16) -> 0 | GE16: =IF(FQ16=40,GD16*2,IF(FQ16=20,GD16)) -> FALSE | GL16: =K22 -> 0 | GM16: =R22 -> 0 | GN16: =GL16+GM16 -> 0 | GO16: =GN16 -> 0 | GP16: =D22 -> 0 | GQ16: =GP16-GO16+1 -> 1 | GR16: =H22 -> 0 | GS16: =IF(GQ16<7,GQ16,7) -> 1 | GT16: =IF(GQ16>14,7,GQ16-7) -> -6 | GU16: =IF(GQ16>21,7,GQ16-14) -> -13 | GV16: =GQ16-21 -> -20 | GW16: =IF(GS16>0,GS16,0) -> 1 | GX16: =IF(GT16>0,GT16,0) -> 0 | GY16: =IF(GU16>0,GU16,0) -> 0 | GZ16: =IF(GV16>0,GV16,0) -> 0 | HA16: 75 | HB16: 106 | HC16: 144 | HD16: 144 | HE16: =GW16*HA16 -> 75 | HF16: =GX16*HB16 -> 0 | HG16: =GY16*HC16 -> 0 | HH16: =GZ16*HD16 -> 0 | HI16: =SUM(HE16:HH16) -> 75 | HJ16: =IF(GR16=40,HI16*2,IF(GR16=20,HI16)) -> FALSE | HS16: |* | HU16: | | HV16: =IF(HY16="D",0,1) -> 1 | HW16: | | HY16: =T(D16:D16) | IA16: | | IB16: =(+F21-D21-1)*3 -> -3 | IC16: | | ID16: =IF(E21<TIME(7,0,0),4,IF(AND(E21>=TIME(7,0,0),+E21<TIME(15,0,0)),3,IF(AND(E21>=TIME(15,0,0),+E21<TIME(23,0,0)),2,1))) -> 4 | IE16: | | IF16: =IF(G21<=TIME(7,0,0),0,IF(AND(G21>TIME(7,0,0),+G21<=TIME(15,0,0)),1,IF(AND(G21>TIME(15,0,0),+G21<=TIME(23,0,0)),2,3))) -> 0 | IG16: | | IP16: | | IQ16: =DATE(97,2,28) -> 35489 | IR16: |
B17: SUDU5228482 | D17: 43953 | E17: 0.40138889 | F17: 43957 | G17: 0.57430556 | H17: 40 | J17: =IF(HV12=0,0,+IB12+ID12+IF12) -> 13 | K17: 43936 | L17: =IF(H17<>40,$HF$2*J17,(($HG$2*1)*J17))*1 -> 477.1 | M17: =GD11 -> 95.48 | N17: =HJ11 -> 3686 | O17: =B17 -> SUDU5228482 | P17: 910620595 | Q17: TRANSFROID LTD | FK17: =D23 -> 0 | FL17: 0 | FM17: =FK17+FL17 -> 0 | FN17: =FM17 -> 0 | FO17: =F23 -> 0 | FP17: =FO17-FN17 -> 0 | FQ17: =H23 -> 0 | FR17: =IF(FP17<7,FP17,10) -> 0 | FS17: =IF(FP17>15,5,FP17-10) -> -10 | FT17: =FP17-15 -> -15 | FU17: =IF(FR17>0,FR17,0) -> 0 | FV17: =IF(FS17>0,FS17,0) -> 0 | FW17: =IF(FT17>0,FT17,0) -> 0 | FX17: 11.25 | FY17: 15 | FZ17: 22.5 | GA17: =IF(FQ17=20,$FL$2*FU17,IF(FQ17=40,$FL$3*FU17,"wrong size")) -> wrong size | GB17: =IF(FQ17=20,$FM$2*FV17,IF(FQ17=40,$FM$3*FV17,"wrong size")) -> wrong size | GC17: =IF(FQ17=20,$FN$2*FW17,IF(FQ17=40,$FN$3*FW17,"wrong size")) -> wrong size | GD17: =SUM(GA17:GC17) -> 0 | GE17: =IF(FQ17=40,GD17*2,IF(FQ17=20,GD17)) -> FALSE | GL17: =K23 -> 0 | GM17: =R23 -> 0 | GN17: =GL17+GM17 -> 0 | GO17: =GN17 -> 0 | GP17: =D23 -> 0 | GQ17: =GP17-GO17+1 -> 1 | GR17: =H23 -> 0 | GS17: =IF(GQ17<7,GQ17,7) -> 1 | GT17: =IF(GQ17>14,7,GQ17-7) -> -6 | GU17: =IF(GQ17>21,7,GQ17-14) -> -13 | GV17: =GQ17-21 -> -20 | GW17: =IF(GS17>0,GS17,0) -> 1 | GX17: =IF(GT17>0,GT17,0) -> 0 | GY17: =IF(GU17>0,GU17,0) -> 0 | GZ17: =IF(GV17>0,GV17,0) -> 0 | HA17: 75 | HB17: 106 | HC17: 144 | HD17: 144 | HE17: =GW17*HA17 -> 75 | HF17: =GX17*HB17 -> 0 | HG17: =GY17*HC17 -> 0 | HH17: =GZ17*HD17 -> 0 | HI17: =SUM(HE17:HH17) -> 75 | HJ17: =IF(GR17=40,HI17*2,IF(GR17=20,HI17)) -> FALSE | HS17: |* | HU17: | | HV17: =IF(HY17="D",0,1) -> 1 | HW17: | | HY17: =T(D17:D17) | IA17: | | IB17: =(+F22-D22-1)*3 -> -3 | IC17: | | ID17: =IF(E22<TIME(7,0,0),4,IF(AND(E22>=TIME(7,0,0),+E22<TIME(15,0,0)),3,IF(AND(E22>=TIME(15,0,0),+E22<TIME(23,0,0)),2,1))) -> 4 | IE17: | | IF17: =IF(G22<=TIME(7,0,0),0,IF(AND(G22>TIME(7,0,0),+G22<=TIME(15,0,0)),1,IF(AND(G22>TIME(15,0,0),+G22<=TIME(23,0,0)),2,3))) -> 0 | IG17: | | IP17: | | IQ17: =DATE(97,2,28) -> 35489 | IR17: |
B18: MSFU8620854 | D18: 43953 | E18: 0.39652778 | F18: 43957 | G18: 0.59097222 | H18: 40 | J18: =IF(HV13=0,0,+IB13+ID13+IF13) -> 13 | K18: 43945 | L18: =IF(H18<>40,$HF$2*J18,(($HG$2*1)*J18))*1 -> 477.1 | M18: =GD12 -> 95.48 | N18: =HJ12 -> 1474 | O18: =B18 -> MSFU8620854 | P18: 910682684 | Q18: TRANSFROID LTD | FK18: =D24 -> 0 | FL18: 0 | FM18: =FK18+FL18 -> 0 | FN18: =FM18 -> 0 | FO18: =F24 -> 0 | FP18: =FO18-FN18 -> 0 | FQ18: =H24 -> 0 | FR18: =IF(FP18<7,FP18,10) -> 0 | FS18: =IF(FP18>15,5,FP18-10) -> -10 | FT18: =FP18-15 -> -15 | FU18: =IF(FR18>0,FR18,0) -> 0 | FV18: =IF(FS18>0,FS18,0) -> 0 | FW18: =IF(FT18>0,FT18,0) -> 0 | FX18: 11.25 | FY18: 15 | FZ18: 22.5 | GA18: =IF(FQ18=20,$FL$2*FU18,IF(FQ18=40,$FL$3*FU18,"wrong size")) -> wrong size | GB18: =IF(FQ18=20,$FM$2*FV18,IF(FQ18=40,$FM$3*FV18,"wrong size")) -> wrong size | GC18: =IF(FQ18=20,$FN$2*FW18,IF(FQ18=40,$FN$3*FW18,"wrong size")) -> wrong size | GD18: =SUM(GA18:GC18) -> 0 | GE18: =IF(FQ18=40,GD18*2,IF(FQ18=20,GD18)) -> FALSE | GL18: =K24 -> 0 | GM18: =R24 -> 0 | GN18: =GL18+GM18 -> 0 | GO18: =GN18 -> 0 | GP18: =D24 -> 0 | GQ18: =GP18-GO18+1 -> 1 | GR18: =H24 -> 0 | GS18: =IF(GQ18<7,GQ18,7) -> 1 | GT18: =IF(GQ18>14,7,GQ18-7) -> -6 | GU18: =IF(GQ18>21,7,GQ18-14) -> -13 | GV18: =GQ18-21 -> -20 | GW18: =IF(GS18>0,GS18,0) -> 1 | GX18: =IF(GT18>0,GT18,0) -> 0 | GY18: =IF(GU18>0,GU18,0) -> 0 | GZ18: =IF(GV18>0,GV18,0) -> 0 | HA18: 75 | HB18: 106 | HC18: 144 | HD18: 144 | HE18: =GW18*HA18 -> 75 | HF18: =GX18*HB18 -> 0 | HG18: =GY18*HC18 -> 0 | HH18: =GZ18*HD18 -> 0 | HI18: =SUM(HE18:HH18) -> 75 | HJ18: =IF(GR18=40,HI18*2,IF(GR18=20,HI18)) -> FALSE | HS18: |* | HU18: | | HV18: =IF(HY18="D",0,1) -> 1 | HW18: | | HY18: =T(D18:D18) | IA18: | | IB18: =(+F23-D23-1)*3 -> -3 | IC18: | | ID18: =IF(E23<TIME(7,0,0),4,IF(AND(E23>=TIME(7,0,0),+E23<TIME(15,0,0)),3,IF(AND(E23>=TIME(15,0,0),+E23<TIME(23,0,0)),2,1))) -> 4 | IE18: | | IF18: =IF(G23<=TIME(7,0,0),0,IF(AND(G23>TIME(7,0,0),+G23<=TIME(15,0,0)),1,IF(AND(G23>TIME(15,0,0),+G23<=TIME(23,0,0)),2,3))) -> 0 | IG18: | | IP18: | | IQ18: =DATE(97,2,28) -> 35489 | IR18: |
J19: =IF(HV14=0,0,+IB14+ID14+IF14) -> 1 | L19: =IF(H19<>40,$HF$2*J19,(($HG$2*1)*J19))*1 -> 18.35 | M19: =GD13 -> 0 | N19: =HJ13 -> FALSE | O19: =B19 -> 0 | FK19: =D25 -> 0 | FL19: 0 | FM19: =FK19+FL19 -> 0 | FN19: =FM19 -> 0 | FO19: =F25 -> 0 | FP19: =FO19-FN19 -> 0 | FQ19: =H25 -> 0 | FR19: =IF(FP19<7,FP19,10) -> 0 | FS19: =IF(FP19>15,5,FP19-10) -> -10 | FT19: =FP19-15 -> -15 | FU19: =IF(FR19>0,FR19,0) -> 0 | FV19: =IF(FS19>0,FS19,0) -> 0 | FW19: =IF(FT19>0,FT19,0) -> 0 | FX19: 11.25 | FY19: 15 | FZ19: 22.5 | GA19: =IF(FQ19=20,$FL$2*FU19,IF(FQ19=40,$FL$3*FU19,"wrong size")) -> wrong size | GB19: =IF(FQ19=20,$FM$2*FV19,IF(FQ19=40,$FM$3*FV19,"wrong size")) -> wrong size | GC19: =IF(FQ19=20,$FN$2*FW19,IF(FQ19=40,$FN$3*FW19,"wrong size")) -> wrong size | GD19: =SUM(GA19:GC19) -> 0 | GE19: =IF(FQ19=40,GD19*2,IF(FQ19=20,GD19)) -> FALSE | GL19: =K25 -> 0 | GM19: =R25 -> 0 | GN19: =GL19+GM19 -> 0 | GO19: =GN19 -> 0 | GP19: =D25 -> 0 | GQ19: =GP19-GO19+1 -> 1 | GR19: =H25 -> 0 | GS19: =IF(GQ19<7,GQ19,7) -> 1 | GT19: =IF(GQ19>14,7,GQ19-7) -> -6 | GU19: =IF(GQ19>21,7,GQ19-14) -> -13 | GV19: =GQ19-21 -> -20 | GW19: =IF(GS19>0,GS19,0) -> 1 | GX19: =IF(GT19>0,GT19,0) -> 0 | GY19: =IF(GU19>0,GU19,0) -> 0 | GZ19: =IF(GV19>0,GV19,0) -> 0 | HA19: 75 | HB19: 106 | HC19: 144 | HD19: 144 | HE19: =GW19*HA19 -> 75 | HF19: =GX19*HB19 -> 0 | HG19: =GY19*HC19 -> 0 | HH19: =GZ19*HD19 -> 0 | HI19: =SUM(HE19:HH19) -> 75 | HJ19: =IF(GR19=40,HI19*2,IF(GR19=20,HI19)) -> FALSE | HS19: |* | HU19: | | HV19: =IF(HY19="D",0,1) -> 1 | HW19: | | HY19: =T(D19:D19) | IA19: | | IB19: =(+F24-D24-1)*3 -> -3 | IC19: | | ID19: =IF(E24<TIME(7,0,0),4,IF(AND(E24>=TIME(7,0,0),+E24<TIME(15,0,0)),3,IF(AND(E24>=TIME(15,0,0),+E24<TIME(23,0,0)),2,1))) -> 4 | IE19: | | IF19: =IF(G24<=TIME(7,0,0),0,IF(AND(G24>TIME(7,0,0),+G24<=TIME(15,0,0)),1,IF(AND(G24>TIME(15,0,0),+G24<=TIME(23,0,0)),2,3))) -> 0 | IG19: | | IP19: | | IQ19: =DATE(97,2,28) -> 35489 | IR19: |
J20: =IF(HV15=0,0,+IB15+ID15+IF15) -> 1 | L20: =IF(H20<>40,$HF$2*J20,(($HG$2*1)*J20))*1 -> 18.35 | M20: =GD14 -> 0 | N20: =HJ14 -> FALSE | O20: =B20 -> 0 | FK20: =D26 -> 0 | FL20: 0 | FM20: =FK20+FL20 -> 0 | FN20: =FM20 -> 0 | FO20: =F26 -> 0 | FP20: =FO20-FN20 -> 0 | FQ20: =H26 -> 0 | FR20: =IF(FP20<7,FP20,10) -> 0 | FS20: =IF(FP20>15,5,FP20-10) -> -10 | FT20: =FP20-15 -> -15 | FU20: =IF(FR20>0,FR20,0) -> 0 | FV20: =IF(FS20>0,FS20,0) -> 0 | FW20: =IF(FT20>0,FT20,0) -> 0 | FX20: 11.25 | FY20: 15 | FZ20: 22.5 | GA20: =IF(FQ20=20,$FL$2*FU20,IF(FQ20=40,$FL$3*FU20,"wrong size")) -> wrong size | GB20: =IF(FQ20=20,$FM$2*FV20,IF(FQ20=40,$FM$3*FV20,"wrong size")) -> wrong size | GC20: =IF(FQ20=20,$FN$2*FW20,IF(FQ20=40,$FN$3*FW20,"wrong size")) -> wrong size | GD20: =SUM(GA20:GC20) -> 0 | GE20: =IF(FQ20=40,GD20*2,IF(FQ20=20,GD20)) -> FALSE | GL20: =K26 -> 0 | GM20: =R26 -> 0 | GN20: =GL20+GM20 -> 0 | GO20: =GN20 -> 0 | GP20: =D26 -> 0 | GQ20: =GP20-GO20+1 -> 1 | GR20: =H26 -> 0 | GS20: =IF(GQ20<7,GQ20,7) -> 1 | GT20: =IF(GQ20>14,7,GQ20-7) -> -6 | GU20: =IF(GQ20>21,7,GQ20-14) -> -13 | GV20: =GQ20-21 -> -20 | GW20: =IF(GS20>0,GS20,0) -> 1 | GX20: =IF(GT20>0,GT20,0) -> 0 | GY20: =IF(GU20>0,GU20,0) -> 0 | GZ20: =IF(GV20>0,GV20,0) -> 0 | HA20: 75 | HB20: 106 | HC20: 144 | HD20: 144 | HE20: =GW20*HA20 -> 75 | HF20: =GX20*HB20 -> 0 | HG20: =GY20*HC20 -> 0 | HH20: =GZ20*HD20 -> 0 | HI20: =SUM(HE20:HH20) -> 75 | HJ20: =IF(GR20=40,HI20*2,IF(GR20=20,HI20)) -> FALSE | HS20: |* | HU20: | | HV20: =IF(HY20="D",0,1) -> 1 | HW20: | | HY20: =T(D20:D20) | IA20: | | IB20: =(+F25-D25-1)*3 -> -3 | IC20: | | ID20: =IF(E25<TIME(7,0,0),4,IF(AND(E25>=TIME(7,0,0),+E25<TIME(15,0,0)),3,IF(AND(E25>=TIME(15,0,0),+E25<TIME(23,0,0)),2,1))) -> 4 | IE20: | | IF20: =IF(G25<=TIME(7,0,0),0,IF(AND(G25>TIME(7,0,0),+G25<=TIME(15,0,0)),1,IF(AND(G25>TIME(15,0,0),+G25<=TIME(23,0,0)),2,3))) -> 0 | IG20: | | IP20: | | IQ20: =DATE(97,2,28) -> 35489 | IR20: |
J21: =IF(HV16=0,0,+IB16+ID16+IF16) -> 1 | L21: =IF(H21<>40,$HF$2*J21,(($HG$2*1)*J21))*1 -> 18.35 | M21: =GD15 -> 0 | N21: =HJ15 -> FALSE | O21: =B21 -> 0 | FK21: =D27 -> 0 | FL21: 0 | FM21: =FK21+FL21 -> 0 | FN21: =FM21 -> 0 | FO21: =F27 -> 0 | FP21: =FO21-FN21 -> 0 | FQ21: =H27 -> 0 | FR21: =IF(FP21<7,FP21,10) -> 0 | FS21: =IF(FP21>15,5,FP21-10) -> -10 | FT21: =FP21-15 -> -15 | FU21: =IF(FR21>0,FR21,0) -> 0 | FV21: =IF(FS21>0,FS21,0) -> 0 | FW21: =IF(FT21>0,FT21,0) -> 0 | FX21: 11.25 | FY21: 15 | FZ21: 22.5 | GA21: =IF(FQ21=20,$FL$2*FU21,IF(FQ21=40,$FL$3*FU21,"wrong size")) -> wrong size | GB21: =IF(FQ21=20,$FM$2*FV21,IF(FQ21=40,$FM$3*FV21,"wrong size")) -> wrong size | GC21: =IF(FQ21=20,$FN$2*FW21,IF(FQ21=40,$FN$3*FW21,"wrong size")) -> wrong size | GD21: =SUM(GA21:GC21) -> 0 | GE21: =IF(FQ21=40,GD21*2,IF(FQ21=20,GD21)) -> FALSE | GL21: =K27 -> 0 | GM21: =R27 -> 0 | GN21: =GL21+GM21 -> 0 | GO21: =GN21 -> 0 | GP21: =D27 -> 0 | GQ21: =GP21-GO21+1 -> 1 | GR21: =H27 -> 0 | GS21: =IF(GQ21<7,GQ21,7) -> 1 | GT21: =IF(GQ21>14,7,GQ21-7) -> -6 | GU21: =IF(GQ21>21,7,GQ21-14) -> -13 | GV21: =GQ21-21 -> -20 | GW21: =IF(GS21>0,GS21,0) -> 1 | GX21: =IF(GT21>0,GT21,0) -> 0 | GY21: =IF(GU21>0,GU21,0) -> 0 | GZ21: =IF(GV21>0,GV21,0) -> 0 | HA21: 75 | HB21: 106 | HC21: 144 | HD21: 144 | HE21: =GW21*HA21 -> 75 | HF21: =GX21*HB21 -> 0 | HG21: =GY21*HC21 -> 0 | HH21: =GZ21*HD21 -> 0 | HI21: =SUM(HE21:HH21) -> 75 | HJ21: =IF(GR21=40,HI21*2,IF(GR21=20,HI21)) -> FALSE | HS21: |* | HU21: | | HV21: =IF(HY21="D",0,1) -> 1 | HW21: | | HY21: =T(D21:D21) | IA21: | | IB21: =(+F26-D26-1)*3 -> -3 | IC21: | | ID21: =IF(E26<TIME(7,0,0),4,IF(AND(E26>=TIME(7,0,0),+E26<TIME(15,0,0)),3,IF(AND(E26>=TIME(15,0,0),+E26<TIME(23,0,0)),2,1))) -> 4 | IE21: | | IF21: =IF(G26<=TIME(7,0,0),0,IF(AND(G26>TIME(7,0,0),+G26<=TIME(15,0,0)),1,IF(AND(G26>TIME(15,0,0),+G26<=TIME(23,0,0)),2,3))) -> 0 | IG21: | | IP21: | | IQ21: =DATE(97,2,28) -> 35489 | IR21: |
J22: =IF(HV17=0,0,+IB17+ID17+IF17) -> 1 | L22: =IF(H22<>40,$HF$2*J22,(($HG$2*1)*J22))*1 -> 18.35 | M22: =GD16 -> 0 | N22: =HJ16 -> FALSE | O22: =B22 -> 0 | FK22: =D28 -> 0 | FL22: 0 | FM22: =FK22+FL22 -> 0 | FN22: =FM22 -> 0 | FO22: =F28 -> 0 | FP22: =FO22-FN22 -> 0 | FQ22: =H28 -> 0 | FR22: =IF(FP22<7,FP22,10) -> 0 | FS22: =IF(FP22>15,5,FP22-10) -> -10 | FT22: =FP22-15 -> -15 | FU22: =IF(FR22>0,FR22,0) -> 0 | FV22: =IF(FS22>0,FS22,0) -> 0 | FW22: =IF(FT22>0,FT22,0) -> 0 | FX22: 11.25 | FY22: 15 | FZ22: 22.5 | GA22: =IF(FQ22=20,$FL$2*FU22,IF(FQ22=40,$FL$3*FU22,"wrong size")) -> wrong size | GB22: =IF(FQ22=20,$FM$2*FV22,IF(FQ22=40,$FM$3*FV22,"wrong size")) -> wrong size | GC22: =IF(FQ22=20,$FN$2*FW22,IF(FQ22=40,$FN$3*FW22,"wrong size")) -> wrong size | GD22: =SUM(GA22:GC22) -> 0 | GE22: =IF(FQ22=40,GD22*2,IF(FQ22=20,GD22)) -> FALSE | GL22: =K28 -> 0 | GM22: =R28 -> 0 | GN22: =GL22+GM22 -> 0 | GO22: =GN22 -> 0 | GP22: =D28 -> 0 | GQ22: =GP22-GO22+1 -> 1 | GR22: =H28 -> 0 | GS22: =IF(GQ22<7,GQ22,7) -> 1 | GT22: =IF(GQ22>14,7,GQ22-7) -> -6 | GU22: =IF(GQ22>21,7,GQ22-14) -> -13 | GV22: =GQ22-21 -> -20 | GW22: =IF(GS22>0,GS22,0) -> 1 | GX22: =IF(GT22>0,GT22,0) -> 0 | GY22: =IF(GU22>0,GU22,0) -> 0 | GZ22: =IF(GV22>0,GV22,0) -> 0 | HA22: 75 | HB22: 106 | HC22: 144 | HD22: 144 | HE22: =GW22*HA22 -> 75 | HF22: =GX22*HB22 -> 0 | HG22: =GY22*HC22 -> 0 | HH22: =GZ22*HD22 -> 0 | HI22: =SUM(HE22:HH22) -> 75 | HJ22: =IF(GR22=40,HI22*2,IF(GR22=20,HI22)) -> FALSE | HS22: |* | HU22: | | HV22: =IF(HY22="D",0,1) -> 1 | HW22: | | HY22: =T(D22:D22) | IA22: | | IB22: =(+F27-D27-1)*3 -> -3 | IC22: | | ID22: =IF(E27<TIME(7,0,0),4,IF(AND(E27>=TIME(7,0,0),+E27<TIME(15,0,0)),3,IF(AND(E27>=TIME(15,0,0),+E27<TIME(23,0,0)),2,1))) -> 4 | IE22: | | IF22: =IF(G27<=TIME(7,0,0),0,IF(AND(G27>TIME(7,0,0),+G27<=TIME(15,0,0)),1,IF(AND(G27>TIME(15,0,0),+G27<=TIME(23,0,0)),2,3))) -> 0 | IG22: | | IP22: | | IQ22: =DATE(97,2,28) -> 35489 | IR22: |
J23: =IF(HV18=0,0,+IB18+ID18+IF18) -> 1 | L23: =IF(H23<>40,$HF$2*J23,(($HG$2*1)*J23))*1 -> 18.35 | M23: =GD17 -> 0 | N23: =HJ17 -> FALSE | O23: =B23 -> 0 | FK23: =D29 -> 0 | FL23: 0 | FM23: =FK23+FL23 -> 0 | FN23: =FM23 -> 0 | FO23: =F29 -> 0 | FP23: =FO23-FN23 -> 0 | FQ23: =H29 -> 0 | FR23: =IF(FP23<7,FP23,10) -> 0 | FS23: =IF(FP23>15,5,FP23-10) -> -10 | FT23: =FP23-15 -> -15 | FU23: =IF(FR23>0,FR23,0) -> 0 | FV23: =IF(FS23>0,FS23,0) -> 0 | FW23: =IF(FT23>0,FT23,0) -> 0 | FX23: 11.25 | FY23: 15 | FZ23: 22.5 | GA23: =IF(FQ23=20,$FL$2*FU23,IF(FQ23=40,$FL$3*FU23,"wrong size")) -> wrong size | GB23: =IF(FQ23=20,$FM$2*FV23,IF(FQ23=40,$FM$3*FV23,"wrong size")) -> wrong size | GC23: =IF(FQ23=20,$FN$2*FW23,IF(FQ23=40,$FN$3*FW23,"wrong size")) -> wrong size | GD23: =SUM(GA23:GC23) -> 0 | GE23: =IF(FQ23=40,GD23*2,IF(FQ23=20,GD23)) -> FALSE | GL23: =K29 -> 0 | GM23: =R29 -> 0 | GN23: =GL23+GM23 -> 0 | GO23: =GN23 -> 0 | GP23: =D29 -> 0 | GQ23: =GP23-GO23+1 -> 1 | GR23: =H29 -> 0 | GS23: =IF(GQ23<7,GQ23,7) -> 1 | GT23: =IF(GQ23>14,7,GQ23-7) -> -6 | GU23: =IF(GQ23>21,7,GQ23-14) -> -13 | GV23: =GQ23-21 -> -20 | GW23: =IF(GS23>0,GS23,0) -> 1 | GX23: =IF(GT23>0,GT23,0) -> 0 | GY23: =IF(GU23>0,GU23,0) -> 0 | GZ23: =IF(GV23>0,GV23,0) -> 0 | HA23: 75 | HB23: 106 | HC23: 144 | HD23: 144 | HE23: =GW23*HA23 -> 75 | HF23: =GX23*HB23 -> 0 | HG23: =GY23*HC23 -> 0 | HH23: =GZ23*HD23 -> 0 | HI23: =SUM(HE23:HH23) -> 75 | HJ23: =IF(GR23=40,HI23*2,IF(GR23=20,HI23)) -> FALSE | HS23: |* | HU23: | | HV23: =IF(HY23="D",0,1) -> 1 | HW23: | | HY23: =T(D23:D23) | IA23: | | IB23: =(+F28-D28-1)*3 -> -3 | IC23: | | ID23: =IF(E28<TIME(7,0,0),4,IF(AND(E28>=TIME(7,0,0),+E28<TIME(15,0,0)),3,IF(AND(E28>=TIME(15,0,0),+E28<TIME(23,0,0)),2,1))) -> 4 | IE23: | | IF23: =IF(G28<=TIME(7,0,0),0,IF(AND(G28>TIME(7,0,0),+G28<=TIME(15,0,0)),1,IF(AND(G28>TIME(15,0,0),+G28<=TIME(23,0,0)),2,3))) -> 0 | IG23: | | IP23: | | IQ23: =DATE(97,2,28) -> 35489 | IR23: |
J24: =IF(HV19=0,0,+IB19+ID19+IF19) -> 1 | L24: =IF(H24<>40,$HF$2*J24,(($HG$2*1)*J24))*1 -> 18.35 | M24: =GD18 -> 0 | N24: =HJ18 -> FALSE | O24: =B24 -> 0 | FK24: =D30 -> 0 | FL24: 0 | FM24: =FK24+FL24 -> 0 | FN24: =FM24 -> 0 | FO24: =F30 -> 0 | FP24: =FO24-FN24 -> 0 | FQ24: =H30 -> 0 | FR24: =IF(FP24<7,FP24,10) -> 0 | FS24: =IF(FP24>15,5,FP24-10) -> -10 | FT24: =FP24-15 -> -15 | FU24: =IF(FR24>0,FR24,0) -> 0 | FV24: =IF(FS24>0,FS24,0) -> 0 | FW24: =IF(FT24>0,FT24,0) -> 0 | FX24: 11.25 | FY24: 15 | FZ24: 22.5 | GA24: =IF(FQ24=20,$FL$2*FU24,IF(FQ24=40,$FL$3*FU24,"wrong size")) -> wrong size | GB24: =IF(FQ24=20,$FM$2*FV24,IF(FQ24=40,$FM$3*FV24,"wrong size")) -> wrong size | GC24: =IF(FQ24=20,$FN$2*FW24,IF(FQ24=40,$FN$3*FW24,"wrong size")) -> wrong size | GD24: =SUM(GA24:GC24) -> 0 | GE24: =IF(FQ24=40,GD24*2,IF(FQ24=20,GD24)) -> FALSE | GL24: =K30 -> 0 | GM24: =R30 -> 0 | GN24: =GL24+GM24 -> 0 | GO24: =GN24 -> 0 | GP24: =D30 -> 0 | GQ24: =GP24-GO24+1 -> 1 | GR24: =H30 -> 0 | GS24: =IF(GQ24<7,GQ24,7) -> 1 | GT24: =IF(GQ24>14,7,GQ24-7) -> -6 | GU24: =IF(GQ24>21,7,GQ24-14) -> -13 | GV24: =GQ24-21 -> -20 | GW24: =IF(GS24>0,GS24,0) -> 1 | GX24: =IF(GT24>0,GT24,0) -> 0 | GY24: =IF(GU24>0,GU24,0) -> 0 | GZ24: =IF(GV24>0,GV24,0) -> 0 | HA24: 75 | HB24: 106 | HC24: 144 | HD24: 144 | HE24: =GW24*HA24 -> 75 | HF24: =GX24*HB24 -> 0 | HG24: =GY24*HC24 -> 0 | HH24: =GZ24*HD24 -> 0 | HI24: =SUM(HE24:HH24) -> 75 | HJ24: =IF(GR24=40,HI24*2,IF(GR24=20,HI24)) -> FALSE | HS24: |* | HU24: | | HV24: =IF(HY24="D",0,1) -> 1 | HW24: | | HY24: =T(D24:D24) | IA24: | | IB24: =(+F29-D29-1)*3 -> -3 | IC24: | | ID24: =IF(E29<TIME(7,0,0),4,IF(AND(E29>=TIME(7,0,0),+E29<TIME(15,0,0)),3,IF(AND(E29>=TIME(15,0,0),+E29<TIME(23,0,0)),2,1))) -> 4 | IE24: | | IF24: =IF(G29<=TIME(7,0,0),0,IF(AND(G29>TIME(7,0,0),+G29<=TIME(15,0,0)),1,IF(AND(G29>TIME(15,0,0),+G29<=TIME(23,0,0)),2,3))) -> 0 | IG24: | | IP24: | | IQ24: =DATE(97,2,28) -> 35489 | IR24: |
J25: =IF(HV20=0,0,+IB20+ID20+IF20) -> 1 | L25: =IF(H25<>40,$HF$2*J25,(($HG$2*1)*J25))*1 -> 18.35 | M25: =GD19 -> 0 | N25: =HJ19 -> FALSE | O25: =B25 -> 0 | FK25: =D31 -> 0 | FL25: 0 | FM25: =FK25+FL25 -> 0 | FN25: =FM25 -> 0 | FO25: =F31 -> 0 | FP25: =FO25-FN25 -> 0 | FQ25: =H31 -> 0 | FR25: =IF(FP25<7,FP25,10) -> 0 | FS25: =IF(FP25>15,5,FP25-10) -> -10 | FT25: =FP25-15 -> -15 | FU25: =IF(FR25>0,FR25,0) -> 0 | FV25: =IF(FS25>0,FS25,0) -> 0 | FW25: =IF(FT25>0,FT25,0) -> 0 | FX25: 11.25 | FY25: 15 | FZ25: 22.5 | GA25: =IF(FQ25=20,$FL$2*FU25,IF(FQ25=40,$FL$3*FU25,"wrong size")) -> wrong size | GB25: =IF(FQ25=20,$FM$2*FV25,IF(FQ25=40,$FM$3*FV25,"wrong size")) -> wrong size | GC25: =IF(FQ25=20,$FN$2*FW25,IF(FQ25=40,$FN$3*FW25,"wrong size")) -> wrong size | GD25: =SUM(GA25:GC25) -> 0 | GE25: =IF(FQ25=40,GD25*2,IF(FQ25=20,GD25)) -> FALSE | GL25: =K31 -> 0 | GM25: =R31 -> 0 | GN25: =GL25+GM25 -> 0 | GO25: =GN25 -> 0 | GP25: =D31 -> 0 | GQ25: =GP25-GO25+1 -> 1 | GR25: =H31 -> 0 | GS25: =IF(GQ25<7,GQ25,7) -> 1 | GT25: =IF(GQ25>14,7,GQ25-7) -> -6 | GU25: =IF(GQ25>21,7,GQ25-14) -> -13 | GV25: =GQ25-21 -> -20 | GW25: =IF(GS25>0,GS25,0) -> 1 | GX25: =IF(GT25>0,GT25,0) -> 0 | GY25: =IF(GU25>0,GU25,0) -> 0 | GZ25: =IF(GV25>0,GV25,0) -> 0 | HA25: 75 | HB25: 106 | HC25: 144 | HD25: 144 | HE25: =GW25*HA25 -> 75 | HF25: =GX25*HB25 -> 0 | HG25: =GY25*HC25 -> 0 | HH25: =GZ25*HD25 -> 0 | HI25: =SUM(HE25:HH25) -> 75 | HJ25: =IF(GR25=40,HI25*2,IF(GR25=20,HI25)) -> FALSE | HS25: |* | HU25: | | HV25: =IF(HY25="D",0,1) -> 1 | HW25: | | HY25: =T(D25:D25) | IA25: | | IB25: =(+F30-D30-1)*3 -> -3 | IC25: | | ID25: =IF(E30<TIME(7,0,0),4,IF(AND(E30>=TIME(7,0,0),+E30<TIME(15,0,0)),3,IF(AND(E30>=TIME(15,0,0),+E30<TIME(23,0,0)),2,1))) -> 4 | IE25: | | IF25: =IF(G30<=TIME(7,0,0),0,IF(AND(G30>TIME(7,0,0),+G30<=TIME(15,0,0)),1,IF(AND(G30>TIME(15,0,0),+G30<=TIME(23,0,0)),2,3))) -> 0 | IG25: | | IP25: | | IQ25: =DATE(97,2,28) -> 35489 | IR25: |
J26: =IF(HV21=0,0,+IB21+ID21+IF21) -> 1 | L26: =IF(H26<>40,$HF$2*J26,(($HG$2*1)*J26))*1 -> 18.35 | M26: =GD20 -> 0 | N26: =HJ20 -> FALSE | O26: =B26 -> 0 | FK26: =D32 -> 0 | FL26: 0 | FM26: =FK26+FL26 -> 0 | FN26: =FM26 -> 0 | FO26: =F32 -> 0 | FP26: =FO26-FN26 -> 0 | FQ26: =H32 -> 0 | FR26: =IF(FP26<7,FP26,10) -> 0 | FS26: =IF(FP26>15,5,FP26-10) -> -10 | FT26: =FP26-15 -> -15 | FU26: =IF(FR26>0,FR26,0) -> 0 | FV26: =IF(FS26>0,FS26,0) -> 0 | FW26: =IF(FT26>0,FT26,0) -> 0 | FX26: 11.25 | FY26: 15 | FZ26: 22.5 | GA26: =IF(FQ26=20,$FL$2*FU26,IF(FQ26=40,$FL$3*FU26,"wrong size")) -> wrong size | GB26: =IF(FQ26=20,$FM$2*FV26,IF(FQ26=40,$FM$3*FV26,"wrong size")) -> wrong size | GC26: =IF(FQ26=20,$FN$2*FW26,IF(FQ26=40,$FN$3*FW26,"wrong size")) -> wrong size | GD26: =SUM(GA26:GC26) -> 0 | GE26: =IF(FQ26=40,GD26*2,IF(FQ26=20,GD26)) -> FALSE | GL26: =K32 -> 0 | GM26: =R32 -> 0 | GN26: =GL26+GM26 -> 0 | GO26: =GN26 -> 0 | GP26: =D32 -> 0 | GQ26: =GP26-GO26+1 -> 1 | GR26: =H32 -> 0 | GS26: =IF(GQ26<7,GQ26,7) -> 1 | GT26: =IF(GQ26>14,7,GQ26-7) -> -6 | GU26: =IF(GQ26>21,7,GQ26-14) -> -13 | GV26: =GQ26-21 -> -20 | GW26: =IF(GS26>0,GS26,0) -> 1 | GX26: =IF(GT26>0,GT26,0) -> 0 | GY26: =IF(GU26>0,GU26,0) -> 0 | GZ26: =IF(GV26>0,GV26,0) -> 0 | HA26: 75 | HB26: 106 | HC26: 144 | HD26: 144 | HE26: =GW26*HA26 -> 75 | HF26: =GX26*HB26 -> 0 | HG26: =GY26*HC26 -> 0 | HH26: =GZ26*HD26 -> 0 | HI26: =SUM(HE26:HH26) -> 75 | HJ26: =IF(GR26=40,HI26*2,IF(GR26=20,HI26)) -> FALSE | HS26: |* | HU26: | | HV26: =IF(HY26="D",0,1) -> 1 | HW26: | | HY26: =T(D26:D26) | IA26: | | IB26: =(+F31-D31-1)*3 -> -3 | IC26: | | ID26: =IF(E31<TIME(7,0,0),4,IF(AND(E31>=TIME(7,0,0),+E31<TIME(15,0,0)),3,IF(AND(E31>=TIME(15,0,0),+E31<TIME(23,0,0)),2,1))) -> 4 | IE26: | | IF26: =IF(G31<=TIME(7,0,0),0,IF(AND(G31>TIME(7,0,0),+G31<=TIME(15,0,0)),1,IF(AND(G31>TIME(15,0,0),+G31<=TIME(23,0,0)),2,3))) -> 0 | IG26: | | IP26: | | IQ26: =DATE(97,2,28) -> 35489 | IR26: |
J27: =IF(HV22=0,0,+IB22+ID22+IF22) -> 1 | L27: =IF(H27<>40,$HF$2*J27,(($HG$2*1)*J27))*1 -> 18.35 | M27: =GD21 -> 0 | N27: =HJ21 -> FALSE | O27: =B27 -> 0 | FK27: =D33 -> 0 | FL27: 0 | FM27: =FK27+FL27 -> 0 | FN27: =FM27 -> 0 | FO27: =F33 -> 0 | FP27: =FO27-FN27 -> 0 | FQ27: =H33 -> 0 | FR27: =IF(FP27<7,FP27,10) -> 0 | FS27: =IF(FP27>15,5,FP27-10) -> -10 | FT27: =FP27-15 -> -15 | FU27: =IF(FR27>0,FR27,0) -> 0 | FV27: =IF(FS27>0,FS27,0) -> 0 | FW27: =IF(FT27>0,FT27,0) -> 0 | FX27: 11.25 | FY27: 15 | FZ27: 22.5 | GA27: =IF(FQ27=20,$FL$2*FU27,IF(FQ27=40,$FL$3*FU27,"wrong size")) -> wrong size | GB27: =IF(FQ27=20,$FM$2*FV27,IF(FQ27=40,$FM$3*FV27,"wrong size")) -> wrong size | GC27: =IF(FQ27=20,$FN$2*FW27,IF(FQ27=40,$FN$3*FW27,"wrong size")) -> wrong size | GD27: =SUM(GA27:GC27) -> 0 | GE27: =IF(FQ27=40,GD27*2,IF(FQ27=20,GD27)) -> FALSE | GL27: =K33 -> 0 | GM27: =R33 -> 0 | GN27: =GL27+GM27 -> 0 | GO27: =GN27 -> 0 | GP27: =D33 -> 0 | GQ27: =GP27-GO27+1 -> 1 | GR27: =H33 -> 0 | GS27: =IF(GQ27<7,GQ27,7) -> 1 | GT27: =IF(GQ27>14,7,GQ27-7) -> -6 | GU27: =IF(GQ27>21,7,GQ27-14) -> -13 | GV27: =GQ27-21 -> -20 | GW27: =IF(GS27>0,GS27,0) -> 1 | GX27: =IF(GT27>0,GT27,0) -> 0 | GY27: =IF(GU27>0,GU27,0) -> 0 | GZ27: =IF(GV27>0,GV27,0) -> 0 | HA27: 75 | HB27: 106 | HC27: 144 | HD27: 144 | HE27: =GW27*HA27 -> 75 | HF27: =GX27*HB27 -> 0 | HG27: =GY27*HC27 -> 0 | HH27: =GZ27*HD27 -> 0 | HI27: =SUM(HE27:HH27) -> 75 | HJ27: =IF(GR27=40,HI27*2,IF(GR27=20,HI27)) -> FALSE | HS27: |* | HU27: | | HV27: =IF(HY27="D",0,1) -> 1 | HW27: | | HY27: =T(D27:D27) | IA27: | | IB27: =(+F32-D32-1)*3 -> -3 | IC27: | | ID27: =IF(E32<TIME(7,0,0),4,IF(AND(E32>=TIME(7,0,0),+E32<TIME(15,0,0)),3,IF(AND(E32>=TIME(15,0,0),+E32<TIME(23,0,0)),2,1))) -> 4 | IE27: | | IF27: =IF(G32<=TIME(7,0,0),0,IF(AND(G32>TIME(7,0,0),+G32<=TIME(15,0,0)),1,IF(AND(G32>TIME(15,0,0),+G32<=TIME(23,0,0)),2,3))) -> 0 | IG27: | | IP27: | | IQ27: =DATE(97,2,28) -> 35489 | IR27: |
J28: =IF(HV23=0,0,+IB23+ID23+IF23) -> 1 | L28: =IF(H28<>40,$HF$2*J28,(($HG$2*1)*J28))*1 -> 18.35 | M28: =GD22 -> 0 | N28: =HJ22 -> FALSE | O28: =B28 -> 0 | FK28: =D34 -> 0 | FL28: 0 | FM28: =FK28+FL28 -> 0 | FN28: =FM28 -> 0 | FO28: =F34 -> 0 | FP28: =FO28-FN28 -> 0 | FQ28: =H34 -> 0 | FR28: =IF(FP28<7,FP28,10) -> 0 | FS28: =IF(FP28>15,5,FP28-10) -> -10 | FT28: =FP28-15 -> -15 | FU28: =IF(FR28>0,FR28,0) -> 0 | FV28: =IF(FS28>0,FS28,0) -> 0 | FW28: =IF(FT28>0,FT28,0) -> 0 | FX28: 11.25 | FY28: 15 | FZ28: 22.5 | GA28: =IF(FQ28=20,$FL$2*FU28,IF(FQ28=40,$FL$3*FU28,"wrong size")) -> wrong size | GB28: =IF(FQ28=20,$FM$2*FV28,IF(FQ28=40,$FM$3*FV28,"wrong size")) -> wrong size | GC28: =IF(FQ28=20,$FN$2*FW28,IF(FQ28=40,$FN$3*FW28,"wrong size")) -> wrong size | GD28: =SUM(GA28:GC28) -> 0 | GE28: =IF(FQ28=40,GD28*2,IF(FQ28=20,GD28)) -> FALSE | GL28: =K34 -> 0 | GM28: =R34 -> 0 | GN28: =GL28+GM28 -> 0 | GO28: =GN28 -> 0 | GP28: =D34 -> 0 | GQ28: =GP28-GO28+1 -> 1 | GR28: =H34 -> 0 | GS28: =IF(GQ28<7,GQ28,7) -> 1 | GT28: =IF(GQ28>14,7,GQ28-7) -> -6 | GU28: =IF(GQ28>21,7,GQ28-14) -> -13 | GV28: =GQ28-21 -> -20 | GW28: =IF(GS28>0,GS28,0) -> 1 | GX28: =IF(GT28>0,GT28,0) -> 0 | GY28: =IF(GU28>0,GU28,0) -> 0 | GZ28: =IF(GV28>0,GV28,0) -> 0 | HA28: 75 | HB28: 106 | HC28: 144 | HD28: 144 | HE28: =GW28*HA28 -> 75 | HF28: =GX28*HB28 -> 0 | HG28: =GY28*HC28 -> 0 | HH28: =GZ28*HD28 -> 0 | HI28: =SUM(HE28:HH28) -> 75 | HJ28: =IF(GR28=40,HI28*2,IF(GR28=20,HI28)) -> FALSE | HS28: |* | HU28: | | HV28: =IF(HY28="D",0,1) -> 1 | HW28: | | HY28: =T(D28:D28) | IA28: | | IB28: =(+F33-D33-1)*3 -> -3 | IC28: | | ID28: =IF(E33<TIME(7,0,0),4,IF(AND(E33>=TIME(7,0,0),+E33<TIME(15,0,0)),3,IF(AND(E33>=TIME(15,0,0),+E33<TIME(23,0,0)),2,1))) -> 4 | IE28: | | IF28: =IF(G33<=TIME(7,0,0),0,IF(AND(G33>TIME(7,0,0),+G33<=TIME(15,0,0)),1,IF(AND(G33>TIME(15,0,0),+G33<=TIME(23,0,0)),2,3))) -> 0 | IG28: | | IP28: | | IQ28: =DATE(97,2,28) -> 35489 | IR28: |
J29: =IF(HV24=0,0,+IB24+ID24+IF24) -> 1 | L29: =IF(H29<>40,$HF$2*J29,(($HG$2*1)*J29))*1 -> 18.35 | M29: =GD23 -> 0 | N29: =HJ23 -> FALSE | O29: =B29 -> 0 | FK29: =D35 -> 0 | FL29: 0 | FM29: =FK29+FL29 -> 0 | FN29: =FM29 -> 0 | FO29: =F35 -> 0 | FP29: =FO29-FN29 -> 0 | FQ29: =H35 -> 0 | FR29: =IF(FP29<7,FP29,10) -> 0 | FS29: =IF(FP29>15,5,FP29-10) -> -10 | FT29: =FP29-15 -> -15 | FU29: =IF(FR29>0,FR29,0) -> 0 | FV29: =IF(FS29>0,FS29,0) -> 0 | FW29: =IF(FT29>0,FT29,0) -> 0 | FX29: 11.25 | FY29: 15 | FZ29: 22.5 | GA29: =IF(FQ29=20,$FL$2*FU29,IF(FQ29=40,$FL$3*FU29,"wrong size")) -> wrong size | GB29: =IF(FQ29=20,$FM$2*FV29,IF(FQ29=40,$FM$3*FV29,"wrong size")) -> wrong size | GC29: =IF(FQ29=20,$FN$2*FW29,IF(FQ29=40,$FN$3*FW29,"wrong size")) -> wrong size | GD29: =SUM(GA29:GC29) -> 0 | GE29: =IF(FQ29=40,GD29*2,IF(FQ29=20,GD29)) -> FALSE | GL29: =K35 -> 0 | GM29: =R35 -> 0 | GN29: =GL29+GM29 -> 0 | GO29: =GN29 -> 0 | GP29: =D35 -> 0 | GQ29: =GP29-GO29+1 -> 1 | GR29: =H35 -> 0 | GS29: =IF(GQ29<7,GQ29,7) -> 1 | GT29: =IF(GQ29>14,7,GQ29-7) -> -6 | GU29: =IF(GQ29>21,7,GQ29-14) -> -13 | GV29: =GQ29-21 -> -20 | GW29: =IF(GS29>0,GS29,0) -> 1 | GX29: =IF(GT29>0,GT29,0) -> 0 | GY29: =IF(GU29>0,GU29,0) -> 0 | GZ29: =IF(GV29>0,GV29,0) -> 0 | HA29: 75 | HB29: 106 | HC29: 144 | HD29: 144 | HE29: =GW29*HA29 -> 75 | HF29: =GX29*HB29 -> 0 | HG29: =GY29*HC29 -> 0 | HH29: =GZ29*HD29 -> 0 | HI29: =SUM(HE29:HH29) -> 75 | HJ29: =IF(GR29=40,HI29*2,IF(GR29=20,HI29)) -> FALSE | HS29: |* | HU29: | | HV29: =IF(HY29="D",0,1) -> 1 | HW29: | | HY29: =T(D29:D29) | IA29: | | IB29: =(+F34-D34-1)*3 -> -3 | IC29: | | ID29: =IF(E34<TIME(7,0,0),4,IF(AND(E34>=TIME(7,0,0),+E34<TIME(15,0,0)),3,IF(AND(E34>=TIME(15,0,0),+E34<TIME(23,0,0)),2,1))) -> 4 | IE29: | | IF29: =IF(G34<=TIME(7,0,0),0,IF(AND(G34>TIME(7,0,0),+G34<=TIME(15,0,0)),1,IF(AND(G34>TIME(15,0,0),+G34<=TIME(23,0,0)),2,3))) -> 0 | IG29: | | IP29: | | IQ29: =DATE(97,2,28) -> 35489 | IR29: |
J30: =IF(HV25=0,0,+IB25+ID25+IF25) -> 1 | L30: =IF(H30<>40,$HF$2*J30,(($HG$2*1)*J30))*1 -> 18.35 | M30: =GD24 -> 0 | N30: =HJ24 -> FALSE | O30: =B30 -> 0 | FK30: =D36 -> 0 | FL30: 0 | FM30: =FK30+FL30 -> 0 | FN30: =FM30 -> 0 | FO30: =F36 -> 0 | FP30: =FO30-FN30 -> 0 | FQ30: =H36 -> 0 | FR30: =IF(FP30<7,FP30,10) -> 0 | FS30: =IF(FP30>15,5,FP30-10) -> -10 | FT30: =FP30-15 -> -15 | FU30: =IF(FR30>0,FR30,0) -> 0 | FV30: =IF(FS30>0,FS30,0) -> 0 | FW30: =IF(FT30>0,FT30,0) -> 0 | FX30: 11.25 | FY30: 15 | FZ30: 22.5 | GA30: =IF(FQ30=20,$FL$2*FU30,IF(FQ30=40,$FL$3*FU30,"wrong size")) -> wrong size | GB30: =IF(FQ30=20,$FM$2*FV30,IF(FQ30=40,$FM$3*FV30,"wrong size")) -> wrong size | GC30: =IF(FQ30=20,$FN$2*FW30,IF(FQ30=40,$FN$3*FW30,"wrong size")) -> wrong size | GD30: =SUM(GA30:GC30) -> 0 | GE30: =IF(FQ30=40,GD30*2,IF(FQ30=20,GD30)) -> FALSE | GL30: =K36 -> 0 | GM30: =R36 -> 0 | GN30: =GL30+GM30 -> 0 | GO30: =GN30 -> 0 | GP30: =D36 -> 0 | GQ30: =GP30-GO30+1 -> 1 | GR30: =H36 -> 0 | GS30: =IF(GQ30<7,GQ30,7) -> 1 | GT30: =IF(GQ30>14,7,GQ30-7) -> -6 | GU30: =IF(GQ30>21,7,GQ30-14) -> -13 | GV30: =GQ30-21 -> -20 | GW30: =IF(GS30>0,GS30,0) -> 1 | GX30: =IF(GT30>0,GT30,0) -> 0 | GY30: =IF(GU30>0,GU30,0) -> 0 | GZ30: =IF(GV30>0,GV30,0) -> 0 | HA30: 75 | HB30: 106 | HC30: 144 | HD30: 144 | HE30: =GW30*HA30 -> 75 | HF30: =GX30*HB30 -> 0 | HG30: =GY30*HC30 -> 0 | HH30: =GZ30*HD30 -> 0 | HI30: =SUM(HE30:HH30) -> 75 | HJ30: =IF(GR30=40,HI30*2,IF(GR30=20,HI30)) -> FALSE | HS30: |* | HU30: | | HV30: =IF(HY30="D",0,1) -> 1 | HW30: | | HY30: =T(D30:D30) | IA30: | | IB30: =(+F35-D35-1)*3 -> -3 | IC30: | | ID30: =IF(E35<TIME(7,0,0),4,IF(AND(E35>=TIME(7,0,0),+E35<TIME(15,0,0)),3,IF(AND(E35>=TIME(15,0,0),+E35<TIME(23,0,0)),2,1))) -> 4 | IE30: | | IF30: =IF(G35<=TIME(7,0,0),0,IF(AND(G35>TIME(7,0,0),+G35<=TIME(15,0,0)),1,IF(AND(G35>TIME(15,0,0),+G35<=TIME(23,0,0)),2,3))) -> 0 | IG30: | | IP30: | | IQ30: =DATE(97,2,28) -> 35489 | IR30: |
A31: 1 | J31: =IF(HV26=0,0,+IB26+ID26+IF26) -> 1 | L31: =IF(H31<>40,$HF$2*J31,(($HG$2*1)*J31))*1 -> 18.35 | M31: =GD25 -> 0 | N31: =HJ25 -> FALSE | O31: =B31 -> 0 | FK31: =D37 -> 0 | FL31: 0 | FM31: =FK31+FL31 -> 0 | FN31: =FM31 -> 0 | FO31: =F37 -> 0 | FP31: =FO31-FN31 -> 0 | FQ31: =H37 -> 0 | FR31: =IF(FP31<7,FP31,10) -> 0 | FS31: =IF(FP31>15,5,FP31-10) -> -10 | FT31: =FP31-15 -> -15 | FU31: =IF(FR31>0,FR31,0) -> 0 | FV31: =IF(FS31>0,FS31,0) -> 0 | FW31: =IF(FT31>0,FT31,0) -> 0 | FX31: 11.25 | FY31: 15 | FZ31: 22.5 | GA31: =IF(FQ31=20,$FL$2*FU31,IF(FQ31=40,$FL$3*FU31,"wrong size")) -> wrong size | GB31: =IF(FQ31=20,$FM$2*FV31,IF(FQ31=40,$FM$3*FV31,"wrong size")) -> wrong size | GC31: =IF(FQ31=20,$FN$2*FW31,IF(FQ31=40,$FN$3*FW31,"wrong size")) -> wrong size | GD31: =SUM(GA31:GC31) -> 0 | GE31: =IF(FQ31=40,GD31*2,IF(FQ31=20,GD31)) -> FALSE | GL31: =K37 -> 0 | GM31: =R37 -> 0 | GN31: =GL31+GM31 -> 0 | GO31: =GN31 -> 0 | GP31: =D37 -> 0 | GQ31: =GP31-GO31+1 -> 1 | GR31: =H37 -> 0 | GS31: =IF(GQ31<7,GQ31,7) -> 1 | GT31: =IF(GQ31>14,7,GQ31-7) -> -6 | GU31: =IF(GQ31>21,7,GQ31-14) -> -13 | GV31: =GQ31-21 -> -20 | GW31: =IF(GS31>0,GS31,0) -> 1 | GX31: =IF(GT31>0,GT31,0) -> 0 | GY31: =IF(GU31>0,GU31,0) -> 0 | GZ31: =IF(GV31>0,GV31,0) -> 0 | HA31: 75 | HB31: 106 | HC31: 144 | HD31: 144 | HE31: =GW31*HA31 -> 75 | HF31: =GX31*HB31 -> 0 | HG31: =GY31*HC31 -> 0 | HH31: =GZ31*HD31 -> 0 | HI31: =SUM(HE31:HH31) -> 75 | HJ31: =IF(GR31=40,HI31*2,IF(GR31=20,HI31)) -> FALSE | HS31: |* | HU31: | | HV31: =IF(HY31="D",0,1) -> 1 | HW31: | | HY31: =T(D31:D31) | IA31: | | IB31: =(+F36-D36-1)*3 -> -3 | IC31: | | ID31: =IF(E36<TIME(7,0,0),4,IF(AND(E36>=TIME(7,0,0),+E36<TIME(15,0,0)),3,IF(AND(E36>=TIME(15,0,0),+E36<TIME(23,0,0)),2,1))) -> 4 | IE31: | | IF31: =IF(G36<=TIME(7,0,0),0,IF(AND(G36>TIME(7,0,0),+G36<=TIME(15,0,0)),1,IF(AND(G36>TIME(15,0,0),+G36<=TIME(23,0,0)),2,3))) -> 0 | IG31: | | IP31: | | IQ31: =DATE(97,2,28) -> 35489 | IR31: |
A32: 1 | J32: =IF(HV27=0,0,+IB27+ID27+IF27) -> 1 | L32: =IF(H32<>40,$HF$2*J32,(($HG$2*1)*J32))*1 -> 18.35 | M32: =GD26 -> 0 | N32: =HJ26 -> FALSE | O32: =B32 -> 0 | FK32: =D38 -> 0 | FL32: 0 | FM32: =FK32+FL32 -> 0 | FN32: =FM32 -> 0 | FO32: =F38 -> 0 | FP32: =FO32-FN32 -> 0 | FQ32: =H38 -> 0 | FR32: =IF(FP32<7,FP32,10) -> 0 | FS32: =IF(FP32>15,5,FP32-10) -> -10 | FT32: =FP32-15 -> -15 | FU32: =IF(FR32>0,FR32,0) -> 0 | FV32: =IF(FS32>0,FS32,0) -> 0 | FW32: =IF(FT32>0,FT32,0) -> 0 | FX32: 11.25 | FY32: 15 | FZ32: 22.5 | GA32: =IF(FQ32=20,$FL$2*FU32,IF(FQ32=40,$FL$3*FU32,"wrong size")) -> wrong size | GB32: =IF(FQ32=20,$FM$2*FV32,IF(FQ32=40,$FM$3*FV32,"wrong size")) -> wrong size | GC32: =IF(FQ32=20,$FN$2*FW32,IF(FQ32=40,$FN$3*FW32,"wrong size")) -> wrong size | GD32: =SUM(GA32:GC32) -> 0 | GE32: =IF(FQ32=40,GD32*2,IF(FQ32=20,GD32)) -> FALSE | GL32: =K38 -> 0 | GM32: =R38 -> 0 | GN32: =GL32+GM32 -> 0 | GO32: =GN32 -> 0 | GP32: =D38 -> 0 | GQ32: =GP32-GO32+1 -> 1 | GR32: =H38 -> 0 | GS32: =IF(GQ32<7,GQ32,7) -> 1 | GT32: =IF(GQ32>14,7,GQ32-7) -> -6 | GU32: =IF(GQ32>21,7,GQ32-14) -> -13 | GV32: =GQ32-21 -> -20 | GW32: =IF(GS32>0,GS32,0) -> 1 | GX32: =IF(GT32>0,GT32,0) -> 0 | GY32: =IF(GU32>0,GU32,0) -> 0 | GZ32: =IF(GV32>0,GV32,0) -> 0 | HA32: 75 | HB32: 106 | HC32: 144 | HD32: 144 | HE32: =GW32*HA32 -> 75 | HF32: =GX32*HB32 -> 0 | HG32: =GY32*HC32 -> 0 | HH32: =GZ32*HD32 -> 0 | HI32: =SUM(HE32:HH32) -> 75 | HJ32: =IF(GR32=40,HI32*2,IF(GR32=20,HI32)) -> FALSE | HS32: |* | HU32: | | HV32: =IF(HY32="D",0,1) -> 1 | HW32: | | HY32: =T(D32:D32) | IA32: | | IB32: =(+F37-D37-1)*3 -> -3 | IC32: | | ID32: =IF(E37<TIME(7,0,0),4,IF(AND(E37>=TIME(7,0,0),+E37<TIME(15,0,0)),3,IF(AND(E37>=TIME(15,0,0),+E37<TIME(23,0,0)),2,1))) -> 4 | IE32: | | IF32: =IF(G37<=TIME(7,0,0),0,IF(AND(G37>TIME(7,0,0),+G37<=TIME(15,0,0)),1,IF(AND(G37>TIME(15,0,0),+G37<=TIME(23,0,0)),2,3))) -> 0 | IG32: | | IP32: | | IQ32: =DATE(97,2,28) -> 35489 | IR32: |
A33: 1 | J33: =IF(HV28=0,0,+IB28+ID28+IF28) -> 1 | L33: =IF(H33<>40,$HF$2*J33,(($HG$2*1)*J33))*1 -> 18.35 | M33: =GD27 -> 0 | N33: =HJ27 -> FALSE | O33: =B33 -> 0 | FK33: =D39 -> 0 | FL33: 0 | FM33: =FK33+FL33 -> 0 | FN33: =FM33 -> 0 | FO33: =F39 -> 0 | FP33: =FO33-FN33 -> 0 | FQ33: =H39 -> 0 | FR33: =IF(FP33<7,FP33,10) -> 0 | FS33: =IF(FP33>15,5,FP33-10) -> -10 | FT33: =FP33-15 -> -15 | FU33: =IF(FR33>0,FR33,0) -> 0 | FV33: =IF(FS33>0,FS33,0) -> 0 | FW33: =IF(FT33>0,FT33,0) -> 0 | FX33: 11.25 | FY33: 15 | FZ33: 22.5 | GA33: =IF(FQ33=20,$FL$2*FU33,IF(FQ33=40,$FL$3*FU33,"wrong size")) -> wrong size | GB33: =IF(FQ33=20,$FM$2*FV33,IF(FQ33=40,$FM$3*FV33,"wrong size")) -> wrong size | GC33: =IF(FQ33=20,$FN$2*FW33,IF(FQ33=40,$FN$3*FW33,"wrong size")) -> wrong size | GD33: =SUM(GA33:GC33) -> 0 | GE33: =IF(FQ33=40,GD33*2,IF(FQ33=20,GD33)) -> FALSE | GL33: =K39 -> 0 | GM33: =R39 -> 0 | GN33: =GL33+GM33 -> 0 | GO33: =GN33 -> 0 | GP33: =D39 -> 0 | GQ33: =GP33-GO33+1 -> 1 | GR33: =H39 -> 0 | GS33: =IF(GQ33<7,GQ33,7) -> 1 | GT33: =IF(GQ33>14,7,GQ33-7) -> -6 | GU33: =IF(GQ33>21,7,GQ33-14) -> -13 | GV33: =GQ33-21 -> -20 | GW33: =IF(GS33>0,GS33,0) -> 1 | GX33: =IF(GT33>0,GT33,0) -> 0 | GY33: =IF(GU33>0,GU33,0) -> 0 | GZ33: =IF(GV33>0,GV33,0) -> 0 | HA33: 75 | HB33: 106 | HC33: 144 | HD33: 144 | HE33: =GW33*HA33 -> 75 | HF33: =GX33*HB33 -> 0 | HG33: =GY33*HC33 -> 0 | HH33: =GZ33*HD33 -> 0 | HI33: =SUM(HE33:HH33) -> 75 | HJ33: =IF(GR33=40,HI33*2,IF(GR33=20,HI33)) -> FALSE | HS33: |* | HU33: | | HV33: =IF(HY33="D",0,1) -> 1 | HW33: | | HY33: =T(D33:D33) | IA33: | | IB33: =(+F38-D38-1)*3 -> -3 | IC33: | | ID33: =IF(E38<TIME(7,0,0),4,IF(AND(E38>=TIME(7,0,0),+E38<TIME(15,0,0)),3,IF(AND(E38>=TIME(15,0,0),+E38<TIME(23,0,0)),2,1))) -> 4 | IE33: | | IF33: =IF(G38<=TIME(7,0,0),0,IF(AND(G38>TIME(7,0,0),+G38<=TIME(15,0,0)),1,IF(AND(G38>TIME(15,0,0),+G38<=TIME(23,0,0)),2,3))) -> 0 | IG33: | | IP33: | | IQ33: =DATE(97,2,28) -> 35489 | IR33: |
A34: 1 | J34: =IF(HV29=0,0,+IB29+ID29+IF29) -> 1 | L34: =IF(H34<>40,$HF$2*J34,(($HG$2*1)*J34))*1 -> 18.35 | M34: =GD28 -> 0 | N34: =HJ28 -> FALSE | O34: =B34 -> 0 | FK34: =D40 -> 0 | FL34: 0 | FM34: =FK34+FL34 -> 0 | FN34: =FM34 -> 0 | FO34: =F40 -> 0 | FP34: =FO34-FN34 -> 0 | FQ34: =H40 -> 0 | FR34: =IF(FP34<7,FP34,10) -> 0 | FS34: =IF(FP34>15,5,FP34-10) -> -10 | FT34: =FP34-15 -> -15 | FU34: =IF(FR34>0,FR34,0) -> 0 | FV34: =IF(FS34>0,FS34,0) -> 0 | FW34: =IF(FT34>0,FT34,0) -> 0 | FX34: 11.25 | FY34: 15 | FZ34: 22.5 | GA34: =IF(FQ34=20,$FL$2*FU34,IF(FQ34=40,$FL$3*FU34,"wrong size")) -> wrong size | GB34: =IF(FQ34=20,$FM$2*FV34,IF(FQ34=40,$FM$3*FV34,"wrong size")) -> wrong size | GC34: =IF(FQ34=20,$FN$2*FW34,IF(FQ34=40,$FN$3*FW34,"wrong size")) -> wrong size | GD34: =SUM(GA34:GC34) -> 0 | GE34: =IF(FQ34=40,GD34*2,IF(FQ34=20,GD34)) -> FALSE | GL34: =K40 -> 0 | GM34: =R40 -> 0 | GN34: =GL34+GM34 -> 0 | GO34: =GN34 -> 0 | GP34: =D40 -> 0 | GQ34: =GP34-GO34+1 -> 1 | GR34: =H40 -> 0 | GS34: =IF(GQ34<7,GQ34,7) -> 1 | GT34: =IF(GQ34>14,7,GQ34-7) -> -6 | GU34: =IF(GQ34>21,7,GQ34-14) -> -13 | GV34: =GQ34-21 -> -20 | GW34: =IF(GS34>0,GS34,0) -> 1 | GX34: =IF(GT34>0,GT34,0) -> 0 | GY34: =IF(GU34>0,GU34,0) -> 0 | GZ34: =IF(GV34>0,GV34,0) -> 0 | HA34: 75 | HB34: 106 | HC34: 144 | HD34: 144 | HE34: =GW34*HA34 -> 75 | HF34: =GX34*HB34 -> 0 | HG34: =GY34*HC34 -> 0 | HH34: =GZ34*HD34 -> 0 | HI34: =SUM(HE34:HH34) -> 75 | HJ34: =IF(GR34=40,HI34*2,IF(GR34=20,HI34)) -> FALSE | HS34: |* | HU34: | | HV34: =IF(HY34="D",0,1) -> 1 | HW34: | | HY34: =T(D34:D34) | IA34: | | IB34: =(+F39-D39-1)*3 -> -3 | IC34: | | ID34: =IF(E39<TIME(7,0,0),4,IF(AND(E39>=TIME(7,0,0),+E39<TIME(15,0,0)),3,IF(AND(E39>=TIME(15,0,0),+E39<TIME(23,0,0)),2,1))) -> 4 | IE34: | | IF34: =IF(G39<=TIME(7,0,0),0,IF(AND(G39>TIME(7,0,0),+G39<=TIME(15,0,0)),1,IF(AND(G39>TIME(15,0,0),+G39<=TIME(23,0,0)),2,3))) -> 0 | IG34: | | IP34: | | IQ34: =DATE(97,2,28) -> 35489 | IR34: |
A35: 1 | J35: =IF(HV30=0,0,+IB30+ID30+IF30) -> 1 | L35: =IF(H35<>40,$HF$2*J35,(($HG$2*1)*J35))*1 -> 18.35 | M35: =GD29 -> 0 | N35: =HJ29 -> FALSE | O35: =B35 -> 0 | FK35: =D41 -> 0 | FL35: 0 | FM35: =FK35+FL35 -> 0 | FN35: =FM35 -> 0 | FO35: =F41 -> 0 | FP35: =FO35-FN35 -> 0 | FQ35: =H41 -> 0 | FR35: =IF(FP35<7,FP35,10) -> 0 | FS35: =IF(FP35>15,5,FP35-10) -> -10 | FT35: =FP35-15 -> -15 | FU35: =IF(FR35>0,FR35,0) -> 0 | FV35: =IF(FS35>0,FS35,0) -> 0 | FW35: =IF(FT35>0,FT35,0) -> 0 | FX35: 11.25 | FY35: 15 | FZ35: 22.5 | GA35: =IF(FQ35=20,$FL$2*FU35,IF(FQ35=40,$FL$3*FU35,"wrong size")) -> wrong size | GB35: =IF(FQ35=20,$FM$2*FV35,IF(FQ35=40,$FM$3*FV35,"wrong size")) -> wrong size | GC35: =IF(FQ35=20,$FN$2*FW35,IF(FQ35=40,$FN$3*FW35,"wrong size")) -> wrong size | GD35: =SUM(GA35:GC35) -> 0 | GE35: =IF(FQ35=40,GD35*2,IF(FQ35=20,GD35)) -> FALSE | GL35: =K41 -> 0 | GM35: =R41 -> 0 | GN35: =GL35+GM35 -> 0 | GO35: =GN35 -> 0 | GP35: =D41 -> 0 | GQ35: =GP35-GO35+1 -> 1 | GR35: =H41 -> 0 | GS35: =IF(GQ35<7,GQ35,7) -> 1 | GT35: =IF(GQ35>14,7,GQ35-7) -> -6 | GU35: =IF(GQ35>21,7,GQ35-14) -> -13 | GV35: =GQ35-21 -> -20 | GW35: =IF(GS35>0,GS35,0) -> 1 | GX35: =IF(GT35>0,GT35,0) -> 0 | GY35: =IF(GU35>0,GU35,0) -> 0 | GZ35: =IF(GV35>0,GV35,0) -> 0 | HA35: 75 | HB35: 106 | HC35: 144 | HD35: 144 | HE35: =GW35*HA35 -> 75 | HF35: =GX35*HB35 -> 0 | HG35: =GY35*HC35 -> 0 | HH35: =GZ35*HD35 -> 0 | HI35: =SUM(HE35:HH35) -> 75 | HJ35: =IF(GR35=40,HI35*2,IF(GR35=20,HI35)) -> FALSE | HS35: |* | HU35: | | HV35: =IF(HY35="D",0,1) -> 1 | HW35: | | HY35: =T(D35:D35) | IA35: | | IB35: =(+F40-D40-1)*3 -> -3 | IC35: | | ID35: =IF(E40<TIME(7,0,0),4,IF(AND(E40>=TIME(7,0,0),+E40<TIME(15,0,0)),3,IF(AND(E40>=TIME(15,0,0),+E40<TIME(23,0,0)),2,1))) -> 4 | IE35: | | IF35: =IF(G40<=TIME(7,0,0),0,IF(AND(G40>TIME(7,0,0),+G40<=TIME(15,0,0)),1,IF(AND(G40>TIME(15,0,0),+G40<=TIME(23,0,0)),2,3))) -> 0 | IG35: | | IP35: | | IQ35: =DATE(97,2,28) -> 35489 | IR35: |
A36: 1 | J36: =IF(HV31=0,0,+IB31+ID31+IF31) -> 1 | L36: =IF(H36<>40,$HF$2*J36,(($HG$2*1)*J36))*1 -> 18.35 | M36: =GD30 -> 0 | N36: =HJ30 -> FALSE | O36: =B36 -> 0 | FK36: =D42 -> 0 | FL36: 0 | FM36: =FK36+FL36 -> 0 | FN36: =FM36 -> 0 | FO36: =F42 -> 0 | FP36: =FO36-FN36 -> 0 | FQ36: =H42 -> 0 | FR36: =IF(FP36<7,FP36,10) -> 0 | FS36: =IF(FP36>15,5,FP36-10) -> -10 | FT36: =FP36-15 -> -15 | FU36: =IF(FR36>0,FR36,0) -> 0 | FV36: =IF(FS36>0,FS36,0) -> 0 | FW36: =IF(FT36>0,FT36,0) -> 0 | FX36: 11.25 | FY36: 15 | FZ36: 22.5 | GA36: =IF(FQ36=20,$FL$2*FU36,IF(FQ36=40,$FL$3*FU36,"wrong size")) -> wrong size | GB36: =IF(FQ36=20,$FM$2*FV36,IF(FQ36=40,$FM$3*FV36,"wrong size")) -> wrong size | GC36: =IF(FQ36=20,$FN$2*FW36,IF(FQ36=40,$FN$3*FW36,"wrong size")) -> wrong size | GD36: =SUM(GA36:GC36) -> 0 | GE36: =IF(FQ36=40,GD36*2,IF(FQ36=20,GD36)) -> FALSE | GL36: =K42 -> 0 | GM36: =R42 -> 0 | GN36: =GL36+GM36 -> 0 | GO36: =GN36 -> 0 | GP36: =D42 -> 0 | GQ36: =GP36-GO36+1 -> 1 | GR36: =H42 -> 0 | GS36: =IF(GQ36<7,GQ36,7) -> 1 | GT36: =IF(GQ36>14,7,GQ36-7) -> -6 | GU36: =IF(GQ36>21,7,GQ36-14) -> -13 | GV36: =GQ36-21 -> -20 | GW36: =IF(GS36>0,GS36,0) -> 1 | GX36: =IF(GT36>0,GT36,0) -> 0 | GY36: =IF(GU36>0,GU36,0) -> 0 | GZ36: =IF(GV36>0,GV36,0) -> 0 | HA36: 75 | HB36: 106 | HC36: 144 | HD36: 144 | HE36: =GW36*HA36 -> 75 | HF36: =GX36*HB36 -> 0 | HG36: =GY36*HC36 -> 0 | HH36: =GZ36*HD36 -> 0 | HI36: =SUM(HE36:HH36) -> 75 | HJ36: =IF(GR36=40,HI36*2,IF(GR36=20,HI36)) -> FALSE | HS36: |* | HU36: | | HV36: =IF(HY36="D",0,1) -> 1 | HW36: | | HY36: =T(D36:D36) | IA36: | | IB36: =(+F41-D41-1)*3 -> -3 | IC36: | | ID36: =IF(E41<TIME(7,0,0),4,IF(AND(E41>=TIME(7,0,0),+E41<TIME(15,0,0)),3,IF(AND(E41>=TIME(15,0,0),+E41<TIME(23,0,0)),2,1))) -> 4 | IE36: | | IF36: =IF(G41<=TIME(7,0,0),0,IF(AND(G41>TIME(7,0,0),+G41<=TIME(15,0,0)),1,IF(AND(G41>TIME(15,0,0),+G41<=TIME(23,0,0)),2,3))) -> 0 | IG36: | | IP36: | | IQ36: =DATE(97,2,28) -> 35489 | IR36: |
A37: 1 | J37: =IF(HV32=0,0,+IB32+ID32+IF32) -> 1 | L37: =IF(H37<>40,$HF$2*J37,(($HG$2*1)*J37))*1 -> 18.35 | M37: =GD31 -> 0 | N37: =HJ31 -> FALSE | O37: =B37 -> 0 | FK37: =D43 -> 0 | FL37: 0 | FM37: =FK37+FL37 -> 0 | FN37: =FM37 -> 0 | FO37: =F43 -> 0 | FP37: =FO37-FN37 -> 0 | FQ37: =H43 -> 0 | FR37: =IF(FP37<7,FP37,10) -> 0 | FS37: =IF(FP37>15,5,FP37-10) -> -10 | FT37: =FP37-15 -> -15 | FU37: =IF(FR37>0,FR37,0) -> 0 | FV37: =IF(FS37>0,FS37,0) -> 0 | FW37: =IF(FT37>0,FT37,0) -> 0 | FX37: 11.25 | FY37: 15 | FZ37: 22.5 | GA37: =IF(FQ37=20,$FL$2*FU37,IF(FQ37=40,$FL$3*FU37,"wrong size")) -> wrong size | GB37: =IF(FQ37=20,$FM$2*FV37,IF(FQ37=40,$FM$3*FV37,"wrong size")) -> wrong size | GC37: =IF(FQ37=20,$FN$2*FW37,IF(FQ37=40,$FN$3*FW37,"wrong size")) -> wrong size | GD37: =SUM(GA37:GC37) -> 0 | GE37: =IF(FQ37=40,GD37*2,IF(FQ37=20,GD37)) -> FALSE | GL37: =K43 -> 0 | GM37: =R43 -> 0 | GN37: =GL37+GM37 -> 0 | GO37: =GN37 -> 0 | GP37: =D43 -> 0 | GQ37: =GP37-GO37+1 -> 1 | GR37: =H43 -> 0 | GS37: =IF(GQ37<7,GQ37,7) -> 1 | GT37: =IF(GQ37>14,7,GQ37-7) -> -6 | GU37: =IF(GQ37>21,7,GQ37-14) -> -13 | GV37: =GQ37-21 -> -20 | GW37: =IF(GS37>0,GS37,0) -> 1 | GX37: =IF(GT37>0,GT37,0) -> 0 | GY37: =IF(GU37>0,GU37,0) -> 0 | GZ37: =IF(GV37>0,GV37,0) -> 0 | HA37: 75 | HB37: 106 | HC37: 144 | HD37: 144 | HE37: =GW37*HA37 -> 75 | HF37: =GX37*HB37 -> 0 | HG37: =GY37*HC37 -> 0 | HH37: =GZ37*HD37 -> 0 | HI37: =SUM(HE37:HH37) -> 75 | HJ37: =IF(GR37=40,HI37*2,IF(GR37=20,HI37)) -> FALSE | HS37: |* | HU37: | | HV37: =IF(HY37="D",0,1) -> 1 | HW37: | | HY37: =T(D37:D37) | IA37: | | IB37: =(+F42-D42-1)*3 -> -3 | IC37: | | ID37: =IF(E42<TIME(7,0,0),4,IF(AND(E42>=TIME(7,0,0),+E42<TIME(15,0,0)),3,IF(AND(E42>=TIME(15,0,0),+E42<TIME(23,0,0)),2,1))) -> 4 | IE37: | | IF37: =IF(G42<=TIME(7,0,0),0,IF(AND(G42>TIME(7,0,0),+G42<=TIME(15,0,0)),1,IF(AND(G42>TIME(15,0,0),+G42<=TIME(23,0,0)),2,3))) -> 0 | IG37: | | IP37: | | IQ37: =DATE(97,2,28) -> 35489 | IR37: |
A38: 1 | J38: =IF(HV33=0,0,+IB33+ID33+IF33) -> 1 | L38: =IF(H38<>40,$HF$2*J38,(($HG$2*1)*J38))*1 -> 18.35 | M38: =GD32 -> 0 | N38: =HJ32 -> FALSE | O38: =B38 -> 0 | FK38: =D44 -> 0 | FL38: 0 | FM38: =FK38+FL38 -> 0 | FN38: =FM38 -> 0 | FO38: =F44 -> 0 | FP38: =FO38-FN38 -> 0 | FQ38: =H44 -> 0 | FR38: =IF(FP38<7,FP38,10) -> 0 | FS38: =IF(FP38>15,5,FP38-10) -> -10 | FT38: =FP38-15 -> -15 | FU38: =IF(FR38>0,FR38,0) -> 0 | FV38: =IF(FS38>0,FS38,0) -> 0 | FW38: =IF(FT38>0,FT38,0) -> 0 | FX38: 11.25 | FY38: 15 | FZ38: 22.5 | GA38: =IF(FQ38=20,$FL$2*FU38,IF(FQ38=40,$FL$3*FU38,"wrong size")) -> wrong size | GB38: =IF(FQ38=20,$FM$2*FV38,IF(FQ38=40,$FM$3*FV38,"wrong size")) -> wrong size | GC38: =IF(FQ38=20,$FN$2*FW38,IF(FQ38=40,$FN$3*FW38,"wrong size")) -> wrong size | GD38: =SUM(GA38:GC38) -> 0 | GE38: =IF(FQ38=40,GD38*2,IF(FQ38=20,GD38)) -> FALSE | GL38: =K44 -> 0 | GM38: =R44 -> 0 | GN38: =GL38+GM38 -> 0 | GO38: =GN38 -> 0 | GP38: =D44 -> 0 | GQ38: =GP38-GO38+1 -> 1 | GR38: =H44 -> 0 | GS38: =IF(GQ38<7,GQ38,7) -> 1 | GT38: =IF(GQ38>14,7,GQ38-7) -> -6 | GU38: =IF(GQ38>21,7,GQ38-14) -> -13 | GV38: =GQ38-21 -> -20 | GW38: =IF(GS38>0,GS38,0) -> 1 | GX38: =IF(GT38>0,GT38,0) -> 0 | GY38: =IF(GU38>0,GU38,0) -> 0 | GZ38: =IF(GV38>0,GV38,0) -> 0 | HA38: 75 | HB38: 106 | HC38: 144 | HD38: 144 | HE38: =GW38*HA38 -> 75 | HF38: =GX38*HB38 -> 0 | HG38: =GY38*HC38 -> 0 | HH38: =GZ38*HD38 -> 0 | HI38: =SUM(HE38:HH38) -> 75 | HJ38: =IF(GR38=40,HI38*2,IF(GR38=20,HI38)) -> FALSE | HS38: |* | HU38: | | HV38: =IF(HY38="D",0,1) -> 1 | HW38: | | HY38: =T(D38:D38) | IA38: | | IB38: =(+F43-D43-1)*3 -> -3 | IC38: | | ID38: =IF(E43<TIME(7,0,0),4,IF(AND(E43>=TIME(7,0,0),+E43<TIME(15,0,0)),3,IF(AND(E43>=TIME(15,0,0),+E43<TIME(23,0,0)),2,1))) -> 4 | IE38: | | IF38: =IF(G43<=TIME(7,0,0),0,IF(AND(G43>TIME(7,0,0),+G43<=TIME(15,0,0)),1,IF(AND(G43>TIME(15,0,0),+G43<=TIME(23,0,0)),2,3))) -> 0 | IG38: | | IP38: | | IQ38: =DATE(97,2,28) -> 35489 | IR38: |
A39: 1 | J39: =IF(HV34=0,0,+IB34+ID34+IF34) -> 1 | L39: =IF(H39<>40,$HF$2*J39,(($HG$2*1)*J39))*1 -> 18.35 | M39: =GD33 -> 0 | N39: =HJ33 -> FALSE | O39: =B39 -> 0 | FK39: =D45 -> 0 | FL39: 0 | FM39: =FK39+FL39 -> 0 | FN39: =FM39 -> 0 | FO39: =F45 -> 0 | FP39: =FO39-FN39 -> 0 | FQ39: =H45 -> 0 | FR39: =IF(FP39<7,FP39,10) -> 0 | FS39: =IF(FP39>15,5,FP39-10) -> -10 | FT39: =FP39-15 -> -15 | FU39: =IF(FR39>0,FR39,0) -> 0 | FV39: =IF(FS39>0,FS39,0) -> 0 | FW39: =IF(FT39>0,FT39,0) -> 0 | FX39: 11.25 | FY39: 15 | FZ39: 22.5 | GA39: =IF(FQ39=20,$FL$2*FU39,IF(FQ39=40,$FL$3*FU39,"wrong size")) -> wrong size | GB39: =IF(FQ39=20,$FM$2*FV39,IF(FQ39=40,$FM$3*FV39,"wrong size")) -> wrong size | GC39: =IF(FQ39=20,$FN$2*FW39,IF(FQ39=40,$FN$3*FW39,"wrong size")) -> wrong size | GD39: =SUM(GA39:GC39) -> 0 | GE39: =IF(FQ39=40,GD39*2,IF(FQ39=20,GD39)) -> FALSE | GL39: =K45 -> 0 | GM39: =R45 -> 0 | GN39: =GL39+GM39 -> 0 | GO39: =GN39 -> 0 | GP39: =D45 -> 0 | GQ39: =GP39-GO39+1 -> 1 | GR39: =H45 -> 0 | GS39: =IF(GQ39<7,GQ39,7) -> 1 | GT39: =IF(GQ39>14,7,GQ39-7) -> -6 | GU39: =IF(GQ39>21,7,GQ39-14) -> -13 | GV39: =GQ39-21 -> -20 | GW39: =IF(GS39>0,GS39,0) -> 1 | GX39: =IF(GT39>0,GT39,0) -> 0 | GY39: =IF(GU39>0,GU39,0) -> 0 | GZ39: =IF(GV39>0,GV39,0) -> 0 | HA39: 75 | HB39: 106 | HC39: 144 | HD39: 144 | HE39: =GW39*HA39 -> 75 | HF39: =GX39*HB39 -> 0 | HG39: =GY39*HC39 -> 0 | HH39: =GZ39*HD39 -> 0 | HI39: =SUM(HE39:HH39) -> 75 | HJ39: =IF(GR39=40,HI39*2,IF(GR39=20,HI39)) -> FALSE | HS39: |* | HU39: | | HV39: =IF(HY39="D",0,1) -> 1 | HW39: | | HY39: =T(D39:D39) | IA39: | | IB39: =(+F44-D44-1)*3 -> -3 | IC39: | | ID39: =IF(E44<TIME(7,0,0),4,IF(AND(E44>=TIME(7,0,0),+E44<TIME(15,0,0)),3,IF(AND(E44>=TIME(15,0,0),+E44<TIME(23,0,0)),2,1))) -> 4 | IE39: | | IF39: =IF(G44<=TIME(7,0,0),0,IF(AND(G44>TIME(7,0,0),+G44<=TIME(15,0,0)),1,IF(AND(G44>TIME(15,0,0),+G44<=TIME(23,0,0)),2,3))) -> 0 | IG39: | | IP39: | | IQ39: =DATE(97,2,28) -> 35489 | IR39: |
A40: 1 | J40: =IF(HV35=0,0,+IB35+ID35+IF35) -> 1 | L40: =IF(H40<>40,$HF$2*J40,(($HG$2*1)*J40))*1 -> 18.35 | M40: =GD34 -> 0 | N40: =HJ34 -> FALSE | O40: =B40 -> 0 | FK40: =D46 -> 0 | FL40: 0 | FM40: =FK40+FL40 -> 0 | FN40: =FM40 -> 0 | FO40: =F46 -> 0 | FP40: =FO40-FN40 -> 0 | FQ40: =H46 -> 0 | FR40: =IF(FP40<7,FP40,10) -> 0 | FS40: =IF(FP40>15,5,FP40-10) -> -10 | FT40: =FP40-15 -> -15 | FU40: =IF(FR40>0,FR40,0) -> 0 | FV40: =IF(FS40>0,FS40,0) -> 0 | FW40: =IF(FT40>0,FT40,0) -> 0 | FX40: 11.25 | FY40: 15 | FZ40: 22.5 | GA40: =IF(FQ40=20,$FL$2*FU40,IF(FQ40=40,$FL$3*FU40,"wrong size")) -> wrong size | GB40: =IF(FQ40=20,$FM$2*FV40,IF(FQ40=40,$FM$3*FV40,"wrong size")) -> wrong size | GC40: =IF(FQ40=20,$FN$2*FW40,IF(FQ40=40,$FN$3*FW40,"wrong size")) -> wrong size | GD40: =SUM(GA40:GC40) -> 0 | GE40: =IF(FQ40=40,GD40*2,IF(FQ40=20,GD40)) -> FALSE | GL40: =K46 -> 0 | GM40: =R46 -> 0 | GN40: =GL40+GM40 -> 0 | GO40: =GN40 -> 0 | GP40: =D46 -> 0 | GQ40: =GP40-GO40+1 -> 1 | GR40: =H46 -> 0 | GS40: =IF(GQ40<7,GQ40,7) -> 1 | GT40: =IF(GQ40>14,7,GQ40-7) -> -6 | GU40: =IF(GQ40>21,7,GQ40-14) -> -13 | GV40: =GQ40-21 -> -20 | GW40: =IF(GS40>0,GS40,0) -> 1 | GX40: =IF(GT40>0,GT40,0) -> 0 | GY40: =IF(GU40>0,GU40,0) -> 0 | GZ40: =IF(GV40>0,GV40,0) -> 0 | HA40: 75 | HB40: 106 | HC40: 144 | HD40: 144 | HE40: =GW40*HA40 -> 75 | HF40: =GX40*HB40 -> 0 | HG40: =GY40*HC40 -> 0 | HH40: =GZ40*HD40 -> 0 | HI40: =SUM(HE40:HH40) -> 75 | HJ40: =IF(GR40=40,HI40*2,IF(GR40=20,HI40)) -> FALSE | HS40: |* | HU40: | | HV40: =IF(HY40="D",0,1) -> 1 | HW40: | | HY40: =T(D40:D40) | IA40: | | IB40: =(+F45-D45-1)*3 -> -3 | IC40: | | ID40: =IF(E45<TIME(7,0,0),4,IF(AND(E45>=TIME(7,0,0),+E45<TIME(15,0,0)),3,IF(AND(E45>=TIME(15,0,0),+E45<TIME(23,0,0)),2,1))) -> 4 | IE40: | | IF40: =IF(G45<=TIME(7,0,0),0,IF(AND(G45>TIME(7,0,0),+G45<=TIME(15,0,0)),1,IF(AND(G45>TIME(15,0,0),+G45<=TIME(23,0,0)),2,3))) -> 0 | IG40: | | IP40: | | IQ40: =DATE(97,2,28) -> 35489 | IR40: |
A41: 1 | J41: =IF(HV36=0,0,+IB36+ID36+IF36) -> 1 | L41: =IF(H41<>40,$HF$2*J41,(($HG$2*1)*J41))*1 -> 18.35 | M41: =GD35 -> 0 | N41: =HJ35 -> FALSE | O41: =B41 -> 0 | FK41: =D47 -> 0 | FL41: 0 | FM41: =FK41+FL41 -> 0 | FN41: =FM41 -> 0 | FO41: =F47 -> 0 | FP41: =FO41-FN41 -> 0 | FQ41: =H47 -> 0 | FR41: =IF(FP41<7,FP41,10) -> 0 | FS41: =IF(FP41>15,5,FP41-10) -> -10 | FT41: =FP41-15 -> -15 | FU41: =IF(FR41>0,FR41,0) -> 0 | FV41: =IF(FS41>0,FS41,0) -> 0 | FW41: =IF(FT41>0,FT41,0) -> 0 | FX41: 11.25 | FY41: 15 | FZ41: 22.5 | GA41: =IF(FQ41=20,$FL$2*FU41,IF(FQ41=40,$FL$3*FU41,"wrong size")) -> wrong size | GB41: =IF(FQ41=20,$FM$2*FV41,IF(FQ41=40,$FM$3*FV41,"wrong size")) -> wrong size | GC41: =IF(FQ41=20,$FN$2*FW41,IF(FQ41=40,$FN$3*FW41,"wrong size")) -> wrong size | GD41: =SUM(GA41:GC41) -> 0 | GE41: =IF(FQ41=40,GD41*2,IF(FQ41=20,GD41)) -> FALSE | GL41: =K47 -> 0 | GM41: =R47 -> 0 | GN41: =GL41+GM41 -> 0 | GO41: =GN41 -> 0 | GP41: =D47 -> 0 | GQ41: =GP41-GO41+1 -> 1 | GR41: =H47 -> 0 | GS41: =IF(GQ41<7,GQ41,7) -> 1 | GT41: =IF(GQ41>14,7,GQ41-7) -> -6 | GU41: =IF(GQ41>21,7,GQ41-14) -> -13 | GV41: =GQ41-21 -> -20 | GW41: =IF(GS41>0,GS41,0) -> 1 | GX41: =IF(GT41>0,GT41,0) -> 0 | GY41: =IF(GU41>0,GU41,0) -> 0 | GZ41: =IF(GV41>0,GV41,0) -> 0 | HA41: 75 | HB41: 106 | HC41: 144 | HD41: 144 | HE41: =GW41*HA41 -> 75 | HF41: =GX41*HB41 -> 0 | HG41: =GY41*HC41 -> 0 | HH41: =GZ41*HD41 -> 0 | HI41: =SUM(HE41:HH41) -> 75 | HJ41: =IF(GR41=40,HI41*2,IF(GR41=20,HI41)) -> FALSE | HS41: |* | HU41: | | HV41: =IF(HY41="D",0,1) -> 1 | HW41: | | HY41: =T(D41:D41) | IA41: | | IB41: =(+F46-D46-1)*3 -> -3 | IC41: | | ID41: =IF(E46<TIME(7,0,0),4,IF(AND(E46>=TIME(7,0,0),+E46<TIME(15,0,0)),3,IF(AND(E46>=TIME(15,0,0),+E46<TIME(23,0,0)),2,1))) -> 4 | IE41: | | IF41: =IF(G46<=TIME(7,0,0),0,IF(AND(G46>TIME(7,0,0),+G46<=TIME(15,0,0)),1,IF(AND(G46>TIME(15,0,0),+G46<=TIME(23,0,0)),2,3))) -> 0 | IG41: | | IP41: | | IQ41: =DATE(97,2,28) -> 35489 | IR41: |
A42: 1 | J42: =IF(HV37=0,0,+IB37+ID37+IF37) -> 1 | L42: =IF(H42<>40,$HF$2*J42,(($HG$2*1)*J42))*1 -> 18.35 | M42: =GD36 -> 0 | N42: =HJ36 -> FALSE | O42: =B42 -> 0 | FK42: =D48 -> 0 | FL42: 0 | FM42: =FK42+FL42 -> 0 | FN42: =FM42 -> 0 | FO42: =F48 -> 0 | FP42: =FO42-FN42 -> 0 | FQ42: =H48 -> 0 | FR42: =IF(FP42<7,FP42,10) -> 0 | FS42: =IF(FP42>15,5,FP42-10) -> -10 | FT42: =FP42-15 -> -15 | FU42: =IF(FR42>0,FR42,0) -> 0 | FV42: =IF(FS42>0,FS42,0) -> 0 | FW42: =IF(FT42>0,FT42,0) -> 0 | FX42: 11.25 | FY42: 15 | FZ42: 22.5 | GA42: =IF(FQ42=20,$FL$2*FU42,IF(FQ42=40,$FL$3*FU42,"wrong size")) -> wrong size | GB42: =IF(FQ42=20,$FM$2*FV42,IF(FQ42=40,$FM$3*FV42,"wrong size")) -> wrong size | GC42: =IF(FQ42=20,$FN$2*FW42,IF(FQ42=40,$FN$3*FW42,"wrong size")) -> wrong size | GD42: =SUM(GA42:GC42) -> 0 | GE42: =IF(FQ42=40,GD42*2,IF(FQ42=20,GD42)) -> FALSE | GL42: =K48 -> 0 | GM42: =R48 -> 0 | GN42: =GL42+GM42 -> 0 | GO42: =GN42 -> 0 | GP42: =D48 -> 0 | GQ42: =GP42-GO42+1 -> 1 | GR42: =H48 -> 0 | GS42: =IF(GQ42<7,GQ42,7) -> 1 | GT42: =IF(GQ42>14,7,GQ42-7) -> -6 | GU42: =IF(GQ42>21,7,GQ42-14) -> -13 | GV42: =GQ42-21 -> -20 | GW42: =IF(GS42>0,GS42,0) -> 1 | GX42: =IF(GT42>0,GT42,0) -> 0 | GY42: =IF(GU42>0,GU42,0) -> 0 | GZ42: =IF(GV42>0,GV42,0) -> 0 | HA42: 75 | HB42: 106 | HC42: 144 | HD42: 144 | HE42: =GW42*HA42 -> 75 | HF42: =GX42*HB42 -> 0 | HG42: =GY42*HC42 -> 0 | HH42: =GZ42*HD42 -> 0 | HI42: =SUM(HE42:HH42) -> 75 | HJ42: =IF(GR42=40,HI42*2,IF(GR42=20,HI42)) -> FALSE | HS42: |* | HU42: | | HV42: =IF(HY42="D",0,1) -> 1 | HW42: | | HY42: =T(D42:D42) | IA42: | | IB42: =(+F47-D47-1)*3 -> -3 | IC42: | | ID42: =IF(E47<TIME(7,0,0),4,IF(AND(E47>=TIME(7,0,0),+E47<TIME(15,0,0)),3,IF(AND(E47>=TIME(15,0,0),+E47<TIME(23,0,0)),2,1))) -> 4 | IE42: | | IF42: =IF(G47<=TIME(7,0,0),0,IF(AND(G47>TIME(7,0,0),+G47<=TIME(15,0,0)),1,IF(AND(G47>TIME(15,0,0),+G47<=TIME(23,0,0)),2,3))) -> 0 | IG42: | | IP42: | | IQ42: =DATE(97,2,28) -> 35489 | IR42: |
... A115: 1 | J115: =IF(HV110=0,0,+IB110+ID110+IF110) -> 1 | L115: =IF(H115<>40,$HF$2*J115,(($HG$2*1)*J115))*1 -> 18.35 | M115: =GD109 -> 0 | N115: =HJ109 -> FALSE | O115: =B115 -> 0 | FK115: =D121 -> 0 | FL115: 0 | FM115: =FK115+FL115 -> 0 | FN115: =FM115 -> 0 | FO115: =F121 -> 0 | FP115: =FO115-FN115 -> 0 | FQ115: =H121 -> 0 | FR115: =IF(FP115<7,FP115,10) -> 0 | FS115: =IF(FP115>15,5,FP115-10) -> -10 | FT115: =FP115-15 -> -15 | FU115: =IF(FR115>0,FR115,0) -> 0 | FV115: =IF(FS115>0,FS115,0) -> 0 | FW115: =IF(FT115>0,FT115,0) -> 0 | FX115: 11.25 | FY115: 15 | FZ115: 22.5 | GA115: =IF(FQ115=20,$FL$2*FU115,IF(FQ115=40,$FL$3*FU115,"wrong size")) -> wrong size | GB115: =IF(FQ115=20,$FM$2*FV115,IF(FQ115=40,$FM$3*FV115,"wrong size")) -> wrong size | GC115: =IF(FQ115=20,$FN$2*FW115,IF(FQ115=40,$FN$3*FW115,"wrong size")) -> wrong size | GD115: =SUM(GA115:GC115) -> 0 | GE115: =IF(FQ115=40,GD115*2,IF(FQ115=20,GD115)) -> FALSE | GL115: =K121 -> 0 | GM115: =R121 -> 0 | GN115: =GL115+GM115 -> 0 | GO115: =GN115 -> 0 | GP115: =D121 -> 0 | GQ115: =GP115-GO115+1 -> 1 | GR115: =H121 -> 0 | GS115: =IF(GQ115<7,GQ115,7) -> 1 | GT115: =IF(GQ115>14,7,GQ115-7) -> -6 | GU115: =IF(GQ115>21,7,GQ115-14) -> -13 | GV115: =GQ115-21 -> -20 | GW115: =IF(GS115>0,GS115,0) -> 1 | GX115: =IF(GT115>0,GT115,0) -> 0 | GY115: =IF(GU115>0,GU115,0) -> 0 | GZ115: =IF(GV115>0,GV115,0) -> 0 | HA115: 75 | HB115: 106 | HC115: 144 | HD115: 144 | HE115: =GW115*HA115 -> 75 | HF115: =GX115*HB115 -> 0 | HG115: =GY115*HC115 -> 0 | HH115: =GZ115*HD115 -> 0 | HI115: =SUM(HE115:HH115) -> 75 | HJ115: =IF(GR115=40,HI115*2,IF(GR115=20,HI115)) -> FALSE | HS115: |* | HU115: | | HV115: =IF(HY115="D",0,1) -> 1 | HW115: | | HY115: =T(D115:D115) | IA115: | | IB115: =(+F120-D120-1)*3 -> -3 | IC115: | | ID115: =IF(E120<TIME(7,0,0),4,IF(AND(E120>=TIME(7,0,0),+E120<TIME(15,0,0)),3,IF(AND(E120>=TIME(15,0,0),+E120<TIME(23,0,0)),2,1))) -> 4 | IE115: | | IF115: =IF(G120<=TIME(7,0,0),0,IF(AND(G120>TIME(7,0,0),+G120<=TIME(15,0,0)),1,IF(AND(G120>TIME(15,0,0),+G120<=TIME(23,0,0)),2,3))) -> 0 | IG115: | | IP115: | | IQ115: =DATE(97,2,28) -> 35489 | IR115: |

Sheet Sheet1
B4: MWCU5260407 | D4: 41825 | E4: 0.46458333 | F4: 41825 | G4: 0.73402778 | H4: 40 | J4: 41818 | L4: 868101848 | M4: ISLANDS MARINE ENTERPRISES | N4: 3
B5: MWMU6388310 | D5: 41824 | E5: 0.73680556 | F5: 41825 | G5: 0.65972222 | H5: 40 | J5: 41820 | L5: 951708186 | M5: LANYUE SHANDONG FISHERY CO LTD | N5: 3
B6: MWMU6355209 | D6: 41825 | E6: 0.39027778 | F6: 41825 | G6: 0.60069444 | H6: 40 | J6: 41820 | L6: 951713357 | M6: SAPMER PREMIUM SEAPRODUCTS | N6: 10
B7: MWMU6381070 | D7: 41824 | E7: 0.73125 | F7: 41825 | G7: 0.66388889 | H7: 40 | J7: 41818 | L7: 951779764 | M7: SAPMER PREMIUM SEAPRODUCTS | N7: 10
B8: MSFU8621830 | D8: 41825 | E8: 0.47083333 | F8: 41825 | G8: 0.60902778 | H8: 40 | J8: 41820 | L8: 951713388 | M8: KT LEE GLOBAL LTD | N8: 3
B9: MSFU8623196 | D9: 41825 | E9: 0.47569444 | F9: 41825 | G9: 0.60069444 | H9: 40 | J9: 41821 | L9: 951713388 | M9: KT LEE GLOBAL LTD | N9: 3
B10: MSFU8623513 | D10: 41825 | E10: 0.47916667 | F10: 41825 | G10: 0.59166667 | H10: 40 | J10: 41820 | L10: 951713388 | M10: KT LEE GLOBAL LTD | N10: 3
B11: MSFU8624660 | D11: 41825 | E11: 0.47222222 | F11: 41825 | G11: 0.66597222 | H11: 40 | J11: 41820 | L11: 951713388 | M11: KT LEE GLOBAL LTD | N11: 3
C18: 566983923 | D18: 60 | E18: 19.3 | G18: 120
C19: 566983923 | D19: 30 | E19: 19.3 | G19: 120
C20: 566983923 | D20: 60 | E20: 19.3 | G20: 120
C21: 566983923 | D21: 30 | E21: 19.3 | G21: 120
C22: 566983923 | D22: 60 | E22: 19.3 | G22: 90
C23: 566983923 | D23: 60 | E23: 19.3 | G23: 120
C24: 566983923 | D24: 30 | E24: 19.3 | G24: 120
C25: 566983923 | D25: 60 | E25: 19.3 | G25: 120
C26: 566983923 | D26: 60 | E26: 19.3 | G26: 120
C27: 566983923 | D27: 30 | E27: 19.3 | G27: 120
C28: 566983923 | D28: 30 | E28: 19.3 | G28: 90
C29: 566983923 | D29: 60 | E29: 19.3 | G29: 120
... C37: 566983923 | D37: 60 | E37: 19.3 | G37: 120
C38: 566983923 | D38: 60 | E38: 19.3 | G38: =SUM(G18:G37) -> 2310
C39: 566983923 | D39: 60 | E39: 19.3
D40: =SUM(D18:D39) -> 1080 | E40: =SUM(E18:E39) -> 424.6
A43: NO | B43: REEFER NO. | C43: Seal Nos | D43: Plug-in | F43: Plug-out | H43: Sz | I43: Set | J43: Number of units of electricity | K43: Gate out - EXP | L43: Reefer charges | M43: Storage charge | N43: Detention Charge | O43: Container number | P43: Bill of Lading | Q43: Customer Name | R43: Agreed freetime
A44: 1 | B44: MSFU8567913 | D44: 42546 | E44: 0.48125 | F44: 42549 | G44: 0.48472222 | H44: 40 | J44: =IF(HV39=0,0,+IB39+ID39+IF39) -> 0 | K44: 42543 | L44: 300 | M44: 77.2 | N44: =HJ38 -> 0 | O44: =B44 -> MSFU8567913 | P44: 569972825 | Q44: CHANG FONG MARINE&SHIPPING CO LTD | R44: 10
A45: 2 | B45: MSFU8622517 | D45: 42546 | E45: 0.47986111 | F45: 42549 | G45: 0.48472222 | H45: 40 | J45: =IF(HV40=0,0,+IB40+ID40+IF40) -> 0 | K45: 42543 | L45: 300 | M45: 77.2 | N45: =HJ39 -> 0 | O45: =B45 -> MSFU8622517 | P45: 569972825 | Q45: CHANG FONG MARINE&SHIPPING CO LTD | R45: 10
A46: 3 | B46: MSFU8626066 | D46: 42546 | E46: 0.48055556 | F46: 42549 | G46: 0.21180556 | H46: 40 | J46: =IF(HV41=0,0,+IB41+ID41+IF41) -> 0 | K46: 42543 | L46: 270 | M46: 77.2 | N46: =HJ40 -> 0 | O46: =B46 -> MSFU8626066 | P46: 569972825 | Q46: CHANG FONG MARINE&SHIPPING CO LTD | R46: 10

Sheet Sheet2
B14: MWMU6380990 | C14: 42450 | D14: 0.63819444 | E14: 42451 | F14: 0.8125 | G14: 40 | H14: 42443 | I14: 120 | J14: MWMU6380990 | K14: 955967457 | L14: F C F FISHERY CO LTD
B15: MWMU6386832 | C15: 42450 | D15: 0.58194444 | E15: 42451 | F15: 0.64166667 | G15: 40 | H15: 42444 | I15: 150 | J15: MWMU6386832 | K15: 955968210 | L15: F C F FISHERY CO LTD
M20: 43953 | N20: 0.37569444 | O20: 43957 | P20: 0.59097222
B22: MWMU6380990 | C22: Plug-in | D22: Charges | N22: 7-15 | O22: 15-23 | P22: 23-7
B23: 42450 | C23: 15:19:00 - 23:00:00 | D23: 30 USD | M23: 2 | N23: 1 | O23: 1 | P23: 1
B24: 21/03/2016 - 22/03/2016 | C24: 23:00:00 - 07:00:00 | D24: 30 USD | M24: 3 | N24: 1 | O24: 1 | P24: 1
B25: 42451 | C25: 07:00:00 - 15:00:00 | D25: 30 USD | M25: 4 | N25: 1 | O25: 1 | P25: 1
B26: 42451 | C26: 15:00:00 - 19:30:00 | D26: 30 USD | M26: 5 | N26: 1 | O26: 1 | P26: 1
C27: Total | D27: 120 USD | M27: 6 | N27: 1
B30: MWMU6386832 | C30: Plug-in | D30: Charges
B31: 42450 | C31: 13:58:00 - 15:00:00 | D31: 30 USD
B32: 42450 | C32: 15:00:00 - 23:00:00 | D32: 30 USD
B33: 21/03/2016 - 22/03/2016 | C33: 23:00:00 - 07:00:00 | D33: 30 USD
B34: 42451 | C34: 07:00:00 - 15:00:00 | D34: 30 USD
B35: 42451 | C35: 15:00:00 - 15:24:00 | D35: 30 USD
C36: Total | D36: 150 USD
