Workbook

Sheet  Calculator
D2: Reefer Charges Calculator
B5: Container | D5: Plug In | F5: Plug Out | H5: Reefer charges (USD) | I5: Storage charges (USD)
A6: Shipment Number | B6: Number | C6: Size | D6: Date | E6: Time | F6: Date | G6: Time
A7: 123456789 | B7: abcd | C7: 40 | D7: 44305 | E7: 0.40347222 | F7: 44306 | G7: 0.47847222 | H7: ='EXPORT (2)'!M15 -> 146.8 | I7: ='EXPORT (2)'!N15 -> 47.74
A8: xxxxxxxxx | B8: abcd | C8: 20 | D8: 44081 | E8: 0.65555556 | F8: 44085 | G8: 0.45833333 | H8: ='EXPORT (2)'!M16 -> 220.2 | I8: ='EXPORT (2)'!N16 -> 59.4
C9: 40 | H9: ='EXPORT (2)'!M17 -> 36.7 | I9: ='EXPORT (2)'!N17 -> 23.87
H10: ='EXPORT (2)'!M18 -> 18.35 | I10: ='EXPORT (2)'!N18 -> 23.87
H11: ='EXPORT (2)'!M19 -> 18.35 | I11: ='EXPORT (2)'!N19 -> 23.87
H12: ='EXPORT (2)'!M20 -> 18.35 | I12: ='EXPORT (2)'!N20 -> 23.87
H13: ='EXPORT (2)'!M21 -> 18.35 | I13: ='EXPORT (2)'!N21 -> 23.87
H14: ='EXPORT (2)'!M22 -> 18.35 | I14: ='EXPORT (2)'!N22 -> 23.87
H15: ='EXPORT (2)'!M23 -> 18.35 | I15: ='EXPORT (2)'!N23 -> 23.87
H16: ='EXPORT (2)'!M24 -> 18.35 | I16: ='EXPORT (2)'!N24 -> 23.87
H17: ='EXPORT (2)'!M25 -> 18.35 | I17: ='EXPORT (2)'!N25 -> 23.87
H18: ='EXPORT (2)'!M26 -> 18.35 | I18: ='EXPORT (2)'!N26 -> 23.87
H19: ='EXPORT (2)'!M27 -> 18.35 | I19: ='EXPORT (2)'!N27 -> 23.87
H20: ='EXPORT (2)'!M28 -> 18.35 | I20: ='EXPORT (2)'!N28 -> 23.87
H21: ='EXPORT (2)'!M29 -> 18.35 | I21: ='EXPORT (2)'!N29 -> 23.87
A23: Important notes:
A25: As per CHCL tariff applicable on:
A26: Reefer power & monitoring per 8hr or part thereof (incl. thermal coupling/uncoupling & reading):
A27: Per 20 Ft.: USD 18.35
A28: Per 40 Ft.: USD 36.70
A30: Chargeable amount listed above are billed based on the no. of periods used:
A31: 1st period: 07:00 to 15:00
A32: 2nd period: 15:00 to 23:00
A33: 3rd period: 23:00 to 07:00
A35: Import applicability: From Discharge Full to Gate out terminal (Maersk does not bill storage on import, charge is billed directly to customer by CHC)
A36: Export applicability: From Gate-in Full to Load status

Sheet EXPORT (2)
GZ1: 20ft | HA1: 40ft
C2: SUMMARY EXPORT (MSK) | FE2: STORAGE rate (reefer) per 20ft | FF2: 11.88 | FG2: 15.77 | FH2: 23.87 | GF2: Dem/det rate (dry) per 20ft | GG2: 22 | GH2: 32 | GI2: 47 | GJ2: 55 | GY2: ELECTRICITY | GZ2: 18.35 | HA2: 36.7 | HM2: |* | HO2: * | HP2: * | HQ2: * | HR2: * | HS2: * | HT2: * | HU2: * | HV2: * | HW2: * | HX2: * | HY2: * | HZ2: * | IA2: * | IB2: * | IC2: * | ID2: * | IE2: * | IF2: * | IG2: *
M3: 7-15 | FF3: 23.87 | FG3: 31.75 | FH3: 47.52 | GF3: Dem/det rate (reef) per 20ft | GG3: 100 | GH3: 125 | GI3: 150 | HM3: |* | HO3: * | HR3: *FOR CALCULATION PURPOSES* | IG3: *
B4: SHIP NAME/VOYAGE NO | D4: : | M4: 15-23 | HM4: |* | HO4: * | HP4: - | HQ4: * | HR4: - | HS4: - | HT4: - | HU4: * | HV4: - | HW4: * | HX4: - | HY4: * | HZ4: - | IA4: * | IB4: - | IC4: * | ID4: - | IE4: * | IF4: - | IG4: *
B5: DATE | D5: : | M5: 23-7 | FE5: plug in date | FF5: freetime | FG5: freetime ends | FH5: detention from | FI5: plug out date | FJ5: Number of detention days | FK5: Equipment size | FL5: calculation formula | FO5: days breakdown | FR5: det tariff per teu | FU5: amt det accrued per scale tariff per teu | GF5: Gate out exp date | GG5: freetime | GH5: freetime ends | GI5: detention from | GJ5: gate in exp date | GK5: Number of detention days | GL5: Equipment size | GM5: calculation formula | GQ5: days breakdown | GU5: det tariff per teu | GY5: amt det accrued per scale tariff per teu | HM5: |* | HO5: | | HP5: Val | HQ5: | | HR5: D | HS5: e | HT5: l | HU5: | | HV5: Period 1 | HW5: | | HX5: Period 2 | HY5: | | HZ5: Period 3 | IA5: | | IC5: | | ID5: CL I/F | IE5: | | IF5: DATE CL | IG5: |
B6: COMMODITY | D6: : | FE6: =D12 -> 43248 | FF6: 0 | FG6: =FE6+FF6 -> 43248 | FH6: =FG6 -> 43248 | FI6: =F12 -> 43250 | FJ6: =FI6-FH6 -> 2 | FK6: =H12 -> 40 | FL6: =IF(FJ6<7,FJ6,10) -> 2 | FM6: =IF(FJ6>15,5,FJ6-10) -> -8 | FN6: =FJ6-15 -> -13 | FO6: =IF(FL6>0,FL6,0) -> 2 | FP6: =IF(FM6>0,FM6,0) -> 0 | FQ6: =IF(FN6>0,FN6,0) -> 0 | FR6: 11.25 | FS6: 15 | FT6: 22.5 | FU6: =IF(FK6=20,$FF$2*FO6,IF(FK6=40,$FF$3*FO6,"wrong size")) -> 47.74 | FV6: =IF(FK6=20,$FG$2*FP6,IF(FK6=40,$FG$3*FP6,"wrong size")) -> 0 | FW6: =IF(FK6=20,$FH$2*FQ6,IF(FK6=40,$FH$3*FQ6,"wrong size")) -> 0 | FX6: =SUM(FU6:FW6) -> 47.74 | FY6: =IF(FK6=40,FX6*2,IF(FK6=20,FX6)) -> 95.48 | GF6: =L12 -> 43243 | GG6: =S12 -> 0 | GH6: =GF6+GG6 -> 43243 | GI6: =GH6 -> 43243 | GJ6: =D12 -> 43248 | GK6: =GJ6-GI6+1 -> 6 | GL6: =H12 -> 40 | GM6: =IF(GK6<7,GK6,7) -> 6 | GN6: =IF(GK6>14,7,GK6-7) -> -1 | GO6: =IF(GK6>21,7,GK6-14) -> -8 | GP6: =GK6-21 -> -15 | GQ6: =IF(GM6>0,GM6,0) -> 6 | GR6: =IF(GN6>0,GN6,0) -> 0 | GS6: =IF(GO6>0,GO6,0) -> 0 | GT6: =IF(GP6>0,GP6,0) -> 0 | GU6: 75 | GV6: 106 | GW6: 144 | GX6: 144 | GY6: =GQ6*GU6 -> 450 | GZ6: =GR6*GV6 -> 0 | HA6: =GS6*GW6 -> 0 | HB6: =GT6*GX6 -> 0 | HC6: =SUM(GY6:HB6) -> 450 | HD6: =IF(GL6=40,HC6*2,IF(GL6=20,HC6)) -> 900 | HM6: |* | HO6: * | HP6: - | HQ6: * | HR6: - | HS6: - | HT6: - | HU6: * | HV6: - | HW6: * | HX6: - | HY6: * | HZ6: - | IA6: * | IB6: - | IC6: * | ID6: - | IE6: * | IF6: - | IG6: *
B7: QTY OF REEFERS SURVEYED | D7: : | FE7: =D13 -> 43733 | FF7: 0 | FG7: =FE7+FF7 -> 43733 | FH7: =FG7 -> 43733 | FI7: =F13 -> 43739 | FJ7: =FI7-FH7 -> 6 | FK7: =H13 -> 20 | FL7: =IF(FJ7<7,FJ7,10) -> 6 | FM7: =IF(FJ7>15,5,FJ7-10) -> -4 | FN7: =FJ7-15 -> -9 | FO7: =IF(FL7>0,FL7,0) -> 6 | FP7: =IF(FM7>0,FM7,0) -> 0 | FQ7: =IF(FN7>0,FN7,0) -> 0 | FR7: 11.25 | FS7: 15 | FT7: 22.5 | FU7: =IF(FK7=20,$FF$2*FO7,IF(FK7=40,$FF$3*FO7,"wrong size")) -> 71.28 | FV7: =IF(FK7=20,$FG$2*FP7,IF(FK7=40,$FG$3*FP7,"wrong size")) -> 0 | FW7: =IF(FK7=20,$FH$2*FQ7,IF(FK7=40,$FH$3*FQ7,"wrong size")) -> 0 | FX7: =SUM(FU7:FW7) -> 71.28 | FY7: =IF(FK7=40,FX7*2,IF(FK7=20,FX7)) -> 71.28 | GF7: =L13 -> 43733 | GG7: =S13 -> 0 | GH7: =GF7+GG7 -> 43733 | GI7: =GH7 -> 43733 | GJ7: =D13 -> 43733 | GK7: =GJ7-GI7+1 -> 1 | GL7: =H13 -> 20 | GM7: =IF(GK7<7,GK7,7) -> 1 | GN7: =IF(GK7>14,7,GK7-7) -> -6 | GO7: =IF(GK7>21,7,GK7-14) -> -13 | GP7: =GK7-21 -> -20 | GQ7: =IF(GM7>0,GM7,0) -> 1 | GR7: =IF(GN7>0,GN7,0) -> 0 | GS7: =IF(GO7>0,GO7,0) -> 0 | GT7: =IF(GP7>0,GP7,0) -> 0 | GU7: 75 | GV7: 106 | GW7: 144 | GX7: 144 | GY7: =GQ7*GU7 -> 75 | GZ7: =GR7*GV7 -> 0 | HA7: =GS7*GW7 -> 0 | HB7: =GT7*GX7 -> 0 | HC7: =SUM(GY7:HB7) -> 75 | HD7: =IF(GL7=40,HC7*2,IF(GL7=20,HC7)) -> 75 | HM7: |* | HO7: | | HP7: =IF(HS7="D",0,1) -> 1 | HQ7: | | HS7: =T(E7:E7) | HU7: | | HV7: =(+F12-D12-1)*3 -> 3 | HW7: | | HX7: =IF(E12<TIME(7,0,0),4,IF(AND(E12>=TIME(7,0,0),+E12<TIME(15,0,0)),3,IF(AND(E12>=TIME(15,0,0),+E12<TIME(23,0,0)),2,1))) -> 3 | HY7: | | HZ7: =IF(G12<=TIME(7,0,0),0,IF(AND(G12>TIME(7,0,0),+G12<=TIME(15,0,0)),1,IF(AND(G12>TIME(15,0,0),+G12<=TIME(23,0,0)),2,3))) -> 2 | IA7: | | IJ7: | | IK7: =DATE(97,2,28) -> 35489 | IL7: |
B8: ROE | D8: : | FE8: =D14 -> 43732 | FF8: 0 | FG8: =FE8+FF8 -> 43732 | FH8: =FG8 -> 43732 | FI8: =F14 -> 43739 | FJ8: =FI8-FH8 -> 7 | FK8: =H14 -> 40 | FL8: =IF(FJ8<7,FJ8,10) -> 10 | FM8: =IF(FJ8>15,5,FJ8-10) -> -3 | FN8: =FJ8-15 -> -8 | FO8: =IF(FL8>0,FL8,0) -> 10 | FP8: =IF(FM8>0,FM8,0) -> 0 | FQ8: =IF(FN8>0,FN8,0) -> 0 | FR8: 11.25 | FS8: 15 | FT8: 22.5 | FU8: =IF(FK8=20,$FF$2*FO8,IF(FK8=40,$FF$3*FO8,"wrong size")) -> 238.7 | FV8: =IF(FK8=20,$FG$2*FP8,IF(FK8=40,$FG$3*FP8,"wrong size")) -> 0 | FW8: =IF(FK8=20,$FH$2*FQ8,IF(FK8=40,$FH$3*FQ8,"wrong size")) -> 0 | FX8: =SUM(FU8:FW8) -> 238.7 | FY8: =IF(FK8=40,FX8*2,IF(FK8=20,FX8)) -> 477.4 | GF8: =L14 -> 43726 | GG8: =S14 -> 0 | GH8: =GF8+GG8 -> 43726 | GI8: =GH8 -> 43726 | GJ8: =D14 -> 43732 | GK8: =GJ8-GI8+1 -> 7 | GL8: =H14 -> 40 | GM8: =IF(GK8<7,GK8,7) -> 7 | GN8: =IF(GK8>14,7,GK8-7) -> 0 | GO8: =IF(GK8>21,7,GK8-14) -> -7 | GP8: =GK8-21 -> -14 | GQ8: =IF(GM8>0,GM8,0) -> 7 | GR8: =IF(GN8>0,GN8,0) -> 0 | GS8: =IF(GO8>0,GO8,0) -> 0 | GT8: =IF(GP8>0,GP8,0) -> 0 | GU8: 75 | GV8: 106 | GW8: 144 | GX8: 144 | GY8: =GQ8*GU8 -> 525 | GZ8: =GR8*GV8 -> 0 | HA8: =GS8*GW8 -> 0 | HB8: =GT8*GX8 -> 0 | HC8: =SUM(GY8:HB8) -> 525 | HD8: =IF(GL8=40,HC8*2,IF(GL8=20,HC8)) -> 1050 | HM8: |* | HO8: | | HP8: =IF(HS8="D",0,1) -> 1 | HQ8: | | HS8: =T(E8:E8) | HU8: | | HV8: =(+F13-D13-1)*3 -> 15 | HW8: | | HX8: =IF(E13<TIME(7,0,0),4,IF(AND(E13>=TIME(7,0,0),+E13<TIME(15,0,0)),3,IF(AND(E13>=TIME(15,0,0),+E13<TIME(23,0,0)),2,1))) -> 2 | HY8: | | HZ8: =IF(G13<=TIME(7,0,0),0,IF(AND(G13>TIME(7,0,0),+G13<=TIME(15,0,0)),1,IF(AND(G13>TIME(15,0,0),+G13<=TIME(23,0,0)),2,3))) -> 2 | IA8: | | IJ8: | | IK8: =DATE(97,2,28) -> 35489 | IL8: |
D9: GATE-IN EXP F (Shift +F4) | F9: LOAD (Shift +F4) | FE9: =D15 -> 44305 | FF9: 0 | FG9: =FE9+FF9 -> 44305 | FH9: =FG9 -> 44305 | FI9: =F15 -> 44306 | FJ9: =FI9-FH9 -> 1 | FK9: =H15 -> 40 | FL9: =IF(FJ9<7,FJ9,10) -> 1 | FM9: =IF(FJ9>15,5,FJ9-10) -> -9 | FN9: =FJ9-15 -> -14 | FO9: =IF(FL9>0,FL9,0) -> 1 | FP9: =IF(FM9>0,FM9,0) -> 0 | FQ9: =IF(FN9>0,FN9,0) -> 0 | FR9: 11.25 | FS9: 15 | FT9: 22.5 | FU9: =IF(FK9=20,$FF$2*FO9,IF(FK9=40,$FF$3*FO9,"wrong size")) -> 23.87 | FV9: =IF(FK9=20,$FG$2*FP9,IF(FK9=40,$FG$3*FP9,"wrong size")) -> 0 | FW9: =IF(FK9=20,$FH$2*FQ9,IF(FK9=40,$FH$3*FQ9,"wrong size")) -> 0 | FX9: =SUM(FU9:FW9) -> 23.87 | FY9: =IF(FK9=40,FX9*2,IF(FK9=20,FX9)) -> 47.74 | GF9: =L15 -> 44079 | GG9: =S15 -> 0 | GH9: =GF9+GG9 -> 44079 | GI9: =GH9 -> 44079 | GJ9: =D15 -> 44305 | GK9: =GJ9-GI9+1 -> 227 | GL9: =H15 -> 40 | GM9: =IF(GK9<7,GK9,7) -> 7 | GN9: =IF(GK9>14,7,GK9-7) -> 7 | GO9: =IF(GK9>21,7,GK9-14) -> 7 | GP9: =GK9-21 -> 206 | GQ9: =IF(GM9>0,GM9,0) -> 7 | GR9: =IF(GN9>0,GN9,0) -> 7 | GS9: =IF(GO9>0,GO9,0) -> 7 | GT9: =IF(GP9>0,GP9,0) -> 206 | GU9: 75 | GV9: 106 | GW9: 144 | GX9: 144 | GY9: =GQ9*GU9 -> 525 | GZ9: =GR9*GV9 -> 742 | HA9: =GS9*GW9 -> 1008 | HB9: =GT9*GX9 -> 29664 | HC9: =SUM(GY9:HB9) -> 31939 | HD9: =IF(GL9=40,HC9*2,IF(GL9=20,HC9)) -> 63878 | HM9: |* | HO9: | | HP9: =IF(HS9="D",0,1) -> 1 | HQ9: | | HS9: =T(E9:E9) | HU9: | | HV9: =(+F14-D14-1)*3 -> 18 | HW9: | | HX9: =IF(E14<TIME(7,0,0),4,IF(AND(E14>=TIME(7,0,0),+E14<TIME(15,0,0)),3,IF(AND(E14>=TIME(15,0,0),+E14<TIME(23,0,0)),2,1))) -> 3 | HY9: | | HZ9: =IF(G14<=TIME(7,0,0),0,IF(AND(G14>TIME(7,0,0),+G14<=TIME(15,0,0)),1,IF(AND(G14>TIME(15,0,0),+G14<=TIME(23,0,0)),2,3))) -> 2 | IA9: | | IJ9: | | IK9: =DATE(97,2,28) -> 35489 | IL9: |
A10: NO | B10: REEFER NO. | C10: Seal Nos | D10: Plug-in | F10: Plug-out | H10: Sz | I10: Set | J10: Number of units of electricity | K10: No of storage days | L10: Gate out - EXP | M10: Reefer charges | N10: Storage charge | O10: Detention Charge | P10: Container number | Q10: Bill of Lading | R10: Customer Name | S10: Agreed freetime | FE10: =D16 -> 44081 | FF10: 0 | FG10: =FE10+FF10 -> 44081 | FH10: =FG10 -> 44081 | FI10: =F16 -> 44085 | FJ10: =FI10-FH10 -> 4 | FK10: =H16 -> 20 | FL10: =IF(FJ10<7,FJ10,10) -> 4 | FM10: =IF(FJ10>15,5,FJ10-10) -> -6 | FN10: =FJ10-15 -> -11 | FO10: =IF(FL10>0,FL10,0) -> 4 | FP10: =IF(FM10>0,FM10,0) -> 0 | FQ10: =IF(FN10>0,FN10,0) -> 0 | FR10: 11.25 | FS10: 15 | FT10: 22.5 | FU10: =IF(FK10=20,$FF$2*FO10,IF(FK10=40,$FF$3*FO10,"wrong size")) -> 47.52 | FV10: =IF(FK10=20,$FG$2*FP10,IF(FK10=40,$FG$3*FP10,"wrong size")) -> 0 | FW10: =IF(FK10=20,$FH$2*FQ10,IF(FK10=40,$FH$3*FQ10,"wrong size")) -> 0 | FX10: =SUM(FU10:FW10) -> 47.52 | FY10: =IF(FK10=40,FX10*2,IF(FK10=20,FX10)) -> 47.52 | GF10: =L16 -> 44078 | GG10: =S16 -> 0 | GH10: =GF10+GG10 -> 44078 | GI10: =GH10 -> 44078 | GJ10: =D16 -> 44081 | GK10: =GJ10-GI10+1 -> 4 | GL10: =H16 -> 20 | GM10: =IF(GK10<7,GK10,7) -> 4 | GN10: =IF(GK10>14,7,GK10-7) -> -3 | GO10: =IF(GK10>21,7,GK10-14) -> -10 | GP10: =GK10-21 -> -17 | GQ10: =IF(GM10>0,GM10,0) -> 4 | GR10: =IF(GN10>0,GN10,0) -> 0 | GS10: =IF(GO10>0,GO10,0) -> 0 | GT10: =IF(GP10>0,GP10,0) -> 0 | GU10: 75 | GV10: 106 | GW10: 144 | GX10: 144 | GY10: =GQ10*GU10 -> 300 | GZ10: =GR10*GV10 -> 0 | HA10: =GS10*GW10 -> 0 | HB10: =GT10*GX10 -> 0 | HC10: =SUM(GY10:HB10) -> 300 | HD10: =IF(GL10=40,HC10*2,IF(GL10=20,HC10)) -> 300 | HM10: |* | HO10: | | HP10: =IF(HS10="D",0,1) -> 1 | HQ10: | | HS10: =T(D10:D10) -> Plug-in | HU10: | | HV10: =(+F15-D15-1)*3 -> 0 | HW10: | | HX10: =IF(E15<TIME(7,0,0),4,IF(AND(E15>=TIME(7,0,0),+E15<TIME(15,0,0)),3,IF(AND(E15>=TIME(15,0,0),+E15<TIME(23,0,0)),2,1))) -> 3 | HY10: | | HZ10: =IF(G15<=TIME(7,0,0),0,IF(AND(G15>TIME(7,0,0),+G15<=TIME(15,0,0)),1,IF(AND(G15>TIME(15,0,0),+G15<=TIME(23,0,0)),2,3))) -> 1 | IA10: | | IJ10: | | IK10: =DATE(97,2,28) -> 35489 | IL10: |
D11: Date | E11: Time | F11: Date | G11: Time | I11: C | L11: Date | M11: USD | N11: USD | O11: USD | U11: 20 | V11: 40 | FE11: =D17 -> 0 | FF11: 0 | FG11: =FE11+FF11 -> 0 | FH11: =FG11 -> 0 | FI11: =F17 -> 0 | FJ11: =FI11-FH11 -> 0 | FK11: =H17 -> 40 | FL11: =IF(FJ11<7,FJ11,10) -> 0 | FM11: =IF(FJ11>15,5,FJ11-10) -> -10 | FN11: =FJ11-15 -> -15 | FO11: =IF(FL11>0,FL11,0) -> 0 | FP11: =IF(FM11>0,FM11,0) -> 0 | FQ11: =IF(FN11>0,FN11,0) -> 0 | FR11: 11.25 | FS11: 15 | FT11: 22.5 | FU11: =IF(FK11=20,$FF$2*FO11,IF(FK11=40,$FF$3*FO11,"wrong size")) -> 0 | FV11: =IF(FK11=20,$FG$2*FP11,IF(FK11=40,$FG$3*FP11,"wrong size")) -> 0 | FW11: =IF(FK11=20,$FH$2*FQ11,IF(FK11=40,$FH$3*FQ11,"wrong size")) -> 0 | FX11: =SUM(FU11:FW11) -> 0 | FY11: =IF(FK11=40,FX11*2,IF(FK11=20,FX11)) -> 0 | GF11: =L17 -> 44082 | GG11: =S17 -> 0 | GH11: =GF11+GG11 -> 44082 | GI11: =GH11 -> 44082 | GJ11: =D17 -> 0 | GK11: =GJ11-GI11+1 -> -44081 | GL11: =H17 -> 40 | GM11: =IF(GK11<7,GK11,7) -> -44081 | GN11: =IF(GK11>14,7,GK11-7) -> -44088 | GO11: =IF(GK11>21,7,GK11-14) -> -44095 | GP11: =GK11-21 -> -44102 | GQ11: =IF(GM11>0,GM11,0) -> 0 | GR11: =IF(GN11>0,GN11,0) -> 0 | GS11: =IF(GO11>0,GO11,0) -> 0 | GT11: =IF(GP11>0,GP11,0) -> 0 | GU11: 75 | GV11: 106 | GW11: 144 | GX11: 144 | GY11: =GQ11*GU11 -> 0 | GZ11: =GR11*GV11 -> 0 | HA11: =GS11*GW11 -> 0 | HB11: =GT11*GX11 -> 0 | HC11: =SUM(GY11:HB11) -> 0 | HD11: =IF(GL11=40,HC11*2,IF(GL11=20,HC11)) -> 0 | HM11: |* | HO11: | | HP11: =IF(HS11="D",0,1) -> 1 | HQ11: | | HS11: =T(D11:D11) -> Date | HU11: | | HV11: =(+F16-D16-1)*3 -> 9 | HW11: | | HX11: =IF(E16<TIME(7,0,0),4,IF(AND(E16>=TIME(7,0,0),+E16<TIME(15,0,0)),3,IF(AND(E16>=TIME(15,0,0),+E16<TIME(23,0,0)),2,1))) -> 2 | HY11: | | HZ11: =IF(G16<=TIME(7,0,0),0,IF(AND(G16>TIME(7,0,0),+G16<=TIME(15,0,0)),1,IF(AND(G16>TIME(15,0,0),+G16<=TIME(23,0,0)),2,3))) -> 1 | IA11: | | IJ11: | | IK11: =DATE(97,2,28) -> 35489 | IL11: |
B12: MWMU6429831 | D12: 43248 | E12: 0.57708333 | F12: 43250 | G12: 0.875 | H12: 40 | J12: =IF(HP7=0,0,+HV7+HX7+HZ7) -> 8 | L12: 43243 | M12: =IF(H12<>40,(15*1)*J12,((15*1)*J12)*2)*1 -> 240 | N12: =FX6 -> 47.74 | O12: =HD6 -> 900 | P12: =B12 -> MWMU6429831 | Q12: 965064887 | R12: SAPMER PREMIUM SEAPRODUCTS | FE12: =D18 -> 0 | FF12: 0 | FG12: =FE12+FF12 -> 0 | FH12: =FG12 -> 0 | FI12: =F18 -> 0 | FJ12: =FI12-FH12 -> 0 | FK12: =H18 -> 0 | FL12: =IF(FJ12<7,FJ12,10) -> 0 | FM12: =IF(FJ12>15,5,FJ12-10) -> -10 | FN12: =FJ12-15 -> -15 | FO12: =IF(FL12>0,FL12,0) -> 0 | FP12: =IF(FM12>0,FM12,0) -> 0 | FQ12: =IF(FN12>0,FN12,0) -> 0 | FR12: 11.25 | FS12: 15 | FT12: 22.5 | FU12: =IF(FK12=20,$FF$2*FO12,IF(FK12=40,$FF$3*FO12,"wrong size")) -> wrong size | FV12: =IF(FK12=20,$FG$2*FP12,IF(FK12=40,$FG$3*FP12,"wrong size")) -> wrong size | FW12: =IF(FK12=20,$FH$2*FQ12,IF(FK12=40,$FH$3*FQ12,"wrong size")) -> wrong size | FX12: =SUM(FU12:FW12) -> 0 | FY12: =IF(FK12=40,FX12*2,IF(FK12=20,FX12)) -> FALSE | GF12: =L18 -> 44079 | GG12: =S18 -> 0 | GH12: =GF12+GG12 -> 44079 | GI12: =GH12 -> 44079 | GJ12: =D18 -> 0 | GK12: =GJ12-GI12+1 -> -44078 | GL12: =H18 -> 0 | GM12: =IF(GK12<7,GK12,7) -> -44078 | GN12: =IF(GK12>14,7,GK12-7) -> -44085 | GO12: =IF(GK12>21,7,GK12-14) -> -44092 | GP12: =GK12-21 -> -44099 | GQ12: =IF(GM12>0,GM12,0) -> 0 | GR12: =IF(GN12>0,GN12,0) -> 0 | GS12: =IF(GO12>0,GO12,0) -> 0 | GT12: =IF(GP12>0,GP12,0) -> 0 | GU12: 75 | GV12: 106 | GW12: 144 | GX12: 144 | GY12: =GQ12*GU12 -> 0 | GZ12: =GR12*GV12 -> 0 | HA12: =GS12*GW12 -> 0 | HB12: =GT12*GX12 -> 0 | HC12: =SUM(GY12:HB12) -> 0 | HD12: =IF(GL12=40,HC12*2,IF(GL12=20,HC12)) -> FALSE | HM12: |* | HO12: | | HP12: =IF(HS12="D",0,1) -> 1 | HQ12: | | HS12: =T(D12:D12) | HU12: | | HV12: =(+F17-D17-1)*3 -> -3 | HW12: | | HX12: =IF(E17<TIME(7,0,0),4,IF(AND(E17>=TIME(7,0,0),+E17<TIME(15,0,0)),3,IF(AND(E17>=TIME(15,0,0),+E17<TIME(23,0,0)),2,1))) -> 4 | HY12: | | HZ12: =IF(G17<=TIME(7,0,0),0,IF(AND(G17>TIME(7,0,0),+G17<=TIME(15,0,0)),1,IF(AND(G17>TIME(15,0,0),+G17<=TIME(23,0,0)),2,3))) -> 0 | IA12: | | IJ12: | | IK12: =DATE(97,2,28) -> 35489 | IL12: |
B13: MWCU5725090 | D13: 43733 | E13: 0.66180556 | F13: 43739 | G13: 0.80763889 | H13: 20 | J13: =IF(HP8=0,0,+HV8+HX8+HZ8) -> 19 | L13: 43733 | M13: =IF(H13<>40,$GZ$2*J13,(($HA$2*1)*J13))*1 -> 348.65 | N13: =FX7 -> 71.28 | O13: =HD7 -> 75 | P13: =B13 -> MWCU5725090 | Q13: 969599035 | R13: LUTTICK AUSTRALIA PTY LTD | FE13: =D19 -> 0 | FF13: 0 | FG13: =FE13+FF13 -> 0 | FH13: =FG13 -> 0 | FI13: =F19 -> 0 | FJ13: =FI13-FH13 -> 0 | FK13: =H19 -> 0 | FL13: =IF(FJ13<7,FJ13,10) -> 0 | FM13: =IF(FJ13>15,5,FJ13-10) -> -10 | FN13: =FJ13-15 -> -15 | FO13: =IF(FL13>0,FL13,0) -> 0 | FP13: =IF(FM13>0,FM13,0) -> 0 | FQ13: =IF(FN13>0,FN13,0) -> 0 | FR13: 11.25 | FS13: 15 | FT13: 22.5 | FU13: =IF(FK13=20,$FF$2*FO13,IF(FK13=40,$FF$3*FO13,"wrong size")) -> wrong size | FV13: =IF(FK13=20,$FG$2*FP13,IF(FK13=40,$FG$3*FP13,"wrong size")) -> wrong size | FW13: =IF(FK13=20,$FH$2*FQ13,IF(FK13=40,$FH$3*FQ13,"wrong size")) -> wrong size | FX13: =SUM(FU13:FW13) -> 0 | FY13: =IF(FK13=40,FX13*2,IF(FK13=20,FX13)) -> FALSE | GF13: =L19 -> 0 | GG13: =S19 -> 0 | GH13: =GF13+GG13 -> 0 | GI13: =GH13 -> 0 | GJ13: =D19 -> 0 | GK13: =GJ13-GI13+1 -> 1 | GL13: =H19 -> 0 | GM13: =IF(GK13<7,GK13,7) -> 1 | GN13: =IF(GK13>14,7,GK13-7) -> -6 | GO13: =IF(GK13>21,7,GK13-14) -> -13 | GP13: =GK13-21 -> -20 | GQ13: =IF(GM13>0,GM13,0) -> 1 | GR13: =IF(GN13>0,GN13,0) -> 0 | GS13: =IF(GO13>0,GO13,0) -> 0 | GT13: =IF(GP13>0,GP13,0) -> 0 | GU13: 75 | GV13: 106 | GW13: 144 | GX13: 144 | GY13: =GQ13*GU13 -> 75 | GZ13: =GR13*GV13 -> 0 | HA13: =GS13*GW13 -> 0 | HB13: =GT13*GX13 -> 0 | HC13: =SUM(GY13:HB13) -> 75 | HD13: =IF(GL13=40,HC13*2,IF(GL13=20,HC13)) -> FALSE | HM13: |* | HO13: | | HP13: =IF(HS13="D",0,1) -> 1 | HQ13: | | HS13: =T(D13:D13) | HU13: | | HV13: =(+F18-D18-1)*3 -> -3 | HW13: | | HX13: =IF(E18<TIME(7,0,0),4,IF(AND(E18>=TIME(7,0,0),+E18<TIME(15,0,0)),3,IF(AND(E18>=TIME(15,0,0),+E18<TIME(23,0,0)),2,1))) -> 4 | HY13: | | HZ13: =IF(G18<=TIME(7,0,0),0,IF(AND(G18>TIME(7,0,0),+G18<=TIME(15,0,0)),1,IF(AND(G18>TIME(15,0,0),+G18<=TIME(23,0,0)),2,3))) -> 0 | IA13: | | IJ13: | | IK13: =DATE(97,2,28) -> 35489 | IL13: |
B14: MNBU4044973 | D14: 43732 | E14: 0.41388889 | F14: 43739 | G14: 0.83125 | H14: 40 | J14: =IF(HP9=0,0,+HV9+HX9+HZ9) -> 23 | L14: 43726 | M14: =IF(H14<>40,$GZ$2*J14,(($HA$2*1)*J14))*1 -> 844.1 | N14: =FX8 -> 238.7 | O14: =HD8 -> 1050 | P14: =B14 -> MNBU4044973 | Q14: 969611639 | R14: LUTTICK AUSTRALIA PTY LTD | FE14: =D20 -> 0 | FF14: 0 | FG14: =FE14+FF14 -> 0 | FH14: =FG14 -> 0 | FI14: =F20 -> 0 | FJ14: =FI14-FH14 -> 0 | FK14: =H20 -> 0 | FL14: =IF(FJ14<7,FJ14,10) -> 0 | FM14: =IF(FJ14>15,5,FJ14-10) -> -10 | FN14: =FJ14-15 -> -15 | FO14: =IF(FL14>0,FL14,0) -> 0 | FP14: =IF(FM14>0,FM14,0) -> 0 | FQ14: =IF(FN14>0,FN14,0) -> 0 | FR14: 11.25 | FS14: 15 | FT14: 22.5 | FU14: =IF(FK14=20,$FF$2*FO14,IF(FK14=40,$FF$3*FO14,"wrong size")) -> wrong size | FV14: =IF(FK14=20,$FG$2*FP14,IF(FK14=40,$FG$3*FP14,"wrong size")) -> wrong size | FW14: =IF(FK14=20,$FH$2*FQ14,IF(FK14=40,$FH$3*FQ14,"wrong size")) -> wrong size | FX14: =SUM(FU14:FW14) -> 0 | FY14: =IF(FK14=40,FX14*2,IF(FK14=20,FX14)) -> FALSE | GF14: =L20 -> 0 | GG14: =S20 -> 0 | GH14: =GF14+GG14 -> 0 | GI14: =GH14 -> 0 | GJ14: =D20 -> 0 | GK14: =GJ14-GI14+1 -> 1 | GL14: =H20 -> 0 | GM14: =IF(GK14<7,GK14,7) -> 1 | GN14: =IF(GK14>14,7,GK14-7) -> -6 | GO14: =IF(GK14>21,7,GK14-14) -> -13 | GP14: =GK14-21 -> -20 | GQ14: =IF(GM14>0,GM14,0) -> 1 | GR14: =IF(GN14>0,GN14,0) -> 0 | GS14: =IF(GO14>0,GO14,0) -> 0 | GT14: =IF(GP14>0,GP14,0) -> 0 | GU14: 75 | GV14: 106 | GW14: 144 | GX14: 144 | GY14: =GQ14*GU14 -> 75 | GZ14: =GR14*GV14 -> 0 | HA14: =GS14*GW14 -> 0 | HB14: =GT14*GX14 -> 0 | HC14: =SUM(GY14:HB14) -> 75 | HD14: =IF(GL14=40,HC14*2,IF(GL14=20,HC14)) -> FALSE | HM14: |* | HO14: | | HP14: =IF(HS14="D",0,1) -> 1 | HQ14: | | HS14: =T(D14:D14) | HU14: | | HV14: =(+F19-D19-1)*3 -> -3 | HW14: | | HX14: =IF(E19<TIME(7,0,0),4,IF(AND(E19>=TIME(7,0,0),+E19<TIME(15,0,0)),3,IF(AND(E19>=TIME(15,0,0),+E19<TIME(23,0,0)),2,1))) -> 4 | HY14: | | HZ14: =IF(G19<=TIME(7,0,0),0,IF(AND(G19>TIME(7,0,0),+G19<=TIME(15,0,0)),1,IF(AND(G19>TIME(15,0,0),+G19<=TIME(23,0,0)),2,3))) -> 0 | IA14: | | IJ14: | | IK14: =DATE(97,2,28) -> 35489 | IL14: |
B15: =' Calculator'!B7 -> abcd | D15: =' Calculator'!D7 -> 44305 | E15: =' Calculator'!E7 -> 0.40347222 | F15: =' Calculator'!F7 -> 44306 | G15: =' Calculator'!G7 -> 0.47847222 | H15: =' Calculator'!C7 -> 40 | J15: =IF(HP10=0,0,+HV10+HX10+HZ10) -> 4 | K15: =(F15-D15)+1 -> 2 | L15: 44079 | M15: =IF(H15<>40,$GZ$2*J15,(($HA$2*1)*J15))*1 -> 146.8 | N15: =IF(H15=20,U15,V15) -> 47.74 | O15: =HD9 -> 63878 | P15: =B15 -> abcd | Q15: 911177349 | R15: SAPMER PREMIUM SEAPRODUCTS | U15: =IF(K15<10,K15*11.88,IF(K15<16,(10*11.88)+(K15-10)*15.77,((10*11.88)+(5*15.77)+(K15-15)*23.87))) -> 23.76 | V15: =IF(K15<10,K15*23.87,IF(K15<16,(10*23.87)+(K15-10)*31.75,((10*23.87)+(5*31.75)+(K15-15)*47.52))) -> 47.74 | FE15: =D21 -> 0 | FF15: 0 | FG15: =FE15+FF15 -> 0 | FH15: =FG15 -> 0 | FI15: =F21 -> 0 | FJ15: =FI15-FH15 -> 0 | FK15: =H21 -> 0 | FL15: =IF(FJ15<7,FJ15,10) -> 0 | FM15: =IF(FJ15>15,5,FJ15-10) -> -10 | FN15: =FJ15-15 -> -15 | FO15: =IF(FL15>0,FL15,0) -> 0 | FP15: =IF(FM15>0,FM15,0) -> 0 | FQ15: =IF(FN15>0,FN15,0) -> 0 | FR15: 11.25 | FS15: 15 | FT15: 22.5 | FU15: =IF(FK15=20,$FF$2*FO15,IF(FK15=40,$FF$3*FO15,"wrong size")) -> wrong size | FV15: =IF(FK15=20,$FG$2*FP15,IF(FK15=40,$FG$3*FP15,"wrong size")) -> wrong size | FW15: =IF(FK15=20,$FH$2*FQ15,IF(FK15=40,$FH$3*FQ15,"wrong size")) -> wrong size | FX15: =SUM(FU15:FW15) -> 0 | FY15: =IF(FK15=40,FX15*2,IF(FK15=20,FX15)) -> FALSE | GF15: =L21 -> 0 | GG15: =S21 -> 0 | GH15: =GF15+GG15 -> 0 | GI15: =GH15 -> 0 | GJ15: =D21 -> 0 | GK15: =GJ15-GI15+1 -> 1 | GL15: =H21 -> 0 | GM15: =IF(GK15<7,GK15,7) -> 1 | GN15: =IF(GK15>14,7,GK15-7) -> -6 | GO15: =IF(GK15>21,7,GK15-14) -> -13 | GP15: =GK15-21 -> -20 | GQ15: =IF(GM15>0,GM15,0) -> 1 | GR15: =IF(GN15>0,GN15,0) -> 0 | GS15: =IF(GO15>0,GO15,0) -> 0 | GT15: =IF(GP15>0,GP15,0) -> 0 | GU15: 75 | GV15: 106 | GW15: 144 | GX15: 144 | GY15: =GQ15*GU15 -> 75 | GZ15: =GR15*GV15 -> 0 | HA15: =GS15*GW15 -> 0 | HB15: =GT15*GX15 -> 0 | HC15: =SUM(GY15:HB15) -> 75 | HD15: =IF(GL15=40,HC15*2,IF(GL15=20,HC15)) -> FALSE | HM15: |* | HO15: | | HP15: =IF(HS15="D",0,1) -> 1 | HQ15: | | HS15: =T(D15:D15) | HU15: | | HV15: =(+F20-D20-1)*3 -> -3 | HW15: | | HX15: =IF(E20<TIME(7,0,0),4,IF(AND(E20>=TIME(7,0,0),+E20<TIME(15,0,0)),3,IF(AND(E20>=TIME(15,0,0),+E20<TIME(23,0,0)),2,1))) -> 4 | HY15: | | HZ15: =IF(G20<=TIME(7,0,0),0,IF(AND(G20>TIME(7,0,0),+G20<=TIME(15,0,0)),1,IF(AND(G20>TIME(15,0,0),+G20<=TIME(23,0,0)),2,3))) -> 0 | IA15: | | IJ15: | | IK15: =DATE(97,2,28) -> 35489 | IL15: |
B16: =' Calculator'!B8 -> abcd | D16: =' Calculator'!D8 -> 44081 | E16: =' Calculator'!E8 -> 0.65555556 | F16: =' Calculator'!F8 -> 44085 | G16: =' Calculator'!G8 -> 0.45833333 | H16: =' Calculator'!C8 -> 20 | J16: =IF(HP11=0,0,+HV11+HX11+HZ11) -> 12 | K16: =(F16-D16)+1 -> 5 | L16: 44078 | M16: =IF(H16<>40,$GZ$2*J16,(($HA$2*1)*J16))*1 -> 220.2 | N16: =IF(H16=20,U16,V16) -> 59.4 | O16: =HD10 -> 300 | P16: =B16 -> abcd | Q16: 911181803 | R16: TRANSFROID LTD | U16: =IF(K16<10,K16*11.88,IF(K16<16,(10*11.88)+(K16-10)*15.77,((10*11.88)+(5*15.77)+(K16-15)*23.87))) -> 59.4 | V16: =IF(K16<10,K16*23.87,IF(K16<16,(10*23.87)+(K16-10)*31.75,((10*23.87)+(5*31.75)+(K16-15)*47.52))) -> 119.35 | FE16: =D22 -> 0 | FF16: 0 | FG16: =FE16+FF16 -> 0 | FH16: =FG16 -> 0 | FI16: =F22 -> 0 | FJ16: =FI16-FH16 -> 0 | FK16: =H22 -> 0 | FL16: =IF(FJ16<7,FJ16,10) -> 0 | FM16: =IF(FJ16>15,5,FJ16-10) -> -10 | FN16: =FJ16-15 -> -15 | FO16: =IF(FL16>0,FL16,0) -> 0 | FP16: =IF(FM16>0,FM16,0) -> 0 | FQ16: =IF(FN16>0,FN16,0) -> 0 | FR16: 11.25 | FS16: 15 | FT16: 22.5 | FU16: =IF(FK16=20,$FF$2*FO16,IF(FK16=40,$FF$3*FO16,"wrong size")) -> wrong size | FV16: =IF(FK16=20,$FG$2*FP16,IF(FK16=40,$FG$3*FP16,"wrong size")) -> wrong size | FW16: =IF(FK16=20,$FH$2*FQ16,IF(FK16=40,$FH$3*FQ16,"wrong size")) -> wrong size | FX16: =SUM(FU16:FW16) -> 0 | FY16: =IF(FK16=40,FX16*2,IF(FK16=20,FX16)) -> FALSE | GF16: =L22 -> 0 | GG16: =S22 -> 0 | GH16: =GF16+GG16 -> 0 | GI16: =GH16 -> 0 | GJ16: =D22 -> 0 | GK16: =GJ16-GI16+1 -> 1 | GL16: =H22 -> 0 | GM16: =IF(GK16<7,GK16,7) -> 1 | GN16: =IF(GK16>14,7,GK16-7) -> -6 | GO16: =IF(GK16>21,7,GK16-14) -> -13 | GP16: =GK16-21 -> -20 | GQ16: =IF(GM16>0,GM16,0) -> 1 | GR16: =IF(GN16>0,GN16,0) -> 0 | GS16: =IF(GO16>0,GO16,0) -> 0 | GT16: =IF(GP16>0,GP16,0) -> 0 | GU16: 75 | GV16: 106 | GW16: 144 | GX16: 144 | GY16: =GQ16*GU16 -> 75 | GZ16: =GR16*GV16 -> 0 | HA16: =GS16*GW16 -> 0 | HB16: =GT16*GX16 -> 0 | HC16: =SUM(GY16:HB16) -> 75 | HD16: =IF(GL16=40,HC16*2,IF(GL16=20,HC16)) -> FALSE | HM16: |* | HO16: | | HP16: =IF(HS16="D",0,1) -> 1 | HQ16: | | HS16: =T(D16:D16) | HU16: | | HV16: =(+F21-D21-1)*3 -> -3 | HW16: | | HX16: =IF(E21<TIME(7,0,0),4,IF(AND(E21>=TIME(7,0,0),+E21<TIME(15,0,0)),3,IF(AND(E21>=TIME(15,0,0),+E21<TIME(23,0,0)),2,1))) -> 4 | HY16: | | HZ16: =IF(G21<=TIME(7,0,0),0,IF(AND(G21>TIME(7,0,0),+G21<=TIME(15,0,0)),1,IF(AND(G21>TIME(15,0,0),+G21<=TIME(23,0,0)),2,3))) -> 0 | IA16: | | IJ16: | | IK16: =DATE(97,2,28) -> 35489 | IL16: |
B17: =' Calculator'!B9 -> 0 | D17: =' Calculator'!D9 -> 0 | E17: =' Calculator'!E9 -> 0 | F17: =' Calculator'!F9 -> 0 | G17: =' Calculator'!G9 -> 0 | H17: =' Calculator'!C9 -> 40 | J17: =IF(HP12=0,0,+HV12+HX12+HZ12) -> 1 | K17: =(F17-D17)+1 -> 1 | L17: 44082 | M17: =IF(H17<>40,$GZ$2*J17,(($HA$2*1)*J17))*1 -> 36.7 | N17: =IF(H17=20,U17,V17) -> 23.87 | O17: =HD11 -> 0 | P17: =B17 -> 0 | Q17: 911194817 | R17: SAPMER PREMIUM SEAPRODUCTS | U17: =IF(K17<10,K17*11.88,IF(K17<16,(10*11.88)+(K17-10)*15.77,((10*11.88)+(5*15.77)+(K17-15)*23.87))) -> 11.88 | V17: =IF(K17<10,K17*23.87,IF(K17<16,(10*23.87)+(K17-10)*31.75,((10*23.87)+(5*31.75)+(K17-15)*47.52))) -> 23.87 | FE17: =D23 -> 0 | FF17: 0 | FG17: =FE17+FF17 -> 0 | FH17: =FG17 -> 0 | FI17: =F23 -> 0 | FJ17: =FI17-FH17 -> 0 | FK17: =H23 -> 0 | FL17: =IF(FJ17<7,FJ17,10) -> 0 | FM17: =IF(FJ17>15,5,FJ17-10) -> -10 | FN17: =FJ17-15 -> -15 | FO17: =IF(FL17>0,FL17,0) -> 0 | FP17: =IF(FM17>0,FM17,0) -> 0 | FQ17: =IF(FN17>0,FN17,0) -> 0 | FR17: 11.25 | FS17: 15 | FT17: 22.5 | FU17: =IF(FK17=20,$FF$2*FO17,IF(FK17=40,$FF$3*FO17,"wrong size")) -> wrong size | FV17: =IF(FK17=20,$FG$2*FP17,IF(FK17=40,$FG$3*FP17,"wrong size")) -> wrong size | FW17: =IF(FK17=20,$FH$2*FQ17,IF(FK17=40,$FH$3*FQ17,"wrong size")) -> wrong size | FX17: =SUM(FU17:FW17) -> 0 | FY17: =IF(FK17=40,FX17*2,IF(FK17=20,FX17)) -> FALSE | GF17: =L23 -> 0 | GG17: =S23 -> 0 | GH17: =GF17+GG17 -> 0 | GI17: =GH17 -> 0 | GJ17: =D23 -> 0 | GK17: =GJ17-GI17+1 -> 1 | GL17: =H23 -> 0 | GM17: =IF(GK17<7,GK17,7) -> 1 | GN17: =IF(GK17>14,7,GK17-7) -> -6 | GO17: =IF(GK17>21,7,GK17-14) -> -13 | GP17: =GK17-21 -> -20 | GQ17: =IF(GM17>0,GM17,0) -> 1 | GR17: =IF(GN17>0,GN17,0) -> 0 | GS17: =IF(GO17>0,GO17,0) -> 0 | GT17: =IF(GP17>0,GP17,0) -> 0 | GU17: 75 | GV17: 106 | GW17: 144 | GX17: 144 | GY17: =GQ17*GU17 -> 75 | GZ17: =GR17*GV17 -> 0 | HA17: =GS17*GW17 -> 0 | HB17: =GT17*GX17 -> 0 | HC17: =SUM(GY17:HB17) -> 75 | HD17: =IF(GL17=40,HC17*2,IF(GL17=20,HC17)) -> FALSE | HM17: |* | HO17: | | HP17: =IF(HS17="D",0,1) -> 1 | HQ17: | | HS17: =T(D17:D17) | HU17: | | HV17: =(+F22-D22-1)*3 -> -3 | HW17: | | HX17: =IF(E22<TIME(7,0,0),4,IF(AND(E22>=TIME(7,0,0),+E22<TIME(15,0,0)),3,IF(AND(E22>=TIME(15,0,0),+E22<TIME(23,0,0)),2,1))) -> 4 | HY17: | | HZ17: =IF(G22<=TIME(7,0,0),0,IF(AND(G22>TIME(7,0,0),+G22<=TIME(15,0,0)),1,IF(AND(G22>TIME(15,0,0),+G22<=TIME(23,0,0)),2,3))) -> 0 | IA17: | | IJ17: | | IK17: =DATE(97,2,28) -> 35489 | IL17: |
B18: =' Calculator'!B10 -> 0 | D18: =' Calculator'!D10 -> 0 | E18: =' Calculator'!E10 -> 0 | F18: =' Calculator'!F10 -> 0 | G18: =' Calculator'!G10 -> 0 | H18: =' Calculator'!C10 -> 0 | J18: =IF(HP13=0,0,+HV13+HX13+HZ13) -> 1 | K18: =(F18-D18)+1 -> 1 | L18: 44079 | M18: =IF(H18<>40,$GZ$2*J18,(($HA$2*1)*J18))*1 -> 18.35 | N18: =IF(H18=20,U18,V18) -> 23.87 | O18: =HD12 -> FALSE | P18: =B18 -> 0 | U18: =IF(K18<10,K18*11.88,IF(K18<16,(10*11.88)+(K18-10)*15.77,((10*11.88)+(5*15.77)+(K18-15)*23.87))) -> 11.88 | V18: =IF(K18<10,K18*23.87,IF(K18<16,(10*23.87)+(K18-10)*31.75,((10*23.87)+(5*31.75)+(K18-15)*47.52))) -> 23.87 | FE18: =D24 -> 0 | FF18: 0 | FG18: =FE18+FF18 -> 0 | FH18: =FG18 -> 0 | FI18: =F24 -> 0 | FJ18: =FI18-FH18 -> 0 | FK18: =H24 -> 0 | FL18: =IF(FJ18<7,FJ18,10) -> 0 | FM18: =IF(FJ18>15,5,FJ18-10) -> -10 | FN18: =FJ18-15 -> -15 | FO18: =IF(FL18>0,FL18,0) -> 0 | FP18: =IF(FM18>0,FM18,0) -> 0 | FQ18: =IF(FN18>0,FN18,0) -> 0 | FR18: 11.25 | FS18: 15 | FT18: 22.5 | FU18: =IF(FK18=20,$FF$2*FO18,IF(FK18=40,$FF$3*FO18,"wrong size")) -> wrong size | FV18: =IF(FK18=20,$FG$2*FP18,IF(FK18=40,$FG$3*FP18,"wrong size")) -> wrong size | FW18: =IF(FK18=20,$FH$2*FQ18,IF(FK18=40,$FH$3*FQ18,"wrong size")) -> wrong size | FX18: =SUM(FU18:FW18) -> 0 | FY18: =IF(FK18=40,FX18*2,IF(FK18=20,FX18)) -> FALSE | GF18: =L24 -> 0 | GG18: =S24 -> 0 | GH18: =GF18+GG18 -> 0 | GI18: =GH18 -> 0 | GJ18: =D24 -> 0 | GK18: =GJ18-GI18+1 -> 1 | GL18: =H24 -> 0 | GM18: =IF(GK18<7,GK18,7) -> 1 | GN18: =IF(GK18>14,7,GK18-7) -> -6 | GO18: =IF(GK18>21,7,GK18-14) -> -13 | GP18: =GK18-21 -> -20 | GQ18: =IF(GM18>0,GM18,0) -> 1 | GR18: =IF(GN18>0,GN18,0) -> 0 | GS18: =IF(GO18>0,GO18,0) -> 0 | GT18: =IF(GP18>0,GP18,0) -> 0 | GU18: 75 | GV18: 106 | GW18: 144 | GX18: 144 | GY18: =GQ18*GU18 -> 75 | GZ18: =GR18*GV18 -> 0 | HA18: =GS18*GW18 -> 0 | HB18: =GT18*GX18 -> 0 | HC18: =SUM(GY18:HB18) -> 75 | HD18: =IF(GL18=40,HC18*2,IF(GL18=20,HC18)) -> FALSE | HM18: |* | HO18: | | HP18: =IF(HS18="D",0,1) -> 1 | HQ18: | | HS18: =T(D18:D18) | HU18: | | HV18: =(+F23-D23-1)*3 -> -3 | HW18: | | HX18: =IF(E23<TIME(7,0,0),4,IF(AND(E23>=TIME(7,0,0),+E23<TIME(15,0,0)),3,IF(AND(E23>=TIME(15,0,0),+E23<TIME(23,0,0)),2,1))) -> 4 | HY18: | | HZ18: =IF(G23<=TIME(7,0,0),0,IF(AND(G23>TIME(7,0,0),+G23<=TIME(15,0,0)),1,IF(AND(G23>TIME(15,0,0),+G23<=TIME(23,0,0)),2,3))) -> 0 | IA18: | | IJ18: | | IK18: =DATE(97,2,28) -> 35489 | IL18: |
B19: =' Calculator'!B11 -> 0 | D19: =' Calculator'!D11 -> 0 | E19: =' Calculator'!E11 -> 0 | F19: =' Calculator'!F11 -> 0 | G19: =' Calculator'!G11 -> 0 | H19: =' Calculator'!C11 -> 0 | J19: =IF(HP14=0,0,+HV14+HX14+HZ14) -> 1 | K19: =(F19-D19)+1 -> 1 | M19: =IF(H19<>40,$GZ$2*J19,(($HA$2*1)*J19))*1 -> 18.35 | N19: =IF(H19=20,U19,V19) -> 23.87 | O19: =HD13 -> FALSE | P19: =B19 -> 0 | U19: =IF(K19<10,K19*11.88,IF(K19<16,(10*11.88)+(K19-10)*15.77,((10*11.88)+(5*15.77)+(K19-15)*23.87))) -> 11.88 | V19: =IF(K19<10,K19*23.87,IF(K19<16,(10*23.87)+(K19-10)*31.75,((10*23.87)+(5*31.75)+(K19-15)*47.52))) -> 23.87 | FE19: =D25 -> 0 | FF19: 0 | FG19: =FE19+FF19 -> 0 | FH19: =FG19 -> 0 | FI19: =F25 -> 0 | FJ19: =FI19-FH19 -> 0 | FK19: =H25 -> 0 | FL19: =IF(FJ19<7,FJ19,10) -> 0 | FM19: =IF(FJ19>15,5,FJ19-10) -> -10 | FN19: =FJ19-15 -> -15 | FO19: =IF(FL19>0,FL19,0) -> 0 | FP19: =IF(FM19>0,FM19,0) -> 0 | FQ19: =IF(FN19>0,FN19,0) -> 0 | FR19: 11.25 | FS19: 15 | FT19: 22.5 | FU19: =IF(FK19=20,$FF$2*FO19,IF(FK19=40,$FF$3*FO19,"wrong size")) -> wrong size | FV19: =IF(FK19=20,$FG$2*FP19,IF(FK19=40,$FG$3*FP19,"wrong size")) -> wrong size | FW19: =IF(FK19=20,$FH$2*FQ19,IF(FK19=40,$FH$3*FQ19,"wrong size")) -> wrong size | FX19: =SUM(FU19:FW19) -> 0 | FY19: =IF(FK19=40,FX19*2,IF(FK19=20,FX19)) -> FALSE | GF19: =L25 -> 0 | GG19: =S25 -> 0 | GH19: =GF19+GG19 -> 0 | GI19: =GH19 -> 0 | GJ19: =D25 -> 0 | GK19: =GJ19-GI19+1 -> 1 | GL19: =H25 -> 0 | GM19: =IF(GK19<7,GK19,7) -> 1 | GN19: =IF(GK19>14,7,GK19-7) -> -6 | GO19: =IF(GK19>21,7,GK19-14) -> -13 | GP19: =GK19-21 -> -20 | GQ19: =IF(GM19>0,GM19,0) -> 1 | GR19: =IF(GN19>0,GN19,0) -> 0 | GS19: =IF(GO19>0,GO19,0) -> 0 | GT19: =IF(GP19>0,GP19,0) -> 0 | GU19: 75 | GV19: 106 | GW19: 144 | GX19: 144 | GY19: =GQ19*GU19 -> 75 | GZ19: =GR19*GV19 -> 0 | HA19: =GS19*GW19 -> 0 | HB19: =GT19*GX19 -> 0 | HC19: =SUM(GY19:HB19) -> 75 | HD19: =IF(GL19=40,HC19*2,IF(GL19=20,HC19)) -> FALSE | HM19: |* | HO19: | | HP19: =IF(HS19="D",0,1) -> 1 | HQ19: | | HS19: =T(D19:D19) | HU19: | | HV19: =(+F24-D24-1)*3 -> -3 | HW19: | | HX19: =IF(E24<TIME(7,0,0),4,IF(AND(E24>=TIME(7,0,0),+E24<TIME(15,0,0)),3,IF(AND(E24>=TIME(15,0,0),+E24<TIME(23,0,0)),2,1))) -> 4 | HY19: | | HZ19: =IF(G24<=TIME(7,0,0),0,IF(AND(G24>TIME(7,0,0),+G24<=TIME(15,0,0)),1,IF(AND(G24>TIME(15,0,0),+G24<=TIME(23,0,0)),2,3))) -> 0 | IA19: | | IJ19: | | IK19: =DATE(97,2,28) -> 35489 | IL19: |
B20: =' Calculator'!B12 -> 0 | D20: =' Calculator'!D12 -> 0 | E20: =' Calculator'!E12 -> 0 | F20: =' Calculator'!F12 -> 0 | G20: =' Calculator'!G12 -> 0 | H20: =' Calculator'!C12 -> 0 | J20: =IF(HP15=0,0,+HV15+HX15+HZ15) -> 1 | K20: =(F20-D20)+1 -> 1 | M20: =IF(H20<>40,$GZ$2*J20,(($HA$2*1)*J20))*1 -> 18.35 | N20: =IF(H20=20,U20,V20) -> 23.87 | O20: =HD14 -> FALSE | P20: =B20 -> 0 | U20: =IF(K20<10,K20*11.88,IF(K20<16,(10*11.88)+(K20-10)*15.77,((10*11.88)+(5*15.77)+(K20-15)*23.87))) -> 11.88 | V20: =IF(K20<10,K20*23.87,IF(K20<16,(10*23.87)+(K20-10)*31.75,((10*23.87)+(5*31.75)+(K20-15)*47.52))) -> 23.87 | FE20: =D26 -> 0 | FF20: 0 | FG20: =FE20+FF20 -> 0 | FH20: =FG20 -> 0 | FI20: =F26 -> 0 | FJ20: =FI20-FH20 -> 0 | FK20: =H26 -> 0 | FL20: =IF(FJ20<7,FJ20,10) -> 0 | FM20: =IF(FJ20>15,5,FJ20-10) -> -10 | FN20: =FJ20-15 -> -15 | FO20: =IF(FL20>0,FL20,0) -> 0 | FP20: =IF(FM20>0,FM20,0) -> 0 | FQ20: =IF(FN20>0,FN20,0) -> 0 | FR20: 11.25 | FS20: 15 | FT20: 22.5 | FU20: =IF(FK20=20,$FF$2*FO20,IF(FK20=40,$FF$3*FO20,"wrong size")) -> wrong size | FV20: =IF(FK20=20,$FG$2*FP20,IF(FK20=40,$FG$3*FP20,"wrong size")) -> wrong size | FW20: =IF(FK20=20,$FH$2*FQ20,IF(FK20=40,$FH$3*FQ20,"wrong size")) -> wrong size | FX20: =SUM(FU20:FW20) -> 0 | FY20: =IF(FK20=40,FX20*2,IF(FK20=20,FX20)) -> FALSE | GF20: =L26 -> 0 | GG20: =S26 -> 0 | GH20: =GF20+GG20 -> 0 | GI20: =GH20 -> 0 | GJ20: =D26 -> 0 | GK20: =GJ20-GI20+1 -> 1 | GL20: =H26 -> 0 | GM20: =IF(GK20<7,GK20,7) -> 1 | GN20: =IF(GK20>14,7,GK20-7) -> -6 | GO20: =IF(GK20>21,7,GK20-14) -> -13 | GP20: =GK20-21 -> -20 | GQ20: =IF(GM20>0,GM20,0) -> 1 | GR20: =IF(GN20>0,GN20,0) -> 0 | GS20: =IF(GO20>0,GO20,0) -> 0 | GT20: =IF(GP20>0,GP20,0) -> 0 | GU20: 75 | GV20: 106 | GW20: 144 | GX20: 144 | GY20: =GQ20*GU20 -> 75 | GZ20: =GR20*GV20 -> 0 | HA20: =GS20*GW20 -> 0 | HB20: =GT20*GX20 -> 0 | HC20: =SUM(GY20:HB20) -> 75 | HD20: =IF(GL20=40,HC20*2,IF(GL20=20,HC20)) -> FALSE | HM20: |* | HO20: | | HP20: =IF(HS20="D",0,1) -> 1 | HQ20: | | HS20: =T(D20:D20) | HU20: | | HV20: =(+F25-D25-1)*3 -> -3 | HW20: | | HX20: =IF(E25<TIME(7,0,0),4,IF(AND(E25>=TIME(7,0,0),+E25<TIME(15,0,0)),3,IF(AND(E25>=TIME(15,0,0),+E25<TIME(23,0,0)),2,1))) -> 4 | HY20: | | HZ20: =IF(G25<=TIME(7,0,0),0,IF(AND(G25>TIME(7,0,0),+G25<=TIME(15,0,0)),1,IF(AND(G25>TIME(15,0,0),+G25<=TIME(23,0,0)),2,3))) -> 0 | IA20: | | IJ20: | | IK20: =DATE(97,2,28) -> 35489 | IL20: |
B21: =' Calculator'!B13 -> 0 | D21: =' Calculator'!D13 -> 0 | E21: =' Calculator'!E13 -> 0 | F21: =' Calculator'!F13 -> 0 | G21: =' Calculator'!G13 -> 0 | H21: =' Calculator'!C13 -> 0 | J21: =IF(HP16=0,0,+HV16+HX16+HZ16) -> 1 | K21: =(F21-D21)+1 -> 1 | M21: =IF(H21<>40,$GZ$2*J21,(($HA$2*1)*J21))*1 -> 18.35 | N21: =IF(H21=20,U21,V21) -> 23.87 | O21: =HD15 -> FALSE | P21: =B21 -> 0 | U21: =IF(K21<10,K21*11.88,IF(K21<16,(10*11.88)+(K21-10)*15.77,((10*11.88)+(5*15.77)+(K21-15)*23.87))) -> 11.88 | V21: =IF(K21<10,K21*23.87,IF(K21<16,(10*23.87)+(K21-10)*31.75,((10*23.87)+(5*31.75)+(K21-15)*47.52))) -> 23.87 | FE21: =D27 -> 0 | FF21: 0 | FG21: =FE21+FF21 -> 0 | FH21: =FG21 -> 0 | FI21: =F27 -> 0 | FJ21: =FI21-FH21 -> 0 | FK21: =H27 -> 0 | FL21: =IF(FJ21<7,FJ21,10) -> 0 | FM21: =IF(FJ21>15,5,FJ21-10) -> -10 | FN21: =FJ21-15 -> -15 | FO21: =IF(FL21>0,FL21,0) -> 0 | FP21: =IF(FM21>0,FM21,0) -> 0 | FQ21: =IF(FN21>0,FN21,0) -> 0 | FR21: 11.25 | FS21: 15 | FT21: 22.5 | FU21: =IF(FK21=20,$FF$2*FO21,IF(FK21=40,$FF$3*FO21,"wrong size")) -> wrong size | FV21: =IF(FK21=20,$FG$2*FP21,IF(FK21=40,$FG$3*FP21,"wrong size")) -> wrong size | FW21: =IF(FK21=20,$FH$2*FQ21,IF(FK21=40,$FH$3*FQ21,"wrong size")) -> wrong size | FX21: =SUM(FU21:FW21) -> 0 | FY21: =IF(FK21=40,FX21*2,IF(FK21=20,FX21)) -> FALSE | GF21: =L27 -> 0 | GG21: =S27 -> 0 | GH21: =GF21+GG21 -> 0 | GI21: =GH21 -> 0 | GJ21: =D27 -> 0 | GK21: =GJ21-GI21+1 -> 1 | GL21: =H27 -> 0 | GM21: =IF(GK21<7,GK21,7) -> 1 | GN21: =IF(GK21>14,7,GK21-7) -> -6 | GO21: =IF(GK21>21,7,GK21-14) -> -13 | GP21: =GK21-21 -> -20 | GQ21: =IF(GM21>0,GM21,0) -> 1 | GR21: =IF(GN21>0,GN21,0) -> 0 | GS21: =IF(GO21>0,GO21,0) -> 0 | GT21: =IF(GP21>0,GP21,0) -> 0 | GU21: 75 | GV21: 106 | GW21: 144 | GX21: 144 | GY21: =GQ21*GU21 -> 75 | GZ21: =GR21*GV21 -> 0 | HA21: =GS21*GW21 -> 0 | HB21: =GT21*GX21 -> 0 | HC21: =SUM(GY21:HB21) -> 75 | HD21: =IF(GL21=40,HC21*2,IF(GL21=20,HC21)) -> FALSE | HM21: |* | HO21: | | HP21: =IF(HS21="D",0,1) -> 1 | HQ21: | | HS21: =T(D21:D21) | HU21: | | HV21: =(+F26-D26-1)*3 -> -3 | HW21: | | HX21: =IF(E26<TIME(7,0,0),4,IF(AND(E26>=TIME(7,0,0),+E26<TIME(15,0,0)),3,IF(AND(E26>=TIME(15,0,0),+E26<TIME(23,0,0)),2,1))) -> 4 | HY21: | | HZ21: =IF(G26<=TIME(7,0,0),0,IF(AND(G26>TIME(7,0,0),+G26<=TIME(15,0,0)),1,IF(AND(G26>TIME(15,0,0),+G26<=TIME(23,0,0)),2,3))) -> 0 | IA21: | | IJ21: | | IK21: =DATE(97,2,28) -> 35489 | IL21: |
B22: =' Calculator'!B14 -> 0 | D22: =' Calculator'!D14 -> 0 | E22: =' Calculator'!E14 -> 0 | F22: =' Calculator'!F14 -> 0 | G22: =' Calculator'!G14 -> 0 | H22: =' Calculator'!C14 -> 0 | J22: =IF(HP17=0,0,+HV17+HX17+HZ17) -> 1 | K22: =(F22-D22)+1 -> 1 | M22: =IF(H22<>40,$GZ$2*J22,(($HA$2*1)*J22))*1 -> 18.35 | N22: =IF(H22=20,U22,V22) -> 23.87 | O22: =HD16 -> FALSE | P22: =B22 -> 0 | U22: =IF(K22<10,K22*11.88,IF(K22<16,(10*11.88)+(K22-10)*15.77,((10*11.88)+(5*15.77)+(K22-15)*23.87))) -> 11.88 | V22: =IF(K22<10,K22*23.87,IF(K22<16,(10*23.87)+(K22-10)*31.75,((10*23.87)+(5*31.75)+(K22-15)*47.52))) -> 23.87 | FE22: =D28 -> 0 | FF22: 0 | FG22: =FE22+FF22 -> 0 | FH22: =FG22 -> 0 | FI22: =F28 -> 0 | FJ22: =FI22-FH22 -> 0 | FK22: =H28 -> 0 | FL22: =IF(FJ22<7,FJ22,10) -> 0 | FM22: =IF(FJ22>15,5,FJ22-10) -> -10 | FN22: =FJ22-15 -> -15 | FO22: =IF(FL22>0,FL22,0) -> 0 | FP22: =IF(FM22>0,FM22,0) -> 0 | FQ22: =IF(FN22>0,FN22,0) -> 0 | FR22: 11.25 | FS22: 15 | FT22: 22.5 | FU22: =IF(FK22=20,$FF$2*FO22,IF(FK22=40,$FF$3*FO22,"wrong size")) -> wrong size | FV22: =IF(FK22=20,$FG$2*FP22,IF(FK22=40,$FG$3*FP22,"wrong size")) -> wrong size | FW22: =IF(FK22=20,$FH$2*FQ22,IF(FK22=40,$FH$3*FQ22,"wrong size")) -> wrong size | FX22: =SUM(FU22:FW22) -> 0 | FY22: =IF(FK22=40,FX22*2,IF(FK22=20,FX22)) -> FALSE | GF22: =L28 -> 0 | GG22: =S28 -> 0 | GH22: =GF22+GG22 -> 0 | GI22: =GH22 -> 0 | GJ22: =D28 -> 0 | GK22: =GJ22-GI22+1 -> 1 | GL22: =H28 -> 0 | GM22: =IF(GK22<7,GK22,7) -> 1 | GN22: =IF(GK22>14,7,GK22-7) -> -6 | GO22: =IF(GK22>21,7,GK22-14) -> -13 | GP22: =GK22-21 -> -20 | GQ22: =IF(GM22>0,GM22,0) -> 1 | GR22: =IF(GN22>0,GN22,0) -> 0 | GS22: =IF(GO22>0,GO22,0) -> 0 | GT22: =IF(GP22>0,GP22,0) -> 0 | GU22: 75 | GV22: 106 | GW22: 144 | GX22: 144 | GY22: =GQ22*GU22 -> 75 | GZ22: =GR22*GV22 -> 0 | HA22: =GS22*GW22 -> 0 | HB22: =GT22*GX22 -> 0 | HC22: =SUM(GY22:HB22) -> 75 | HD22: =IF(GL22=40,HC22*2,IF(GL22=20,HC22)) -> FALSE | HM22: |* | HO22: | | HP22: =IF(HS22="D",0,1) -> 1 | HQ22: | | HS22: =T(D22:D22) | HU22: | | HV22: =(+F27-D27-1)*3 -> -3 | HW22: | | HX22: =IF(E27<TIME(7,0,0),4,IF(AND(E27>=TIME(7,0,0),+E27<TIME(15,0,0)),3,IF(AND(E27>=TIME(15,0,0),+E27<TIME(23,0,0)),2,1))) -> 4 | HY22: | | HZ22: =IF(G27<=TIME(7,0,0),0,IF(AND(G27>TIME(7,0,0),+G27<=TIME(15,0,0)),1,IF(AND(G27>TIME(15,0,0),+G27<=TIME(23,0,0)),2,3))) -> 0 | IA22: | | IJ22: | | IK22: =DATE(97,2,28) -> 35489 | IL22: |
B23: =' Calculator'!B15 -> 0 | D23: =' Calculator'!D15 -> 0 | E23: =' Calculator'!E15 -> 0 | F23: =' Calculator'!F15 -> 0 | G23: =' Calculator'!G15 -> 0 | H23: =' Calculator'!C15 -> 0 | J23: =IF(HP18=0,0,+HV18+HX18+HZ18) -> 1 | K23: =(F23-D23)+1 -> 1 | M23: =IF(H23<>40,$GZ$2*J23,(($HA$2*1)*J23))*1 -> 18.35 | N23: =IF(H23=20,U23,V23) -> 23.87 | O23: =HD17 -> FALSE | P23: =B23 -> 0 | U23: =IF(K23<10,K23*11.88,IF(K23<16,(10*11.88)+(K23-10)*15.77,((10*11.88)+(5*15.77)+(K23-15)*23.87))) -> 11.88 | V23: =IF(K23<10,K23*23.87,IF(K23<16,(10*23.87)+(K23-10)*31.75,((10*23.87)+(5*31.75)+(K23-15)*47.52))) -> 23.87 | FE23: =D29 -> 0 | FF23: 0 | FG23: =FE23+FF23 -> 0 | FH23: =FG23 -> 0 | FI23: =F29 -> 0 | FJ23: =FI23-FH23 -> 0 | FK23: =H29 -> 0 | FL23: =IF(FJ23<7,FJ23,10) -> 0 | FM23: =IF(FJ23>15,5,FJ23-10) -> -10 | FN23: =FJ23-15 -> -15 | FO23: =IF(FL23>0,FL23,0) -> 0 | FP23: =IF(FM23>0,FM23,0) -> 0 | FQ23: =IF(FN23>0,FN23,0) -> 0 | FR23: 11.25 | FS23: 15 | FT23: 22.5 | FU23: =IF(FK23=20,$FF$2*FO23,IF(FK23=40,$FF$3*FO23,"wrong size")) -> wrong size | FV23: =IF(FK23=20,$FG$2*FP23,IF(FK23=40,$FG$3*FP23,"wrong size")) -> wrong size | FW23: =IF(FK23=20,$FH$2*FQ23,IF(FK23=40,$FH$3*FQ23,"wrong size")) -> wrong size | FX23: =SUM(FU23:FW23) -> 0 | FY23: =IF(FK23=40,FX23*2,IF(FK23=20,FX23)) -> FALSE | GF23: =L29 -> 0 | GG23: =S29 -> 0 | GH23: =GF23+GG23 -> 0 | GI23: =GH23 -> 0 | GJ23: =D29 -> 0 | GK23: =GJ23-GI23+1 -> 1 | GL23: =H29 -> 0 | GM23: =IF(GK23<7,GK23,7) -> 1 | GN23: =IF(GK23>14,7,GK23-7) -> -6 | GO23: =IF(GK23>21,7,GK23-14) -> -13 | GP23: =GK23-21 -> -20 | GQ23: =IF(GM23>0,GM23,0) -> 1 | GR23: =IF(GN23>0,GN23,0) -> 0 | GS23: =IF(GO23>0,GO23,0) -> 0 | GT23: =IF(GP23>0,GP23,0) -> 0 | GU23: 75 | GV23: 106 | GW23: 144 | GX23: 144 | GY23: =GQ23*GU23 -> 75 | GZ23: =GR23*GV23 -> 0 | HA23: =GS23*GW23 -> 0 | HB23: =GT23*GX23 -> 0 | HC23: =SUM(GY23:HB23) -> 75 | HD23: =IF(GL23=40,HC23*2,IF(GL23=20,HC23)) -> FALSE | HM23: |* | HO23: | | HP23: =IF(HS23="D",0,1) -> 1 | HQ23: | | HS23: =T(D23:D23) | HU23: | | HV23: =(+F28-D28-1)*3 -> -3 | HW23: | | HX23: =IF(E28<TIME(7,0,0),4,IF(AND(E28>=TIME(7,0,0),+E28<TIME(15,0,0)),3,IF(AND(E28>=TIME(15,0,0),+E28<TIME(23,0,0)),2,1))) -> 4 | HY23: | | HZ23: =IF(G28<=TIME(7,0,0),0,IF(AND(G28>TIME(7,0,0),+G28<=TIME(15,0,0)),1,IF(AND(G28>TIME(15,0,0),+G28<=TIME(23,0,0)),2,3))) -> 0 | IA23: | | IJ23: | | IK23: =DATE(97,2,28) -> 35489 | IL23: |
B24: =' Calculator'!B16 -> 0 | D24: =' Calculator'!D16 -> 0 | E24: =' Calculator'!E16 -> 0 | F24: =' Calculator'!F16 -> 0 | G24: =' Calculator'!G16 -> 0 | H24: =' Calculator'!C16 -> 0 | J24: =IF(HP19=0,0,+HV19+HX19+HZ19) -> 1 | K24: =(F24-D24)+1 -> 1 | M24: =IF(H24<>40,$GZ$2*J24,(($HA$2*1)*J24))*1 -> 18.35 | N24: =IF(H24=20,U24,V24) -> 23.87 | O24: =HD18 -> FALSE | P24: =B24 -> 0 | U24: =IF(K24<10,K24*11.88,IF(K24<16,(10*11.88)+(K24-10)*15.77,((10*11.88)+(5*15.77)+(K24-15)*23.87))) -> 11.88 | V24: =IF(K24<10,K24*23.87,IF(K24<16,(10*23.87)+(K24-10)*31.75,((10*23.87)+(5*31.75)+(K24-15)*47.52))) -> 23.87 | FE24: =D30 -> 0 | FF24: 0 | FG24: =FE24+FF24 -> 0 | FH24: =FG24 -> 0 | FI24: =F30 -> 0 | FJ24: =FI24-FH24 -> 0 | FK24: =H30 -> 0 | FL24: =IF(FJ24<7,FJ24,10) -> 0 | FM24: =IF(FJ24>15,5,FJ24-10) -> -10 | FN24: =FJ24-15 -> -15 | FO24: =IF(FL24>0,FL24,0) -> 0 | FP24: =IF(FM24>0,FM24,0) -> 0 | FQ24: =IF(FN24>0,FN24,0) -> 0 | FR24: 11.25 | FS24: 15 | FT24: 22.5 | FU24: =IF(FK24=20,$FF$2*FO24,IF(FK24=40,$FF$3*FO24,"wrong size")) -> wrong size | FV24: =IF(FK24=20,$FG$2*FP24,IF(FK24=40,$FG$3*FP24,"wrong size")) -> wrong size | FW24: =IF(FK24=20,$FH$2*FQ24,IF(FK24=40,$FH$3*FQ24,"wrong size")) -> wrong size | FX24: =SUM(FU24:FW24) -> 0 | FY24: =IF(FK24=40,FX24*2,IF(FK24=20,FX24)) -> FALSE | GF24: =L30 -> 0 | GG24: =S30 -> 0 | GH24: =GF24+GG24 -> 0 | GI24: =GH24 -> 0 | GJ24: =D30 -> 0 | GK24: =GJ24-GI24+1 -> 1 | GL24: =H30 -> 0 | GM24: =IF(GK24<7,GK24,7) -> 1 | GN24: =IF(GK24>14,7,GK24-7) -> -6 | GO24: =IF(GK24>21,7,GK24-14) -> -13 | GP24: =GK24-21 -> -20 | GQ24: =IF(GM24>0,GM24,0) -> 1 | GR24: =IF(GN24>0,GN24,0) -> 0 | GS24: =IF(GO24>0,GO24,0) -> 0 | GT24: =IF(GP24>0,GP24,0) -> 0 | GU24: 75 | GV24: 106 | GW24: 144 | GX24: 144 | GY24: =GQ24*GU24 -> 75 | GZ24: =GR24*GV24 -> 0 | HA24: =GS24*GW24 -> 0 | HB24: =GT24*GX24 -> 0 | HC24: =SUM(GY24:HB24) -> 75 | HD24: =IF(GL24=40,HC24*2,IF(GL24=20,HC24)) -> FALSE | HM24: |* | HO24: | | HP24: =IF(HS24="D",0,1) -> 1 | HQ24: | | HS24: =T(D24:D24) | HU24: | | HV24: =(+F29-D29-1)*3 -> -3 | HW24: | | HX24: =IF(E29<TIME(7,0,0),4,IF(AND(E29>=TIME(7,0,0),+E29<TIME(15,0,0)),3,IF(AND(E29>=TIME(15,0,0),+E29<TIME(23,0,0)),2,1))) -> 4 | HY24: | | HZ24: =IF(G29<=TIME(7,0,0),0,IF(AND(G29>TIME(7,0,0),+G29<=TIME(15,0,0)),1,IF(AND(G29>TIME(15,0,0),+G29<=TIME(23,0,0)),2,3))) -> 0 | IA24: | | IJ24: | | IK24: =DATE(97,2,28) -> 35489 | IL24: |
B25: =' Calculator'!B17 -> 0 | D25: =' Calculator'!D17 -> 0 | E25: =' Calculator'!E17 -> 0 | F25: =' Calculator'!F17 -> 0 | G25: =' Calculator'!G17 -> 0 | H25: =' Calculator'!C17 -> 0 | J25: =IF(HP20=0,0,+HV20+HX20+HZ20) -> 1 | K25: =(F25-D25)+1 -> 1 | M25: =IF(H25<>40,$GZ$2*J25,(($HA$2*1)*J25))*1 -> 18.35 | N25: =IF(H25=20,U25,V25) -> 23.87 | O25: =HD19 -> FALSE | P25: =B25 -> 0 | U25: =IF(K25<10,K25*11.88,IF(K25<16,(10*11.88)+(K25-10)*15.77,((10*11.88)+(5*15.77)+(K25-15)*23.87))) -> 11.88 | V25: =IF(K25<10,K25*23.87,IF(K25<16,(10*23.87)+(K25-10)*31.75,((10*23.87)+(5*31.75)+(K25-15)*47.52))) -> 23.87 | FE25: =D31 -> 0 | FF25: 0 | FG25: =FE25+FF25 -> 0 | FH25: =FG25 -> 0 | FI25: =F31 -> 0 | FJ25: =FI25-FH25 -> 0 | FK25: =H31 -> 0 | FL25: =IF(FJ25<7,FJ25,10) -> 0 | FM25: =IF(FJ25>15,5,FJ25-10) -> -10 | FN25: =FJ25-15 -> -15 | FO25: =IF(FL25>0,FL25,0) -> 0 | FP25: =IF(FM25>0,FM25,0) -> 0 | FQ25: =IF(FN25>0,FN25,0) -> 0 | FR25: 11.25 | FS25: 15 | FT25: 22.5 | FU25: =IF(FK25=20,$FF$2*FO25,IF(FK25=40,$FF$3*FO25,"wrong size")) -> wrong size | FV25: =IF(FK25=20,$FG$2*FP25,IF(FK25=40,$FG$3*FP25,"wrong size")) -> wrong size | FW25: =IF(FK25=20,$FH$2*FQ25,IF(FK25=40,$FH$3*FQ25,"wrong size")) -> wrong size | FX25: =SUM(FU25:FW25) -> 0 | FY25: =IF(FK25=40,FX25*2,IF(FK25=20,FX25)) -> FALSE | GF25: =L31 -> 0 | GG25: =S31 -> 0 | GH25: =GF25+GG25 -> 0 | GI25: =GH25 -> 0 | GJ25: =D31 -> 0 | GK25: =GJ25-GI25+1 -> 1 | GL25: =H31 -> 0 | GM25: =IF(GK25<7,GK25,7) -> 1 | GN25: =IF(GK25>14,7,GK25-7) -> -6 | GO25: =IF(GK25>21,7,GK25-14) -> -13 | GP25: =GK25-21 -> -20 | GQ25: =IF(GM25>0,GM25,0) -> 1 | GR25: =IF(GN25>0,GN25,0) -> 0 | GS25: =IF(GO25>0,GO25,0) -> 0 | GT25: =IF(GP25>0,GP25,0) -> 0 | GU25: 75 | GV25: 106 | GW25: 144 | GX25: 144 | GY25: =GQ25*GU25 -> 75 | GZ25: =GR25*GV25 -> 0 | HA25: =GS25*GW25 -> 0 | HB25: =GT25*GX25 -> 0 | HC25: =SUM(GY25:HB25) -> 75 | HD25: =IF(GL25=40,HC25*2,IF(GL25=20,HC25)) -> FALSE | HM25: |* | HO25: | | HP25: =IF(HS25="D",0,1) -> 1 | HQ25: | | HS25: =T(D25:D25) | HU25: | | HV25: =(+F30-D30-1)*3 -> -3 | HW25: | | HX25: =IF(E30<TIME(7,0,0),4,IF(AND(E30>=TIME(7,0,0),+E30<TIME(15,0,0)),3,IF(AND(E30>=TIME(15,0,0),+E30<TIME(23,0,0)),2,1))) -> 4 | HY25: | | HZ25: =IF(G30<=TIME(7,0,0),0,IF(AND(G30>TIME(7,0,0),+G30<=TIME(15,0,0)),1,IF(AND(G30>TIME(15,0,0),+G30<=TIME(23,0,0)),2,3))) -> 0 | IA25: | | IJ25: | | IK25: =DATE(97,2,28) -> 35489 | IL25: |
B26: =' Calculator'!B18 -> 0 | D26: =' Calculator'!D18 -> 0 | E26: =' Calculator'!E18 -> 0 | F26: =' Calculator'!F18 -> 0 | G26: =' Calculator'!G18 -> 0 | H26: =' Calculator'!C18 -> 0 | J26: =IF(HP21=0,0,+HV21+HX21+HZ21) -> 1 | K26: =(F26-D26)+1 -> 1 | M26: =IF(H26<>40,$GZ$2*J26,(($HA$2*1)*J26))*1 -> 18.35 | N26: =IF(H26=20,U26,V26) -> 23.87 | O26: =HD20 -> FALSE | P26: =B26 -> 0 | U26: =IF(K26<10,K26*11.88,IF(K26<16,(10*11.88)+(K26-10)*15.77,((10*11.88)+(5*15.77)+(K26-15)*23.87))) -> 11.88 | V26: =IF(K26<10,K26*23.87,IF(K26<16,(10*23.87)+(K26-10)*31.75,((10*23.87)+(5*31.75)+(K26-15)*47.52))) -> 23.87 | FE26: =D32 -> 0 | FF26: 0 | FG26: =FE26+FF26 -> 0 | FH26: =FG26 -> 0 | FI26: =F32 -> 0 | FJ26: =FI26-FH26 -> 0 | FK26: =H32 -> 0 | FL26: =IF(FJ26<7,FJ26,10) -> 0 | FM26: =IF(FJ26>15,5,FJ26-10) -> -10 | FN26: =FJ26-15 -> -15 | FO26: =IF(FL26>0,FL26,0) -> 0 | FP26: =IF(FM26>0,FM26,0) -> 0 | FQ26: =IF(FN26>0,FN26,0) -> 0 | FR26: 11.25 | FS26: 15 | FT26: 22.5 | FU26: =IF(FK26=20,$FF$2*FO26,IF(FK26=40,$FF$3*FO26,"wrong size")) -> wrong size | FV26: =IF(FK26=20,$FG$2*FP26,IF(FK26=40,$FG$3*FP26,"wrong size")) -> wrong size | FW26: =IF(FK26=20,$FH$2*FQ26,IF(FK26=40,$FH$3*FQ26,"wrong size")) -> wrong size | FX26: =SUM(FU26:FW26) -> 0 | FY26: =IF(FK26=40,FX26*2,IF(FK26=20,FX26)) -> FALSE | GF26: =L32 -> 0 | GG26: =S32 -> 0 | GH26: =GF26+GG26 -> 0 | GI26: =GH26 -> 0 | GJ26: =D32 -> 0 | GK26: =GJ26-GI26+1 -> 1 | GL26: =H32 -> 0 | GM26: =IF(GK26<7,GK26,7) -> 1 | GN26: =IF(GK26>14,7,GK26-7) -> -6 | GO26: =IF(GK26>21,7,GK26-14) -> -13 | GP26: =GK26-21 -> -20 | GQ26: =IF(GM26>0,GM26,0) -> 1 | GR26: =IF(GN26>0,GN26,0) -> 0 | GS26: =IF(GO26>0,GO26,0) -> 0 | GT26: =IF(GP26>0,GP26,0) -> 0 | GU26: 75 | GV26: 106 | GW26: 144 | GX26: 144 | GY26: =GQ26*GU26 -> 75 | GZ26: =GR26*GV26 -> 0 | HA26: =GS26*GW26 -> 0 | HB26: =GT26*GX26 -> 0 | HC26: =SUM(GY26:HB26) -> 75 | HD26: =IF(GL26=40,HC26*2,IF(GL26=20,HC26)) -> FALSE | HM26: |* | HO26: | | HP26: =IF(HS26="D",0,1) -> 1 | HQ26: | | HS26: =T(D26:D26) | HU26: | | HV26: =(+F31-D31-1)*3 -> -3 | HW26: | | HX26: =IF(E31<TIME(7,0,0),4,IF(AND(E31>=TIME(7,0,0),+E31<TIME(15,0,0)),3,IF(AND(E31>=TIME(15,0,0),+E31<TIME(23,0,0)),2,1))) -> 4 | HY26: | | HZ26: =IF(G31<=TIME(7,0,0),0,IF(AND(G31>TIME(7,0,0),+G31<=TIME(15,0,0)),1,IF(AND(G31>TIME(15,0,0),+G31<=TIME(23,0,0)),2,3))) -> 0 | IA26: | | IJ26: | | IK26: =DATE(97,2,28) -> 35489 | IL26: |
B27: =' Calculator'!B19 -> 0 | D27: =' Calculator'!D19 -> 0 | E27: =' Calculator'!E19 -> 0 | F27: =' Calculator'!F19 -> 0 | G27: =' Calculator'!G19 -> 0 | H27: =' Calculator'!C19 -> 0 | J27: =IF(HP22=0,0,+HV22+HX22+HZ22) -> 1 | K27: =(F27-D27)+1 -> 1 | M27: =IF(H27<>40,$GZ$2*J27,(($HA$2*1)*J27))*1 -> 18.35 | N27: =IF(H27=20,U27,V27) -> 23.87 | O27: =HD21 -> FALSE | P27: =B27 -> 0 | U27: =IF(K27<10,K27*11.88,IF(K27<16,(10*11.88)+(K27-10)*15.77,((10*11.88)+(5*15.77)+(K27-15)*23.87))) -> 11.88 | V27: =IF(K27<10,K27*23.87,IF(K27<16,(10*23.87)+(K27-10)*31.75,((10*23.87)+(5*31.75)+(K27-15)*47.52))) -> 23.87 | FE27: =D33 -> 0 | FF27: 0 | FG27: =FE27+FF27 -> 0 | FH27: =FG27 -> 0 | FI27: =F33 -> 0 | FJ27: =FI27-FH27 -> 0 | FK27: =H33 -> 0 | FL27: =IF(FJ27<7,FJ27,10) -> 0 | FM27: =IF(FJ27>15,5,FJ27-10) -> -10 | FN27: =FJ27-15 -> -15 | FO27: =IF(FL27>0,FL27,0) -> 0 | FP27: =IF(FM27>0,FM27,0) -> 0 | FQ27: =IF(FN27>0,FN27,0) -> 0 | FR27: 11.25 | FS27: 15 | FT27: 22.5 | FU27: =IF(FK27=20,$FF$2*FO27,IF(FK27=40,$FF$3*FO27,"wrong size")) -> wrong size | FV27: =IF(FK27=20,$FG$2*FP27,IF(FK27=40,$FG$3*FP27,"wrong size")) -> wrong size | FW27: =IF(FK27=20,$FH$2*FQ27,IF(FK27=40,$FH$3*FQ27,"wrong size")) -> wrong size | FX27: =SUM(FU27:FW27) -> 0 | FY27: =IF(FK27=40,FX27*2,IF(FK27=20,FX27)) -> FALSE | GF27: =L33 -> 0 | GG27: =S33 -> 0 | GH27: =GF27+GG27 -> 0 | GI27: =GH27 -> 0 | GJ27: =D33 -> 0 | GK27: =GJ27-GI27+1 -> 1 | GL27: =H33 -> 0 | GM27: =IF(GK27<7,GK27,7) -> 1 | GN27: =IF(GK27>14,7,GK27-7) -> -6 | GO27: =IF(GK27>21,7,GK27-14) -> -13 | GP27: =GK27-21 -> -20 | GQ27: =IF(GM27>0,GM27,0) -> 1 | GR27: =IF(GN27>0,GN27,0) -> 0 | GS27: =IF(GO27>0,GO27,0) -> 0 | GT27: =IF(GP27>0,GP27,0) -> 0 | GU27: 75 | GV27: 106 | GW27: 144 | GX27: 144 | GY27: =GQ27*GU27 -> 75 | GZ27: =GR27*GV27 -> 0 | HA27: =GS27*GW27 -> 0 | HB27: =GT27*GX27 -> 0 | HC27: =SUM(GY27:HB27) -> 75 | HD27: =IF(GL27=40,HC27*2,IF(GL27=20,HC27)) -> FALSE | HM27: |* | HO27: | | HP27: =IF(HS27="D",0,1) -> 1 | HQ27: | | HS27: =T(D27:D27) | HU27: | | HV27: =(+F32-D32-1)*3 -> -3 | HW27: | | HX27: =IF(E32<TIME(7,0,0),4,IF(AND(E32>=TIME(7,0,0),+E32<TIME(15,0,0)),3,IF(AND(E32>=TIME(15,0,0),+E32<TIME(23,0,0)),2,1))) -> 4 | HY27: | | HZ27: =IF(G32<=TIME(7,0,0),0,IF(AND(G32>TIME(7,0,0),+G32<=TIME(15,0,0)),1,IF(AND(G32>TIME(15,0,0),+G32<=TIME(23,0,0)),2,3))) -> 0 | IA27: | | IJ27: | | IK27: =DATE(97,2,28) -> 35489 | IL27: |
B28: =' Calculator'!B20 -> 0 | D28: =' Calculator'!D20 -> 0 | E28: =' Calculator'!E20 -> 0 | F28: =' Calculator'!F20 -> 0 | G28: =' Calculator'!G20 -> 0 | H28: =' Calculator'!C20 -> 0 | J28: =IF(HP23=0,0,+HV23+HX23+HZ23) -> 1 | K28: =(F28-D28)+1 -> 1 | M28: =IF(H28<>40,$GZ$2*J28,(($HA$2*1)*J28))*1 -> 18.35 | N28: =IF(H28=20,U28,V28) -> 23.87 | O28: =HD22 -> FALSE | P28: =B28 -> 0 | U28: =IF(K28<10,K28*11.88,IF(K28<16,(10*11.88)+(K28-10)*15.77,((10*11.88)+(5*15.77)+(K28-15)*23.87))) -> 11.88 | V28: =IF(K28<10,K28*23.87,IF(K28<16,(10*23.87)+(K28-10)*31.75,((10*23.87)+(5*31.75)+(K28-15)*47.52))) -> 23.87 | FE28: =D34 -> 0 | FF28: 0 | FG28: =FE28+FF28 -> 0 | FH28: =FG28 -> 0 | FI28: =F34 -> 0 | FJ28: =FI28-FH28 -> 0 | FK28: =H34 -> 0 | FL28: =IF(FJ28<7,FJ28,10) -> 0 | FM28: =IF(FJ28>15,5,FJ28-10) -> -10 | FN28: =FJ28-15 -> -15 | FO28: =IF(FL28>0,FL28,0) -> 0 | FP28: =IF(FM28>0,FM28,0) -> 0 | FQ28: =IF(FN28>0,FN28,0) -> 0 | FR28: 11.25 | FS28: 15 | FT28: 22.5 | FU28: =IF(FK28=20,$FF$2*FO28,IF(FK28=40,$FF$3*FO28,"wrong size")) -> wrong size | FV28: =IF(FK28=20,$FG$2*FP28,IF(FK28=40,$FG$3*FP28,"wrong size")) -> wrong size | FW28: =IF(FK28=20,$FH$2*FQ28,IF(FK28=40,$FH$3*FQ28,"wrong size")) -> wrong size | FX28: =SUM(FU28:FW28) -> 0 | FY28: =IF(FK28=40,FX28*2,IF(FK28=20,FX28)) -> FALSE | GF28: =L34 -> 0 | GG28: =S34 -> 0 | GH28: =GF28+GG28 -> 0 | GI28: =GH28 -> 0 | GJ28: =D34 -> 0 | GK28: =GJ28-GI28+1 -> 1 | GL28: =H34 -> 0 | GM28: =IF(GK28<7,GK28,7) -> 1 | GN28: =IF(GK28>14,7,GK28-7) -> -6 | GO28: =IF(GK28>21,7,GK28-14) -> -13 | GP28: =GK28-21 -> -20 | GQ28: =IF(GM28>0,GM28,0) -> 1 | GR28: =IF(GN28>0,GN28,0) -> 0 | GS28: =IF(GO28>0,GO28,0) -> 0 | GT28: =IF(GP28>0,GP28,0) -> 0 | GU28: 75 | GV28: 106 | GW28: 144 | GX28: 144 | GY28: =GQ28*GU28 -> 75 | GZ28: =GR28*GV28 -> 0 | HA28: =GS28*GW28 -> 0 | HB28: =GT28*GX28 -> 0 | HC28: =SUM(GY28:HB28) -> 75 | HD28: =IF(GL28=40,HC28*2,IF(GL28=20,HC28)) -> FALSE | HM28: |* | HO28: | | HP28: =IF(HS28="D",0,1) -> 1 | HQ28: | | HS28: =T(D28:D28) | HU28: | | HV28: =(+F33-D33-1)*3 -> -3 | HW28: | | HX28: =IF(E33<TIME(7,0,0),4,IF(AND(E33>=TIME(7,0,0),+E33<TIME(15,0,0)),3,IF(AND(E33>=TIME(15,0,0),+E33<TIME(23,0,0)),2,1))) -> 4 | HY28: | | HZ28: =IF(G33<=TIME(7,0,0),0,IF(AND(G33>TIME(7,0,0),+G33<=TIME(15,0,0)),1,IF(AND(G33>TIME(15,0,0),+G33<=TIME(23,0,0)),2,3))) -> 0 | IA28: | | IJ28: | | IK28: =DATE(97,2,28) -> 35489 | IL28: |
B29: =' Calculator'!B21 -> 0 | D29: =' Calculator'!D21 -> 0 | E29: =' Calculator'!E21 -> 0 | F29: =' Calculator'!F21 -> 0 | G29: =' Calculator'!G21 -> 0 | H29: =' Calculator'!C21 -> 0 | J29: =IF(HP24=0,0,+HV24+HX24+HZ24) -> 1 | K29: =(F29-D29)+1 -> 1 | M29: =IF(H29<>40,$GZ$2*J29,(($HA$2*1)*J29))*1 -> 18.35 | N29: =IF(H29=20,U29,V29) -> 23.87 | O29: =HD23 -> FALSE | P29: =B29 -> 0 | U29: =IF(K29<10,K29*11.88,IF(K29<16,(10*11.88)+(K29-10)*15.77,((10*11.88)+(5*15.77)+(K29-15)*23.87))) -> 11.88 | V29: =IF(K29<10,K29*23.87,IF(K29<16,(10*23.87)+(K29-10)*31.75,((10*23.87)+(5*31.75)+(K29-15)*47.52))) -> 23.87 | FE29: =D35 -> 0 | FF29: 0 | FG29: =FE29+FF29 -> 0 | FH29: =FG29 -> 0 | FI29: =F35 -> 0 | FJ29: =FI29-FH29 -> 0 | FK29: =H35 -> 0 | FL29: =IF(FJ29<7,FJ29,10) -> 0 | FM29: =IF(FJ29>15,5,FJ29-10) -> -10 | FN29: =FJ29-15 -> -15 | FO29: =IF(FL29>0,FL29,0) -> 0 | FP29: =IF(FM29>0,FM29,0) -> 0 | FQ29: =IF(FN29>0,FN29,0) -> 0 | FR29: 11.25 | FS29: 15 | FT29: 22.5 | FU29: =IF(FK29=20,$FF$2*FO29,IF(FK29=40,$FF$3*FO29,"wrong size")) -> wrong size | FV29: =IF(FK29=20,$FG$2*FP29,IF(FK29=40,$FG$3*FP29,"wrong size")) -> wrong size | FW29: =IF(FK29=20,$FH$2*FQ29,IF(FK29=40,$FH$3*FQ29,"wrong size")) -> wrong size | FX29: =SUM(FU29:FW29) -> 0 | FY29: =IF(FK29=40,FX29*2,IF(FK29=20,FX29)) -> FALSE | GF29: =L35 -> 0 | GG29: =S35 -> 0 | GH29: =GF29+GG29 -> 0 | GI29: =GH29 -> 0 | GJ29: =D35 -> 0 | GK29: =GJ29-GI29+1 -> 1 | GL29: =H35 -> 0 | GM29: =IF(GK29<7,GK29,7) -> 1 | GN29: =IF(GK29>14,7,GK29-7) -> -6 | GO29: =IF(GK29>21,7,GK29-14) -> -13 | GP29: =GK29-21 -> -20 | GQ29: =IF(GM29>0,GM29,0) -> 1 | GR29: =IF(GN29>0,GN29,0) -> 0 | GS29: =IF(GO29>0,GO29,0) -> 0 | GT29: =IF(GP29>0,GP29,0) -> 0 | GU29: 75 | GV29: 106 | GW29: 144 | GX29: 144 | GY29: =GQ29*GU29 -> 75 | GZ29: =GR29*GV29 -> 0 | HA29: =GS29*GW29 -> 0 | HB29: =GT29*GX29 -> 0 | HC29: =SUM(GY29:HB29) -> 75 | HD29: =IF(GL29=40,HC29*2,IF(GL29=20,HC29)) -> FALSE | HM29: |* | HO29: | | HP29: =IF(HS29="D",0,1) -> 1 | HQ29: | | HS29: =T(D29:D29) | HU29: | | HV29: =(+F34-D34-1)*3 -> -3 | HW29: | | HX29: =IF(E34<TIME(7,0,0),4,IF(AND(E34>=TIME(7,0,0),+E34<TIME(15,0,0)),3,IF(AND(E34>=TIME(15,0,0),+E34<TIME(23,0,0)),2,1))) -> 4 | HY29: | | HZ29: =IF(G34<=TIME(7,0,0),0,IF(AND(G34>TIME(7,0,0),+G34<=TIME(15,0,0)),1,IF(AND(G34>TIME(15,0,0),+G34<=TIME(23,0,0)),2,3))) -> 0 | IA29: | | IJ29: | | IK29: =DATE(97,2,28) -> 35489 | IL29: |
J30: =IF(HP25=0,0,+HV25+HX25+HZ25) -> 1 | K30: =(F30-D30)+1 -> 1 | M30: =IF(H30<>40,$GZ$2*J30,(($HA$2*1)*J30))*1 -> 18.35 | N30: =IF(H30=20,U30,V30) -> 23.87 | O30: =HD24 -> FALSE | P30: =B30 -> 0 | U30: =IF(K30<10,K30*11.88,IF(K30<16,(10*11.88)+(K30-10)*15.77,((10*11.88)+(5*15.77)+(K30-15)*23.87))) -> 11.88 | V30: =IF(K30<10,K30*23.87,IF(K30<16,(10*23.87)+(K30-10)*31.75,((10*23.87)+(5*31.75)+(K30-15)*47.52))) -> 23.87 | FE30: =D36 -> 0 | FF30: 0 | FG30: =FE30+FF30 -> 0 | FH30: =FG30 -> 0 | FI30: =F36 -> 0 | FJ30: =FI30-FH30 -> 0 | FK30: =H36 -> 0 | FL30: =IF(FJ30<7,FJ30,10) -> 0 | FM30: =IF(FJ30>15,5,FJ30-10) -> -10 | FN30: =FJ30-15 -> -15 | FO30: =IF(FL30>0,FL30,0) -> 0 | FP30: =IF(FM30>0,FM30,0) -> 0 | FQ30: =IF(FN30>0,FN30,0) -> 0 | FR30: 11.25 | FS30: 15 | FT30: 22.5 | FU30: =IF(FK30=20,$FF$2*FO30,IF(FK30=40,$FF$3*FO30,"wrong size")) -> wrong size | FV30: =IF(FK30=20,$FG$2*FP30,IF(FK30=40,$FG$3*FP30,"wrong size")) -> wrong size | FW30: =IF(FK30=20,$FH$2*FQ30,IF(FK30=40,$FH$3*FQ30,"wrong size")) -> wrong size | FX30: =SUM(FU30:FW30) -> 0 | FY30: =IF(FK30=40,FX30*2,IF(FK30=20,FX30)) -> FALSE | GF30: =L36 -> 0 | GG30: =S36 -> 0 | GH30: =GF30+GG30 -> 0 | GI30: =GH30 -> 0 | GJ30: =D36 -> 0 | GK30: =GJ30-GI30+1 -> 1 | GL30: =H36 -> 0 | GM30: =IF(GK30<7,GK30,7) -> 1 | GN30: =IF(GK30>14,7,GK30-7) -> -6 | GO30: =IF(GK30>21,7,GK30-14) -> -13 | GP30: =GK30-21 -> -20 | GQ30: =IF(GM30>0,GM30,0) -> 1 | GR30: =IF(GN30>0,GN30,0) -> 0 | GS30: =IF(GO30>0,GO30,0) -> 0 | GT30: =IF(GP30>0,GP30,0) -> 0 | GU30: 75 | GV30: 106 | GW30: 144 | GX30: 144 | GY30: =GQ30*GU30 -> 75 | GZ30: =GR30*GV30 -> 0 | HA30: =GS30*GW30 -> 0 | HB30: =GT30*GX30 -> 0 | HC30: =SUM(GY30:HB30) -> 75 | HD30: =IF(GL30=40,HC30*2,IF(GL30=20,HC30)) -> FALSE | HM30: |* | HO30: | | HP30: =IF(HS30="D",0,1) -> 1 | HQ30: | | HS30: =T(D30:D30) | HU30: | | HV30: =(+F35-D35-1)*3 -> -3 | HW30: | | HX30: =IF(E35<TIME(7,0,0),4,IF(AND(E35>=TIME(7,0,0),+E35<TIME(15,0,0)),3,IF(AND(E35>=TIME(15,0,0),+E35<TIME(23,0,0)),2,1))) -> 4 | HY30: | | HZ30: =IF(G35<=TIME(7,0,0),0,IF(AND(G35>TIME(7,0,0),+G35<=TIME(15,0,0)),1,IF(AND(G35>TIME(15,0,0),+G35<=TIME(23,0,0)),2,3))) -> 0 | IA30: | | IJ30: | | IK30: =DATE(97,2,28) -> 35489 | IL30: |
